BEGIN:VCALENDAR
VERSION:2.0
PRODID:-//უნივერსიტეტის ღონისძიებების პორტალი - ECPv6.2.8.2//NONSGML v1.0//EN
CALSCALE:GREGORIAN
METHOD:PUBLISH
X-WR-CALNAME:უნივერსიტეტის ღონისძიებების პორტალი
X-ORIGINAL-URL:https://events.iliauni.edu.ge
X-WR-CALDESC:Events for უნივერსიტეტის ღონისძიებების პორტალი
REFRESH-INTERVAL;VALUE=DURATION:PT1H
X-Robots-Tag:noindex
X-PUBLISHED-TTL:PT1H
BEGIN:VTIMEZONE
TZID:Asia/Dubai
BEGIN:STANDARD
TZOFFSETFROM:+0400
TZOFFSETTO:+0400
TZNAME:+04
DTSTART:20230101T000000
END:STANDARD
END:VTIMEZONE
BEGIN:VEVENT
DTSTART;TZID=Asia/Dubai:20230703T103000
DTEND;TZID=Asia/Dubai:20230703T103000
DTSTAMP:20260422T114817
CREATED:20230622T111312Z
LAST-MODIFIED:20240201T111537Z
UID:10000030-1688380200-1688380200@events.iliauni.edu.ge
SUMMARY:კურსდამთავრებულთა კლუბის დაარსება და განათლების სკოლის პროგრამების სამაგისტრო ნაშრომების საჯარო დაცვა
DESCRIPTION:3 ივლისს\, 10:30 საათზე\, ილიას სახელმწიფო უნივერსიტეტის ტექნოლოგიების კორპუსის 102 საკონფერენციო დარბაზში გაიმართება ბიზნესის\, ტექნოლოგიისა და განათლების ფაკულტეტის განათლების სკოლის პროგრამების სამაგისტრო ნაშრომების საჯარო დაცვა და კურსდამთავრებულთა კლუბის დაარსების ღონისძიება. \nსამუშაო ენა: ქართული \nდრო: 3 ივლისი\, 10:30 საათი \nადგილმდებარეობა: ილიას სახელმწიფო უნივერსიტეტის T102 საკონფერენციო დარბაზი\, ქ. ჩოლოყაშვილის გამზ. N3/5 \nდასწრება თავისუფალია \n2023 \n\n[wpai_display_imported_files_here]
URL:https://events.iliauni.edu.ge/event/kursdamthavrebultha-klubis-daarseba-da-ganathlebis-skolis-programebis-samagistro-nashromebis-sajaro-datsva/
CATEGORIES:ღონისძიებები
ATTACH;FMTTYPE=image/png:https://events.iliauni.edu.ge/wp-content/uploads/2023/06/77426.png
END:VEVENT
BEGIN:VEVENT
DTSTART;TZID=Asia/Dubai:20230705T120000
DTEND;TZID=Asia/Dubai:20230705T120000
DTSTAMP:20260422T114817
CREATED:20230626T083449Z
LAST-MODIFIED:20240201T111729Z
UID:10000035-1688558400-1688558400@events.iliauni.edu.ge
SUMMARY:დოქტორანტ სალომე მჭედლიძის სადოქტორო ნაშრომის დაცვა
DESCRIPTION:5 ივლისს\, 12:00 საათზე\, ილიას სახელმწიფო უნივერსიტეტის G106 აუდიტორიაში გაიმართება ილიას სახელმწიფო უნივერსიტეტისა და გეორგ-აუგუსტის გოტინგენის უნივერსიტეტის (გერმანია) ერთობლივი ტრანსდისციპლინური საერთაშორისო სადოქტორო პროგრამის კარლ ფრიდრიხ ლემან-ჰაუპტის საერთაშორისო სადოქტორო პროგრამის დოქტორანტ სალომე მჭედლიძის სადოქტორო ნაშრომის \,\,პირველადი მაგნიტური ველები: ევოლუცია და დაკვირვებითი ანაბეჭდები” (“Primordial Magnetic Fields: Evolution and Signatures”) დაცვა. \nსამეცნიერო ხელმძღვანელები: გეორგ-აუგუსტის სახელობის გოტინგენის უნივერსიტეტიდან  პროფესორი იენს ნიმაიერი. \nილიას სახელმწიფო უნივერსიტეტიდან პროფესორი თინათინ კახნიაშვილი. \nსამუშაო ენა: ინგლისური \nდრო: 5 ივლისი\, 12:00 საათი \nადგილმდებარეობა: ილიას სახელმწიფო უნივერსიტეტის G კორპუსი\, აუდიტორია 106\, გ. წერეთლის ქ. N1 \nდასწრება თავისუფალია. \n2023 წელი \n  \n\n[wpai_display_imported_files_here]
URL:https://events.iliauni.edu.ge/event/doqtorant-salome-mtchedlidzis-sadoqtoro-nashromis-datsva/
CATEGORIES:ღონისძიებები
ATTACH;FMTTYPE=image/png:https://events.iliauni.edu.ge/wp-content/uploads/2023/06/78810.png
END:VEVENT
BEGIN:VEVENT
DTSTART;TZID=Asia/Dubai:20230707T120000
DTEND;TZID=Asia/Dubai:20230707T120000
DTSTAMP:20260422T114817
CREATED:20230706T055821Z
LAST-MODIFIED:20240201T111703Z
UID:10000033-1688731200-1688731200@events.iliauni.edu.ge
SUMMARY:IT დასაქმების ფორუმი ილიაუნის სტუდენტებისა და კურსდამთავრებულებისთვის
DESCRIPTION:ილიას სახელმწიფო უნივერსიტეტის ტექნოლოგიების სკოლის ორგანიზებით USAID-ის ეკონომიკური უსაფრთხოების პროგრამის „Training for Life (T4L) Industry-Led Workforce Development” მხარდაჭერით მიმდინარე პროექტის Advanced IT Trainings-ის ფარგლებში 7 ივლისს 12:00 საათიდან IT დასაქმების ფორუმი გაიმართება \nფორუმი სტუდენტებსა და კურსდამთავრებულებს საშუალებას მისცემს შეხვდნენ IT კომპანიების წარმომადგენლებს\, გაიგონ მათი სერვისების\, შეთავაზებების შესახებ\, გაეცნონ სტაჟირებისა და დასაქმების შესაძლებლობებს. \nფორუმზე მონაწილეობას მიიღებენ როგორც ტექნოლოგიის სკოლის საბაკალავრო და სამაგისტრო პროგრამების კურსდამთავრებულები და სტუდენტები\, ასევე USAID-ის ეკონომიკური უსაფრთხოების პროგრამის „Training for Life (T4L) Industry-Led Workforce Development” ფარგლებში განხორციელებული ტრენინგების Advanced IT Trainings კურსდამთავრებულები. \nდასაქმების ფორუმზე წარმოდგენილი იქნება Advanced IT Trainings-ის DevOps კურსის პროექტების პრეზენტაცია\, კომპიუტერული ინჟინერიის სტუდენტების ფინალური პროექტები\, მოეწყობა მათ მიერ შესულებული საინჟინრო და ტექნოლოგიური პროტოტიპების დემონსტრაცია. \nკომპანიებისთვის გამოყოფილი იქნება სივრცე\, სადაც დაინტერესებული პირები შეძლებენ გასაუბრებასა და სტაჟირების\, დასაქმების პროგრამებზე ინფორმაციის მიღებას. \nპროექტი “Advanced IT Trainings” 2021 წლის 10 ოქტომბრიდან დაიწყო და მის ფარგლებში უკვე 60-ზე მეტმა მონაწილემ გაიარა ინტენსიური კურსები DevOps მიმართულებით. \nIT დასაქმების ფორუმზე დასწრება შეუძლიათ ნებისმიერ დაინტერესებულ პირს\, ამისათვის საჭიროა გაიაროთ წინასწარი რეგისტრაცია\, რათა მიიღოთ დამატებითი ინფორმაცია. \nსარეგისტრაციო ფორმა: https://forms.gle/eztBkYMnHwXNkqUE7 \nUSAID ეკონომიკური უსაფრთხოების პროგრამა მიზნად ისახავს ქვეყანაში ისეთი სექტორების გაძლიერებას\, რომელთაც აქვთ დიდი პოტენციალი დასაქმების ბაზრის გაფართოების\, შემოსავლის ზრდისა და წარმატებული ეკონომიკური საქმიანობის დივერსიფიკაციის მიმართულებით. \nდრო: 7 ივლისი\, 12:00-17:00 საათი \nადგილმდებარეობა: ილიას სახელმწიფო უნივერსიტეტის G კორპუსი\, G106\, გ. წერეთლის ქუჩა N1 \nსამუშაო ენა: ქართული\, ინგლისური \nდამატებითი ინფორმაციისთვის დაგვიკავშირდით: \n\ndevops@iliauni.edu.ge\ntechschool@iliauni.edu.ge\n\n2023\n\n[wpai_display_imported_files_here]
URL:https://events.iliauni.edu.ge/event/it-dasaqmebis-phorumi-iliaunis-studentebisa-da-kursdamthavrebulebisthvis/
CATEGORIES:ღონისძიებები
ATTACH;FMTTYPE=image/png:https://events.iliauni.edu.ge/wp-content/uploads/2025/09/cover_default.png
END:VEVENT
BEGIN:VEVENT
DTSTART;TZID=Asia/Dubai:20230708T100000
DTEND;TZID=Asia/Dubai:20230708T100000
DTSTAMP:20260422T114817
CREATED:20230627T080037Z
LAST-MODIFIED:20240201T111524Z
UID:10000028-1688810400-1688810400@events.iliauni.edu.ge
SUMMARY:უნილაბში AWS Game Day Georgia გაიმართება
DESCRIPTION:8 ივლისს\, 10:00 საათზე\, ილიას სახელმწიფო უნივერსიტეტის T404-406 აუდიტორიაში (უნილაბი) ილიაუნის ტექნოლოგიის სკოლის DataArt Georgia-სა და AWS User Group Tbilisi- ის ერთობლივი ინიციატივით გაიმართება AWS Game Day Georgia. \nGameDay არის შემეცნებით-გასართობი აქტივობა\, რომელიც ამოწმებს AWSგადაწყვეტილებების დანერგვის უნარებს რეალურ სამყაროში არსებული პრობლემების გადასაჭრელად. \nეს არის პრაქტიკული შესაძლებლობა IT სფეროს პროფესიონალებისთვის და დამწყები სპეციალისტებისთვის\, შეისწავლონ AWS-ის სერვისები\, არქიტექტურის ნიმუშები\, გაეცნონ საუკეთესო პრაქტიკებს და გამოიმუშაონ ჯგუფური მუშაობის უნარ-ჩვევები. \nღონისძიების განმავლობაში აქტივობის მონაწილეებს მიეწოდებათ ყველა საჭირო რესურსი სხვადასხვა სცენარით მუშაობისთვის. \nთითოეულ გუნდს რეგისტრაციისას გადაეცემა AWS-ის ანგარიშზე წვდომისთვის საჭირო მონაცემები. \nთამაშს პრეზენტაციის სახით გახსნიან Unicorn.Rentals-ის თანამშრომლები. \nთითოეული გუნდი (4 წევრამდე) მიიღებს დაფას იმ ამოცანებით\, რომლებიც უნდა ამოიხსნას სხვადასხვა გზით. \nAWS Gameday-ზე არ არსებობს სწორი პასუხი\, თითოეულ გუნდს ექნება ამოცანის ამოხსნის საკუთარი სტრატეგია\, რომელიც AWS-ის ანგარიშებში წარმოდგენილი რესურსების მიხედვით უნდა შეიმუშაოს. \nმონაწილეები მზად უნდა იყვნენ AWS Management Console-ში ინტენსიური მუშაობისთვის. თავიანთი ცოდნის გამოსავლენად მათ ასევე უნდა უნდა გამოიყენონ AWS-ის სერვისები. ღონისძიება მოიცავს cloud domains-ის მრავალფეროვნებას. \nმონაწილეობისთვის: \nმონაწილეობის მისაღებად საჭიროა დარეგისტრირდეთ ქვემოთ მითითებულ ბმულზე\, რის შემდეგაც გადანაწილდებით გუნდების მიხედვით. \n\nიმ შემთხვევაში\, თუ გსურთ\, რომ მეგობრებმა ერთობლივად მიიღოთ მონაწილეობა და შექმნათ თქვენი გუნდი\, გთხოვთ აღნიშნულთან დაკავშირებით აცნობოთ ორგანიზატორებს.\nიმ შემთხვევაში\, თუ მონაწილეობთ გუნდთან ერთად\, თითოეული წევრი უნდა დარეგისტრირდეს ინდივიდუალურად.\n ორგანიზატორებს შეუძლიათ შეცვალონ გუნდის შემადგენლობა მონაწილეთა გამოცდილების დონის დასაბალანსებლად.\n\nთამაშში მონაწილეობისთვის საჭიროა: \n\nAWS და მიკროსერვისების საფუძვლების ცოდნა;\nთავისუფლად ფლობდეთ ინგლისურს (თამაშის დროს კომუნიკაციისთვის);\n ლეპტოპი და ადაპტერი;\n Firefox ან Chrome.\n\nდღის წესრიგი: \n\n10:00 – 10:30 – რეგისტრაცია\n10:30 – 10:45 – მისასალმებელი სიტყვა\n11:00 – 17:00 – AWS Game Day კონკურსი\n17:00 – 18:00 – ნეთვორქინგი\n\nსარეგისტრაციო ფორმა:  https://bit.ly/43qH3eo \nსამუშაო ენა: ინგლისური \nდრო: 8 ივლისი\, 10:00 \nადგილმდებარეობა: ილიას სახელმწიფო უნივერსიტეტის T კორპუსი\, T404-406 აუდიტორია (UniLab)\,  ქ. ჩოლოყაშვილის გამზ. N3/5 \nდასწრება თავისუფალია! \n2023 \n  \n\n[wpai_display_imported_files_here]
URL:https://events.iliauni.edu.ge/event/unilabshi-aws-game-day-georgia-gaimartheba/
CATEGORIES:ღონისძიებები
ATTACH;FMTTYPE=image/png:https://events.iliauni.edu.ge/wp-content/uploads/2025/09/cover_default.png
END:VEVENT
BEGIN:VEVENT
DTSTART;TZID=Asia/Dubai:20230711T101000
DTEND;TZID=Asia/Dubai:20230711T101000
DTSTAMP:20260422T114817
CREATED:20230707T091629Z
LAST-MODIFIED:20240201T111512Z
UID:10000025-1689070200-1689070200@events.iliauni.edu.ge
SUMMARY:საერთაშორისო ვორკშოფი „საქართველოს ისტორიული მყინვარული კერნი: საპილოტე პუბლიკაციები და შემდგომი ნაბიჯები"
DESCRIPTION:11-12 ივლისს ილიას სახელმწიფო უნივერსიტეტის კულტურული მემკვიდრეობის და გარემოს კვლევის ცენტრი\, საერთაშორისო პარტნიორებთან ერთად გეგმავს საერთაშორისო ვორკშოფს „საქართველოს ისტორიული მყინვარული კერნი: საპილოტე პუბლიკაციები და შემდგომი ნაბიჯები” (Georgia Historical Ice-Core Project (GHICP) Workshop: Pilot publications and next stages). \nვორკშოფი გაიმართება ჩვენს უნივერსიტეტსა და ნოტინგემის უნივერსიტეტს შორის გაფორმებული საგრანტო ხელშეკრულების ფარგლებში ვორკშოფში მონაწილეობას მიიღებენ მკვლევარები გაერთიანებული სამეფოდან\, აშშ\, გერმანია და საფრანგეთი\, ასევე მოწვეული სტუმრები\, სტუდენტები საქართველოდიან. \nვორკშოფის ძირითადი მიზანია საერთაშორისო კვლევითი კონსორციუმის დაფუძნება და ერთიანი კვლევითი საკითხის შეთანხმება EU-USA-UK პროექტისთვის “CESOC-Caucasus: Climate\, Environment and Social Change in the Caucasus”. \nდეტალური პროგრამა ხელმისაწვდომია ბმულზე: https://shorturl.at/oqX05 \n\nორგანიზატორები \n\n\n\n \n\n\nქრისტოფერ ლოვლაქი\, Prof. Dr.\nკლასიკური კვლევების და არქეოლოგიის განყოფილება\, ნოტინგემის უნივერსიტეტი\, UK\n\n\nანდრეი კურბატოვი\, Prof. Dr.\nკლიმატის ცვლილების ინსტიტუტი\, მეინის უნივერსიტეტია\, US\n\n\nლიზი გადრანი\, PhD student\nკლიმატის ცვლილების ინსტიტუტი\, მეინის უნივერსიტეტია\, US\n\n\nმიხეილ ელაშვილი\, Prof\, Dr.\nილიას სახელმწიფო უნივერსიტეტი\, GE\n\n\nლევან ტიელიძე\, Prof. Dr.\nილიას სახელმწიფო უნივერსიტეტი\, GE\, ველინგტონის ვიქტორიას უნივერსიეტი\, NZ\n\n\nჰელმუტ ბრუკნერი\, Prof. Dr.\nგეოგრაფიის ინსტიტუტი\, კიოლნის უნივერსიტეტი\, DE\n\n\nჰანეს ლაერმანსი\, Dr.\nგეოგრაფიის ინსტიტუტი\, კიოლნის უნივერსიტეტი\, DE\n\n\nანკა-ქრისტინა დან\, Prof. Dr.\nსამეცნეირო კვლევების ეროვნული ცენტრი\, Ecole Normale Superieure\, FR\n\n\nუდო შლოცჰაუერი\, Dr.\nგერმანიის არქეოლოგიის სკოლა (DAI)\, DE\n\n\nჰანს ფონ სუხოდოლეცი\, Dr.\nგეოგრაფიის ინსტიტუტი\, ლაიპციგის უნივერსიტეტი\, DE\n\n\nნათანიელ ერბ-სათურლო\, Prof\, Dr.\nქრენფილდის უნივერსიტეტი\, UK\n\n\n\n\nპირველი ორი დღე 11-12 ივლისი დაეთმობა მოხსენებებს და სამუშაო შეხვედრებს. 13 ივლისს დაგეგმილია საველე-კვლევითი გასვლა დმანისის მიმართულებით\, ხოლო 14- 18 ივლისს სამეგრელო-ზემო სვანეთის რეგიონში\, რომელიც სამომავლო კვლევების ძირითად არეალს წარმოადგენს. \nსამუშაო ენა: ინგლისური \nდრო: 11-12 ივლისი \nადგილმდებარეობა: ილიას სახელმწიფო უნივერსიტეტი\, E207 აუდიტორია\, ქ.ჩოლოყაშვილის გამზ. N3/5 \n2023 წელი \nhttps://iliauni.edu.ge/uploads/other/78/78801.pdf \n\n[wpai_display_imported_files_here]
URL:https://events.iliauni.edu.ge/event/saerthashoriso-vorkshophi-saqarthvelos-istoriuli-mqhinvaruli-kerni-sapilote-publikatsiebi-da-shemdgomi-nabijebi/
CATEGORIES:ღონისძიებები
ATTACH;FMTTYPE=image/png:https://events.iliauni.edu.ge/wp-content/uploads/2025/09/cover_default.png
END:VEVENT
BEGIN:VEVENT
DTSTART;TZID=Asia/Dubai:20230714T140000
DTEND;TZID=Asia/Dubai:20230714T140000
DTSTAMP:20260422T114817
CREATED:20230710T090601Z
LAST-MODIFIED:20240201T111509Z
UID:10000022-1689343200-1689343200@events.iliauni.edu.ge
SUMMARY:Back2Networking კონფერენცია
DESCRIPTION:14 ივლისს\, 14:00 საათზე\, ილიას სახელმწიფო უნივერსიტეტისა და კომპანია Greennet-ის ორგანიზებით გაიმართება Back2Networking კონფერენცია\, რომლის თითოეული სესია იქნება მინი-ვორშოპი – კონკრეტული ტექნოლოგიის განხილვა საფუძვლებიდან მისი იმპლემენტაციის მაგალითებამდე. \nთემებისა და მომხსენებლების შესახებ: \nდავით ირემაძე – „ქსელური ბრანდმაუერების წარმადობის ტესტირება“ \nდავით ირემაძე\, ქსელის ინჟინერი\, ამ სფეროში 15 წელია მოღვაწეობს. თავის საქმიანობაში აქცენტს აკეთებს მომავალი თაობის ბრანდმაუერებზე. დავითი ქსელური ბრანდმაუერების წარმადობის ტესტირების სესიაზე გაგიზიარებთ საუკეთესო პრაქტიკას ქსელური ბრანდმაურის წარმადობის შესაფასებლად. \nალექსანდრე ხიდეშელი – „ქსელის ტესტირების ავტომატიზაცია“ \nალექსანდრე ხიდეშელი ქსელური ინჟინერიის სფეროს ამომავალი ვარსკვლავია. მისმა მიდგომებმა და თანამედროვე ხედვამ ხელი შეუწყო მოკლე დროში დიდი განაწილებული ქსელების პრობლემების სწრაფ და ეფექტურ მოძიებასა და აღმოფხვრას. ქსელის ტესტირების ავტომატიზაცის სესიაზე იგი გაგიზიარებთ ქსელის ტესტირების თანამედროვე მიდგომებს. \nალექს ზნამენსკი – „LAN\, WAN და Cloud რესურსების ტესტირების მასშტაბირება“ \nალექს ზნამენსკი ქსელის პროფესიონალია 21-წლიანი გამოცდილებით. მისი კარიერის განმავლობაში წარმატებით ახორციელებდა დიდი განაწილებული ქსელების ადმინისტრირებას\, სწორედ ამიტომ\, იგი საინტერესო მომხსენებელია B2N აუდიტორიისთვის. LAN\, WAN და Cloud რესურსების ტესტირების მასშტაბირების სესიაზე ალექსი გაგიზიარებთ პრაქტიკულ გამოცდილებას თანამედროვე განაწილებულ ქსელში სხვადასხვა ქსელური სეგმენტის ტესტირების უზრუნველყოფის მიმართულებით. \nრატომ უნდა დაესწრო B2N-ს? \n\nდაუკავშირდები ქსელის ინჟინრებს\, რითაც შეძლებ  ნეთვორქინგის გაფართოებას;\nჩაერთვები დისკუსიებში და გაეცნობი პრაქტიკაზე დაფუძნებულ ექსპერტთა დაკვირვებებს;\nიმუშავებ მარკეტინგისგან თავისუფალი გარემოში\, რომელიც ორიენტირებულია ტექნიკური ცოდნის გაზიარებაზე.\n\nსარეგისტრაციო ბმული: https://b2n2023.ticketforevent.com/ \nსამუშაო ენა: ქართული \nდრო: 14 ივლისი\, 14:00 საათი \nადგილმდებარეობა: ილიას სახელმწიფო უნივერსიტეტი\, T102 საკონფერენციო დარბაზი\, ქ. ჩოლოყაშვილის გამზ. N3/5 \nდასწრება თავისუფალია. \n2023 \n\n[wpai_display_imported_files_here]
URL:https://events.iliauni.edu.ge/event/back2networking-konpherentsia/
CATEGORIES:ღონისძიებები
ATTACH;FMTTYPE=image/png:https://events.iliauni.edu.ge/wp-content/uploads/2025/09/cover_default.png
END:VEVENT
BEGIN:VEVENT
DTSTART;TZID=Asia/Dubai:20230717T170000
DTEND;TZID=Asia/Dubai:20230717T170000
DTSTAMP:20260422T114817
CREATED:20230714T113817Z
LAST-MODIFIED:20240201T111517Z
UID:10000027-1689613200-1689613200@events.iliauni.edu.ge
SUMMARY:ღია კარის დღე: სამოქალაქო ინჟინერიის ორმაგის ხარისხის საბაკალავრო პროგრამა
DESCRIPTION:17 ივლისს\, 17:00 საათზე\, ილიას სახელმწიფო უნივერსიტეტის ტექნოლოგიის სკოლა  სამოქალაქო ინჟინერიის ორმაგი ხარისხის საბაკალავრო პროგრამასთან დაკავშირებით გამართავს ღია კარის დღეს ჰიბრიდულ ფორმატში. \nვისაუბრებთ ორმაგი ხარისხის საერთაშორისო აკრედიტაციის საბაკალავრო პროგრამაზე სწავლის\, ორი (ამერიკული და ქართული) დიპლომის მოპოვებისა და ერთი-ერთი ყველაზე მაღალანაზღაურებადი და მოთხოვნადი პროფესიის დაუფლების უნიკალურ შესაძლებლობაზე. \nშეხვედრის ბმული: https://iliauni-edu-ge.zoom.us/j/81777641128 \nღია კარის დღის შემდეგ გაიმართება ტური ტექნოლოგიის კორპუსში და შეძლებთ\, დაათვალიეროთ მაღალტექნოლოგიური ლაბორატორიები. \nპროგრამის შესახებ  \nსაქართველოს განათლებისა და მეცნიერების სამინისტროს გადაწყვეტილებით\, სან დიეგოს სახელმწიფო უნივერსიტეტი (აშშ\, კალიფორნია) და ილიას სახელმწიფო უნივერსიტეტი გთავაზობთ უნიკალურ შესაძლებლობას 2023 წლის ერთიანი ეროვნული გამოცდებით ჩააბაროთ სამოქალაქო ინჟინერიის ორმაგი ხარისხის საერთაშორისო აკრედიტაციის პროგრამაზე და მოიპოვოთ როგორც ამერიკული\, ისე ქართული უნივერსიტეტის დიპლომი. \nსწავლის პროცესში გექნებათ შესაძლებლობა ისარგებლოთ გაცვლითი პროგრამით სან დიეგოს სახელმწიფო უნივერსიტეტში (აშშ\, კალიფორნია). \nსწავლის წლიური საფასური\, როგორც ყველა სახელმწიფო უმაღლესი სასწავლებლის პროგრამაზე\, 2250 ლარია. \nპროგრამის არჩევა უკვე შესაძლებელია შეფასებისა და გამოცდების ცენტრის (NAEC) ბაზაში კოდით 0100130. \nდრო: 17 ივლისი\, 17:00 საათი \nადგილმდებარეობა: T 102 დარბაზი\, ქ. ჩოლოყაშვილის გამზ. N⅗\, ვაკის პარკის გადმოსწვრივ ან დისტანციურად ბმულზე: https://iliauni-edu-ge.zoom.us/j/81777641128 \nსამუშაო ენა: ქართული \nდასწრება თავისუფალია. \nვირტუალური ტური ილიაუნის ტექნოლოგიების კამპუსში: https://vr.ihomepedia.com/IliaUni1/ \n2023 \n\n[wpai_display_imported_files_here]
URL:https://events.iliauni.edu.ge/event/ghia-karis-dghe-samoqalaqo-inzhineriis-ormagis-khariskhis-sabakalavro-programa/
CATEGORIES:ღონისძიებები
ATTACH;FMTTYPE=image/png:https://events.iliauni.edu.ge/wp-content/uploads/2025/09/cover_default.png
END:VEVENT
BEGIN:VEVENT
DTSTART;TZID=Asia/Dubai:20230718T180000
DTEND;TZID=Asia/Dubai:20230718T180000
DTSTAMP:20260422T114817
CREATED:20230715T090300Z
LAST-MODIFIED:20240201T111447Z
UID:10000006-1689703200-1689703200@events.iliauni.edu.ge
SUMMARY:არქიტექტურის პროგრამის სტუდენტთა ფინალური გამოფენა
DESCRIPTION:18 ივლისს\, 18:00 საათზე\, ილიას სახელმწიფო უნივერსიტეტის H კორპუსში გაიხსნება არქიტექტურის საბაკალავრო და სამაგისტრო პროგრამების სტუდენტთა ნამუშევრების წლის შემაჯამებელი გამოფენა. \nგამოფენაზე გამოვლინდება 5 საუკეთესო ნამუშევარი შემდეგ ნომინაციებში: \n\nსაუკეთესო სამაგისტრო ნაშრომი\nსაუკეთესო საბაკალავრო ნაშრომი\nIII კურსის საუკეთესო არქიტექტურული პროექტი\nII კურსის საუკეთესო არქიტექტურული პროექტი\nI კურსის საუკეთესო არქიტექტურული პროექტი\n\nგამოფენის მიზანია ტექნოლოგიის სკოლის არქიტექტურის საბაკალავრო და სამაგისტრო პროგრამების პოპულარიზაცია\, სტუდენტთა პროფესიული განვითარების ხელშეწყობა და პროგრამის ფარგლებში განხორციელებული პროექტების ფართო საზოგადოებისთვის გაცნობა. \nდასწრება თავისუფალია. \n2023 \n\n[wpai_display_imported_files_here]
URL:https://events.iliauni.edu.ge/event/arqiteqturis-programis-studenttha-phinaluri-gamophena/
CATEGORIES:ღონისძიებები
ATTACH;FMTTYPE=image/png:https://events.iliauni.edu.ge/wp-content/uploads/2025/09/cover_default.png
END:VEVENT
BEGIN:VEVENT
DTSTART;TZID=Asia/Dubai:20230729T190000
DTEND;TZID=Asia/Dubai:20230729T190000
DTSTAMP:20260422T114817
CREATED:20230719T060200Z
LAST-MODIFIED:20240201T110903Z
UID:10000004-1690657200-1690657200@events.iliauni.edu.ge
SUMMARY:ილიაუნის ბაკალავრებისა და მაგისტრების გამოსაშვები ცერემონია 2023
DESCRIPTION:29 ივლისს\, 19:00 საათზე\, გიწვევთ ილიას სახელმწიფო უნივერსიტეტის 2023 წლის კურსდამთავრებულების გამოსაშვებ ცერემონიაზე. \nღონისძიებას გახსნის და სტუდენტებს უნივერსიტეტის დასრულებასა და ცხოვრების ახალი ეტაპის დაწყებას მიულოცავს ილიას სახელმწიფო უნივერსიტეტის რექტორი ნინო დობორჯგინიძე. \nტრადიციულად წელსაც ჩავატარეთ კონკურსი და გამარჯვებული კურსდამთავრებულები გამოსაშვებ ცერემონიაზე სიტყვით გამოვლენ. \nოფიციალური ნაწილი დასრულდება კურსდამთავრებულებისთვის ყველაზე დასამახსოვრებელი რიტუალით – ქუდების ცაში ასროლით. \nღონისძიებაზე დაუკრავენ: KILLAGES\, ABDALI \nდრო: 29 ივლისი\, 19:00 საათი \nადგილმდებარეობა: ილიას სახელმწიფო უნივერსიტეტის E კორპუსის შიდა ეზო (ქ.ჩოლოყაშვილის გამზ. N3/5\, ვაკის პარკის მოპირდაპირედ) \nგელით! \n2023 \n\n[wpai_display_imported_files_here]
URL:https://events.iliauni.edu.ge/event/iliaunis-bakalavrebisa-da-magistrebis-gamosashvebi-tseremonia-2023/
CATEGORIES:ღონისძიებები
ATTACH;FMTTYPE=image/png:https://events.iliauni.edu.ge/wp-content/uploads/2025/09/cover_default.png
END:VEVENT
END:VCALENDAR