BEGIN:VCALENDAR
VERSION:2.0
PRODID:-//უნივერსიტეტის ღონისძიებების პორტალი - ECPv6.2.8.2//NONSGML v1.0//EN
CALSCALE:GREGORIAN
METHOD:PUBLISH
X-ORIGINAL-URL:https://events.iliauni.edu.ge
X-WR-CALDESC:Events for უნივერსიტეტის ღონისძიებების პორტალი
REFRESH-INTERVAL;VALUE=DURATION:PT1H
X-Robots-Tag:noindex
X-PUBLISHED-TTL:PT1H
BEGIN:VTIMEZONE
TZID:Asia/Dubai
BEGIN:STANDARD
TZOFFSETFROM:+0400
TZOFFSETTO:+0400
TZNAME:+04
DTSTART:20260101T000000
END:STANDARD
END:VTIMEZONE
BEGIN:VEVENT
DTSTART;TZID=Asia/Dubai:20260430T170000
DTEND;TZID=Asia/Dubai:20260430T180000
DTSTAMP:20260425T173059
CREATED:20260424T122451Z
LAST-MODIFIED:20260424T122451Z
UID:10005985-1777568400-1777572000@events.iliauni.edu.ge
SUMMARY:დოქტორანტ ნატალია კიკნაძის სადისერტაციო ნაშრომის დაცვა
DESCRIPTION:30 აპრილს\, 17:00 საათზე\, ილიას სახელმწიფო უნივერსიტეტის G106 დარბაზში საბუნებისმეტყველო მეცნიერებებისა და მედიცინის ფაკულტეტის ბიოქიმიისა და მოლეკულური ბიოტექნოლოგიის სადოქტორო პროგრამის დოქტორანტი ნატალია კიკნაძე დაიცავს სადისერტაციო ნაშრომს „ფტალატების პრენატალური ნეიროტოქსიკური პოტენციალის შეფასება“. \nსამეცნიერო ხელმძღვანელი − ილიას სახელმწიფო უნივერსიტეტის ასოცირებული პროფესორი ელენე ჟურავლიოვა \nსამუშაო ენა: ქართული \nდრო: 30 აპრილი\, 17:00 საათი \nადგილმდებარეობა: ილიას სახელმწიფო უნივერსიტეტის G106 დარბაზი\, გ. წერეთლის გასასვლელი N1-3 \nდასწრება თავისუფალია.
URL:https://events.iliauni.edu.ge/event/doqtorant-natalia-kiknadzis-sadisertatsio-nashromis-datsva/
CATEGORIES:საბუნებისმეტყველო მეცნიერებებისა და მედიცინის ფაკულტეტი,ღონისძიებები
ATTACH;FMTTYPE=image/png:https://events.iliauni.edu.ge/wp-content/uploads/2026/04/doqtorant-natalia-kiknadzis-sadisertatsio-nashromis-datsva-01-scaled.png
END:VEVENT
END:VCALENDAR