BEGIN:VCALENDAR
VERSION:2.0
PRODID:-//უნივერსიტეტის ღონისძიებების პორტალი - ECPv6.2.8.2//NONSGML v1.0//EN
CALSCALE:GREGORIAN
METHOD:PUBLISH
X-WR-CALNAME:უნივერსიტეტის ღონისძიებების პორტალი
X-ORIGINAL-URL:https://events.iliauni.edu.ge
X-WR-CALDESC:Events for უნივერსიტეტის ღონისძიებების პორტალი
REFRESH-INTERVAL;VALUE=DURATION:PT1H
X-Robots-Tag:noindex
X-PUBLISHED-TTL:PT1H
BEGIN:VTIMEZONE
TZID:Asia/Dubai
BEGIN:STANDARD
TZOFFSETFROM:+0400
TZOFFSETTO:+0400
TZNAME:+04
DTSTART:20090101T000000
END:STANDARD
END:VTIMEZONE
BEGIN:VEVENT
DTSTART;TZID=Asia/Dubai:20110117T161600
DTEND;TZID=Asia/Dubai:20110117T161600
DTSTAMP:20260422T001237
CREATED:20110117T121625Z
LAST-MODIFIED:20240202T070745Z
UID:10003019-1295280960-1295280960@events.iliauni.edu.ge
SUMMARY:უნიკინო 21 იანვარს: ”თმები”
DESCRIPTION:პარასკევს\, 21 იანვარს\, 18:00 საათზე\, ილიას უნივერსიტეტის A კორპუსში\, 101-ე აუდიტორიაში\, ნაჩვენები იქნება მილოშ ფორმანის ფილმი ”თმები” (1979). მონაწილეობენ: ჯონ სავაჟი\, ტრიტ უილიამსი\, ბევერლი დ`ანჯელო\, ენი გოლდენი და სხვები. ფილმის ჩვენება ხორციელდება რუსთავი 2-ის ხელშეწყობით. \nდასწრება თავისუფალია. \n\n[wpai_display_imported_files_here]
URL:https://events.iliauni.edu.ge/event/unikino-21-ianvars-thmebi/
CATEGORIES:უნიკინოს აფიშა
ATTACH;FMTTYPE=image/png:https://events.iliauni.edu.ge/wp-content/uploads/2025/09/cover_default.png
END:VEVENT
BEGIN:VEVENT
DTSTART;TZID=Asia/Dubai:20101221T164600
DTEND;TZID=Asia/Dubai:20101221T164600
DTSTAMP:20260422T001237
CREATED:20101221T124647Z
LAST-MODIFIED:20240202T070054Z
UID:10002890-1292949960-1292949960@events.iliauni.edu.ge
SUMMARY:უნიკინო 24 დეკემბერს: ”ბრალდების მოწმე”
DESCRIPTION:პარასკევს\, 24 დეკემბერს\, 18:00 საათზე\, ილიას უნივერსიტეტის A კორპუსში\, 101-ე აუდიტორიაში\, ნაჩვენები იქნება ბილი უაილდერის ფილმი ”ბრალდების მოწმე” (1957). \nმონაწილეობენ: ტაირონ პაუერი\, მარლენ დიტრიხი\, ჩარლზ ლაფტონი\, ჯონ უილიამსი და სხვები. \nდასწრება თავისუფალია. \n\n[wpai_display_imported_files_here]
URL:https://events.iliauni.edu.ge/event/unikino-24-dekembers-braldebis-motsme/
CATEGORIES:უნიკინოს აფიშა
ATTACH;FMTTYPE=image/png:https://events.iliauni.edu.ge/wp-content/uploads/2025/09/cover_default.png
END:VEVENT
BEGIN:VEVENT
DTSTART;TZID=Asia/Dubai:20101213T171000
DTEND;TZID=Asia/Dubai:20101213T171000
DTSTAMP:20260422T001237
CREATED:20101213T131057Z
LAST-MODIFIED:20240202T065928Z
UID:10002883-1292260200-1292260200@events.iliauni.edu.ge
SUMMARY:უნიკინო 17 დეკემბერს: ”12 განრისხებული მამაკაცი”
DESCRIPTION:პარასკევს\, 17 დეკემბერს\, 18:00 საათზე\, ილიას უნივერსიტეტის A კორპუსში\, 101-ე აუდიტორიაში\, ნაჩვენები იქნება სიდნეი ლუმეტის ფილმი ”12 განრისხებული მამაკაცი” (1957). \nრეჟისორი: სიდნეი ლუმეტი \nმთავარ როლში: ჰენრი ფონდა \nმონაწილეობენ: ჯონ ფიდლერი\, მარტინ ბალსამი\, ლი ჯეი კობი\, რობერტ ვებერი და სხვები.  \nდასწრება თავისუფალია. \n\n[wpai_display_imported_files_here]
URL:https://events.iliauni.edu.ge/event/unikino-17-dekembers-12-ganriskhebuli-mamakatsi/
CATEGORIES:უნიკინოს აფიშა
ATTACH;FMTTYPE=image/png:https://events.iliauni.edu.ge/wp-content/uploads/2025/09/cover_default.png
END:VEVENT
BEGIN:VEVENT
DTSTART;TZID=Asia/Dubai:20101206T160900
DTEND;TZID=Asia/Dubai:20101206T160900
DTSTAMP:20260422T001237
CREATED:20101206T120902Z
LAST-MODIFIED:20240202T065904Z
UID:10002882-1291651740-1291651740@events.iliauni.edu.ge
SUMMARY:უნიკინო 10 დეკემბერს: ”მარწყვის მდელო”
DESCRIPTION:პარასკევს\, 10 დეკემბერს\, 18:00 საათზე\, ილიას უნივერსიტეტის A კორპუსში\, 101-ე აუდიტორიაში\, ნაჩვენები იქნება ინგმარ ბერგმანის ფილმი ”მარწყვის მდელო” (1957). \nმონაწილეობენ: ვიქტორ სიოსტრომი\, ბიბი ანდერსონი\, ინგრიდ ტულინი\, მაქს ფონ ზიუდოვი და სხვა. \nდასწრება თავისუფალია. \n\n[wpai_display_imported_files_here]
URL:https://events.iliauni.edu.ge/event/unikino-10-dekembers-martsqhvis-mdelo/
CATEGORIES:უნიკინოს აფიშა
ATTACH;FMTTYPE=image/png:https://events.iliauni.edu.ge/wp-content/uploads/2025/09/cover_default.png
END:VEVENT
BEGIN:VEVENT
DTSTART;TZID=Asia/Dubai:20101129T163900
DTEND;TZID=Asia/Dubai:20101129T163900
DTSTAMP:20260422T001237
CREATED:20101129T123923Z
LAST-MODIFIED:20240202T065743Z
UID:10002876-1291048740-1291048740@events.iliauni.edu.ge
SUMMARY:უნიკინო 3 დეკემბერს: ”რაც ოთარი წავიდა”
DESCRIPTION:პარასკევს\, 3 დეკემბერს\, 18:00 საათზე\, ილიას უნივერსიტეტის ” A” კორპუსის\,  101-ე აუდიტორიაში\, ნაჩვენები იქნება ჟული ბერტუჩელის ფილმი ”რაც ოთარი წავიდა” (2003). \nმონაწილეობენ: ესტერ გორინტინი\, ნინო ხომასურიძე\, რუსუდან  ბოლქვაძე\, დუტა სხირტლაძე და სხვები. \nდასწრება თავისუფალია. \n\n[wpai_display_imported_files_here]
URL:https://events.iliauni.edu.ge/event/unikino-3-dekembers-rats-othari-tsavida/
CATEGORIES:უნიკინოს აფიშა
ATTACH;FMTTYPE=image/png:https://events.iliauni.edu.ge/wp-content/uploads/2025/09/cover_default.png
END:VEVENT
BEGIN:VEVENT
DTSTART;TZID=Asia/Dubai:20101122T161900
DTEND;TZID=Asia/Dubai:20101122T161900
DTSTAMP:20260422T001237
CREATED:20101122T121915Z
LAST-MODIFIED:20240202T065613Z
UID:10002865-1290442740-1290442740@events.iliauni.edu.ge
SUMMARY:უნიკინო 26 ნოემბერს: ”წყარო”
DESCRIPTION:პარასკევს\, 26 ნოემბერს\, 18:00 საათზე\, ილიას უნივერსიტეტის A კორპუსში\, 101-ე აუდიტორიაში\, ნაჩვენები იქნება დარენ არონოვსკის ფილმი ”წყარო” (2006).  \nმონაწილეობენ: ჰაგ ჯეკმენი\, რეიჩელ ვეიში\, ელენ ბარსტინი\, დონა მერფი\, იგორ ტალკაჩი და სხვები. \nდასწრება თავისუფალია. \n\n[wpai_display_imported_files_here]
URL:https://events.iliauni.edu.ge/event/unikino-26-noembers-tsqharo/
CATEGORIES:უნიკინოს აფიშა
ATTACH;FMTTYPE=image/png:https://events.iliauni.edu.ge/wp-content/uploads/2025/09/cover_default.png
END:VEVENT
BEGIN:VEVENT
DTSTART;TZID=Asia/Dubai:20101115T160300
DTEND;TZID=Asia/Dubai:20101115T160300
DTSTAMP:20260422T001237
CREATED:20101115T120319Z
LAST-MODIFIED:20240202T065253Z
UID:10002802-1289836980-1289836980@events.iliauni.edu.ge
SUMMARY:უნიკინო 19 ნოემბერს: ”კაცი\, რომელმაც ძალიან ბევრი იცოდა”
DESCRIPTION:პარასკევს\, 19 ნოემბერს\, 18:00 საათზე\, უნიკინოში ნაჩვენები იქნება ალფრედ ჰიჩკოკის ფილმი ”კაცი\, რომელმაც ძალიან ბევრი იცოდა” (1956) . \nმონაწილეობენ: ჯეიმს სტიუარტი\, დორის დეი\, ბრენდა დე ბენზი\, ბერნარდ მაილსი და სხვები. \nმის.: ი. ჭავჭავაძის გამზ. #32\, ”ა” კორპუსი\, 101-ე აუდიტორია. დასწრება თავისუფალია. \n\n[wpai_display_imported_files_here]
URL:https://events.iliauni.edu.ge/event/unikino-19-noembers-katsi-romelmats-dzalian-bevri-itsoda/
CATEGORIES:უნიკინოს აფიშა
ATTACH;FMTTYPE=image/png:https://events.iliauni.edu.ge/wp-content/uploads/2025/09/cover_default.png
END:VEVENT
BEGIN:VEVENT
DTSTART;TZID=Asia/Dubai:20101108T160600
DTEND;TZID=Asia/Dubai:20101108T160600
DTSTAMP:20260422T001237
CREATED:20101108T120617Z
LAST-MODIFIED:20240202T064959Z
UID:10002739-1289232360-1289232360@events.iliauni.edu.ge
SUMMARY:უნიკინო 12 ნოემბერს: ”დღიური ჩემი შვილებისათვის”
DESCRIPTION:პარასკევს\, 12 ნოემბერს\, 18:00 საათზე\, უნიკინოში ნაჩვენები იქნება მარტა მესაროშის ფილმი ”დღიური ჩემი შვილებისათვის”. \nმონაწილეობენ: შუშა ჩინკოცი\, ტერი ფიოლდი\, ანა პოლონი\, იან ნოვიცკი და სხვები. \nმის.: ი. ჭავჭავაძის გამზ. #32\, ”ა” კორპუსი\, 101-ე აუდიტორია. დასწრება თავისუფალია. \n\n[wpai_display_imported_files_here]
URL:https://events.iliauni.edu.ge/event/unikino-12-noembers-dghiuri-chemi-shvilebisathvis/
CATEGORIES:უნიკინოს აფიშა
ATTACH;FMTTYPE=image/png:https://events.iliauni.edu.ge/wp-content/uploads/2025/09/cover_default.png
END:VEVENT
BEGIN:VEVENT
DTSTART;TZID=Asia/Dubai:20101102T113800
DTEND;TZID=Asia/Dubai:20101102T113800
DTSTAMP:20260422T001237
CREATED:20101102T073812Z
LAST-MODIFIED:20240202T064347Z
UID:10002672-1288697880-1288697880@events.iliauni.edu.ge
SUMMARY:უნიკინო 5 ნოემბერს: ”უცნაური მატარებელი”
DESCRIPTION:პარასკევს\, 5 ნოემბერს\, 18:00 საათზე\, უნიკინოში ნაჩვენები იქნება რეჟისორ ჯიმ ჯარმუშის ფილმი ”უცნაური მატარებელი” (1989). \nმონაწილეობენ: მასატოში ნაგასი\, იუკი კუდო\, სქრიმინ ჯეი ჰოვკინსი\, ნიკოლეტა ბრაში და სხვები. \nმის.: ი. ჭავჭავაძის გამზ. #32\, ”ა” კორპუსი\, 101-ე აუდიტორია. დასწრება თავისუფალია. \n\n[wpai_display_imported_files_here]
URL:https://events.iliauni.edu.ge/event/unikino-5-noembers-utsnauri-matarebeli/
CATEGORIES:უნიკინოს აფიშა
ATTACH;FMTTYPE=image/png:https://events.iliauni.edu.ge/wp-content/uploads/2025/09/cover_default.png
END:VEVENT
BEGIN:VEVENT
DTSTART;TZID=Asia/Dubai:20101025T120800
DTEND;TZID=Asia/Dubai:20101025T120800
DTSTAMP:20260422T001237
CREATED:20101025T080833Z
LAST-MODIFIED:20240202T064740Z
UID:10002679-1288008480-1288008480@events.iliauni.edu.ge
SUMMARY:უნიკინო 29 ოქტომბერს: ”ფართოდ დახუჭული თვალები”
DESCRIPTION:პარასკევს\, 29 ოქტომბერს\, 18:00 საათზე უნიკინოში ნაჩვენები იქნება სტენლი კუბრიკის ფილმი ”ფართოდ დახუჭული თვალები” (1999).  \nმონაწილეობენ: ნიკოლ კიდმანი\, ტომ კრუზი\, სიდნეი პოლაკი\, პეტერ ბენსონი და სხვები. \nმის.: ი. ჭავჭავაძის გამზ. #32\, ”ა” კორპუსი\, 101-ე აუდიტორია. დასწრება თავისუფალია. \n\n[wpai_display_imported_files_here]
URL:https://events.iliauni.edu.ge/event/unikino-29-oqtombers-pharthod-dakhutchuli-thvalebi/
CATEGORIES:უნიკინოს აფიშა
ATTACH;FMTTYPE=image/png:https://events.iliauni.edu.ge/wp-content/uploads/2025/09/cover_default.png
END:VEVENT
BEGIN:VEVENT
DTSTART;TZID=Asia/Dubai:20101018T145400
DTEND;TZID=Asia/Dubai:20101018T145400
DTSTAMP:20260422T001237
CREATED:20101018T105414Z
LAST-MODIFIED:20240202T063936Z
UID:10002593-1287413640-1287413640@events.iliauni.edu.ge
SUMMARY:უნიკინო 22 ოქტომბერს: ”რეგთაიმი”
DESCRIPTION:პარასკევს\, 22 ოქტომბერს\, 18:00 საათზე\, უნიკინოში ნაჩვენები იქნება მილოშ ფორმანის ფილმი ”რეგთაიმი” (1981). \nმონაწილეობენ: ჯეიმს კეგნი\, ელიზაბეტ მაკგოვერნი\, მერი სტინბერგენი\, ჯეიმს ოლსონი\, ბრედ დიურიფი და სხვები.\nდასწრება თავისუფალია. მის.: ი. ჭავჭავაძის გამზ. #32\, ”ა” კორპუსი\, 101-ე აუდიტორია.\n\n[wpai_display_imported_files_here]
URL:https://events.iliauni.edu.ge/event/unikino-22-oqtombers-regthaimi/
CATEGORIES:უნიკინოს აფიშა
ATTACH;FMTTYPE=image/png:https://events.iliauni.edu.ge/wp-content/uploads/2025/09/cover_default.png
END:VEVENT
BEGIN:VEVENT
DTSTART;TZID=Asia/Dubai:20101012T122900
DTEND;TZID=Asia/Dubai:20101012T122900
DTSTAMP:20260422T001237
CREATED:20101012T082902Z
LAST-MODIFIED:20240202T063718Z
UID:10002570-1286886540-1286886540@events.iliauni.edu.ge
SUMMARY:უნიკინო 15 ოქტომბერს: "იღბლიანი"
DESCRIPTION:პარასკევს\, 15 ოქტომბერს\, 18:00 საათზე\, უნიკინოში ნაჩვენები იქნება ლინდსი ანდერსონის კინოშედევრი ”იღბლიანი” (1973). \nმონაწილეობენ: მელკოლმ მაკდაუელი\, რალფ რიჩარდსონი\, რეიჩელ რობერტსი\, ელენ მირენი და სხვები. \nდასწრება თავისუფალია. მის.: ი. ჭავჭავაძის გამზ. #32\, ”ა” კორპუსი\, 101 – ე აუდიტორია. \n\n[wpai_display_imported_files_here]
URL:https://events.iliauni.edu.ge/event/unikino-15-oqtombers-ighbliani/
CATEGORIES:უნიკინოს აფიშა
ATTACH;FMTTYPE=image/png:https://events.iliauni.edu.ge/wp-content/uploads/2025/09/cover_default.png
END:VEVENT
BEGIN:VEVENT
DTSTART;TZID=Asia/Dubai:20101004T180700
DTEND;TZID=Asia/Dubai:20101004T180700
DTSTAMP:20260422T001238
CREATED:20101004T140733Z
LAST-MODIFIED:20240202T063322Z
UID:10002497-1286215620-1286215620@events.iliauni.edu.ge
SUMMARY:უნიკინო 8 ოქტომბერს: ”გახსნილი მკლავები”
DESCRIPTION:პარასკევს\, 8 ოქტომბერს\, 18:00 საათზე\, უნიკინოში ნაჩვენები იქნება პედრო ალმადოვარის ფილმი ”გახსნილი მკლავები” (2009). მონაწილეობენ: პენელოპა  კრუზი\, ლუის ომარი\, ბლანკა პორტილიო\, ხოსე ლუის გომესი და სხვები. \nმის.: ი. ჭავჭავაძის გამზ. #32\, ”ა” კორპუსი\, 101 – ე აუდიტორია.\nდასწრება თავისუფალია.\n\n[wpai_display_imported_files_here]
URL:https://events.iliauni.edu.ge/event/unikino-8-oqtombers-gakhsnili-mklavebi/
CATEGORIES:უნიკინოს აფიშა
ATTACH;FMTTYPE=image/png:https://events.iliauni.edu.ge/wp-content/uploads/2025/09/cover_default.png
END:VEVENT
BEGIN:VEVENT
DTSTART;TZID=Asia/Dubai:20100929T134500
DTEND;TZID=Asia/Dubai:20100929T134500
DTSTAMP:20260422T001238
CREATED:20100929T094533Z
LAST-MODIFIED:20240202T062855Z
UID:10002444-1285767900-1285767900@events.iliauni.edu.ge
SUMMARY:უნიკინო 1 ოქტომბერს: 'ვალსი ბაშირთან'
DESCRIPTION:პარასკევს\, 1 ოქტომბერს\, 18:00 საათზე\, უნიკინო ბრუნდება დოკუმენტური ანიმაციური ფილმით ”ვალსი ბაშირთან” (2008).  \nრეჟისორი: არი ფოლმანი. ახმოვანებენ: რონ ბენ იშე\, რონი დეიაგი\, არი ფოლმანი\, სამუელ ფრენკელი და სხვები. \nდასწრება თავისუფალია. მის.: ი. ჭავჭავაძის გამზ. #32\, ”ა” კორპუსი\, 101 – ე აუდიტორია. \n\n[wpai_display_imported_files_here]
URL:https://events.iliauni.edu.ge/event/unikino-1-oqtombers-valsi-bashirthan/
CATEGORIES:უნიკინოს აფიშა
ATTACH;FMTTYPE=image/png:https://events.iliauni.edu.ge/wp-content/uploads/2025/09/cover_default.png
END:VEVENT
BEGIN:VEVENT
DTSTART;TZID=Asia/Dubai:20100621T172500
DTEND;TZID=Asia/Dubai:20100621T172500
DTSTAMP:20260422T001238
CREATED:20100621T132528Z
LAST-MODIFIED:20240202T061635Z
UID:10002296-1277141100-1277141100@events.iliauni.edu.ge
SUMMARY:უნიკინო გემშვიდობებათ 1 ოქტომბრამდე
DESCRIPTION:უნიკინო გემშვიდობებათ 1 ოქტომბრამდე. მოგვწერეთ და მონაწილეობა მიიღეთ ფილმების თარგმნაში. ჩვენი მეილია: unikino@iliauni.edu.ge \n\n[wpai_display_imported_files_here]
URL:https://events.iliauni.edu.ge/event/unikino-gemshvidobebath-1-oqtombramde/
CATEGORIES:უნიკინოს აფიშა
ATTACH;FMTTYPE=image/png:https://events.iliauni.edu.ge/wp-content/uploads/2025/09/cover_default.png
END:VEVENT
BEGIN:VEVENT
DTSTART;TZID=Asia/Dubai:20100607T161100
DTEND;TZID=Asia/Dubai:20100607T161100
DTSTAMP:20260422T001238
CREATED:20100607T121128Z
LAST-MODIFIED:20240202T060833Z
UID:10002170-1275927060-1275927060@events.iliauni.edu.ge
SUMMARY:უნიკინო 11 ივნისს: ოცნებების მინდორი
DESCRIPTION:პარასკევს\, 11 ივნისს\, 18.00 საათზე\, უნიკინოში ნაჩვენები იქნება რეჟისორ ფილ ელდენ რობინსონის ფილმი “ოცნებების მინდორი” (1989) მონაწილეობენ: კევინ კოსტნერი\, ემი მედიგანი\, გაბი ჰოფმანი\, ბარტ ლანკასტერი. \nდასწრება თავისუფალია. მის.: ი. ჭავჭავაძის გამზ. 32\, ”ა” კორპუსი\, 101-ე აუდიტორია. \n\n[wpai_display_imported_files_here]
URL:https://events.iliauni.edu.ge/event/unikino-11-ivniss-otsnebebis-mindori/
CATEGORIES:უნიკინოს აფიშა
ATTACH;FMTTYPE=image/png:https://events.iliauni.edu.ge/wp-content/uploads/2025/09/cover_default.png
END:VEVENT
BEGIN:VEVENT
DTSTART;TZID=Asia/Dubai:20100531T180500
DTEND;TZID=Asia/Dubai:20100531T180500
DTSTAMP:20260422T001238
CREATED:20100531T140523Z
LAST-MODIFIED:20240202T060804Z
UID:10002169-1275329100-1275329100@events.iliauni.edu.ge
SUMMARY:უნიკინო 4 ივნისს: ”გარდაცვლილი”
DESCRIPTION:პარასკევს\, 4 ივნისს\, 18.00 საათზე\,  უნიკინოში ნაჩვენები  იქნება ჯიმ ჯარმუშის ფილმი ”გარდაცვლილი” (1995). მონაწილეობენ: ჯონი დეპი\, ჰარი ფარმერი\, კრისპინ გლოვერი\, ლანს ჰენრიკსონი. დასწრება თავისუფალია. მის.: ი. ჭავჭავაძის გამზ.32\, ”ა” კორპუსი\, 101-ე აუდიტორია. \n\n[wpai_display_imported_files_here]
URL:https://events.iliauni.edu.ge/event/unikino-4-ivniss-gardatsvlili/
CATEGORIES:უნიკინოს აფიშა
ATTACH;FMTTYPE=image/png:https://events.iliauni.edu.ge/wp-content/uploads/2025/09/cover_default.png
END:VEVENT
BEGIN:VEVENT
DTSTART;TZID=Asia/Dubai:20100524T124300
DTEND;TZID=Asia/Dubai:20100524T124300
DTSTAMP:20260422T001238
CREATED:20100524T084322Z
LAST-MODIFIED:20240201T112840Z
UID:10000285-1274704980-1274704980@events.iliauni.edu.ge
SUMMARY:უნიკინო 28 მაისს: ”ზედმეტად ლამაზი შენთვის”
DESCRIPTION:პარასკევს\, 28 მაისს\, 18.00 საათზე უნიკინოში ნაჩვენები იქნება ბერნარ ბლიეს ფილმი ”ზედმეტად ლამაზი შენთვის” (1989). მონაწილეობენ ჟერარ დეპარდიე\, კაროლ ბუკე\, ჟოზენ ბალასკო. \nჩვენება გაიმართება ილიას სახელმწიფო უნივერსიტეტის A კორპუსში (ჭავჭავაძის 32)\, აუდიტორია 101. \n\n[wpai_display_imported_files_here]
URL:https://events.iliauni.edu.ge/event/unikino-28-maiss-zedmetad-lamazi-shenthvis/
CATEGORIES:უნიკინოს აფიშა
ATTACH;FMTTYPE=image/png:https://events.iliauni.edu.ge/wp-content/uploads/2025/09/cover_default.png
END:VEVENT
BEGIN:VEVENT
DTSTART;TZID=Asia/Dubai:20100517T192100
DTEND;TZID=Asia/Dubai:20100517T192100
DTSTAMP:20260422T001238
CREATED:20100517T152159Z
LAST-MODIFIED:20240201T113153Z
UID:10000375-1274124060-1274124060@events.iliauni.edu.ge
SUMMARY:უნიკინო 21 მაისს: 'რკინის ჯავშანი'
DESCRIPTION:პარასკევს\, 21 მაისს\, 18.00 საათზე\,  უნიკინოში ნაჩვენები იქნება სტენლი კუბრიკის ფილმი ”რკინის ჯავშანი”. მონაწილეობენ: მეთიუ მოდინი\, რ.ლი ერმი\, ერლის ჰოვარდი\, ადამ ბოლდუინი. \nჩვენება გაიმართება ილიას სახელმწიფო უნივერსიტეტის A კორპუსი (ჭავჭავაძის 32)\, აუდიტორია 101. \n\n[wpai_display_imported_files_here]
URL:https://events.iliauni.edu.ge/event/unikino-21-maiss-rkinis-javshani/
CATEGORIES:უნიკინოს აფიშა
ATTACH;FMTTYPE=image/png:https://events.iliauni.edu.ge/wp-content/uploads/2025/09/cover_default.png
END:VEVENT
BEGIN:VEVENT
DTSTART;TZID=Asia/Dubai:20100510T000000
DTEND;TZID=Asia/Dubai:20100510T000000
DTSTAMP:20260422T001238
CREATED:20100509T200000Z
LAST-MODIFIED:20240201T113114Z
UID:10000351-1273449600-1273449600@events.iliauni.edu.ge
SUMMARY:უნიკინო 14 მაისს: ”კოდი უცნობია”
DESCRIPTION:პარასკევს\, 14 მაისს\, 18.00 საათზე\, უნიკინო წარმოგიდგენთ მიხაელ ჰანეკეს ფილმს ”კოდი უცნობია”\, ჯულიეტ ბინოშის მონაწილეობით. მისამართი: ი.ჭავჭავაძის გამზ. 32\, A კორპუსი\, 101 აუდიტორია. \n\n[wpai_display_imported_files_here]
URL:https://events.iliauni.edu.ge/event/unikino-14-maiss-kodi-utsnobia/
CATEGORIES:უნიკინოს აფიშა
ATTACH;FMTTYPE=image/png:https://events.iliauni.edu.ge/wp-content/uploads/2025/09/cover_default.png
END:VEVENT
BEGIN:VEVENT
DTSTART;TZID=Asia/Dubai:20100505T125300
DTEND;TZID=Asia/Dubai:20100505T125300
DTSTAMP:20260422T001238
CREATED:20100505T085325Z
LAST-MODIFIED:20240201T113347Z
UID:10000435-1273063980-1273063980@events.iliauni.edu.ge
SUMMARY:უნიკინო 7 მაისს: ”კაკუნი სამოთხის კარზე”
DESCRIPTION:პარასკევს\, 7 მაისს\,  უნიკინოში ნაჩვენები იქნება მარტინ იანის ფილმი ”კაკუნი სამოთხის კარზე”. დასაწყისი 18.00 საათზე\, A კორპუსი (ჭავჭავაძის 32)\, აუდიტორია 101. დასწრება თავისუფალია. \n  \n\n[wpai_display_imported_files_here]
URL:https://events.iliauni.edu.ge/event/unikino-7-maiss-kakuni-samothkhis-karze/
CATEGORIES:უნიკინოს აფიშა
ATTACH;FMTTYPE=image/png:https://events.iliauni.edu.ge/wp-content/uploads/2025/09/cover_default.png
END:VEVENT
BEGIN:VEVENT
DTSTART;TZID=Asia/Dubai:20100428T110900
DTEND;TZID=Asia/Dubai:20100428T110900
DTSTAMP:20260422T001238
CREATED:20100428T070943Z
LAST-MODIFIED:20240201T113552Z
UID:10000495-1272452940-1272452940@events.iliauni.edu.ge
SUMMARY:უნიკინო 30 აპრილს: ”კარზე ვინ მიკაკუნებს”
DESCRIPTION:პარასკევს\, 30 აპრილს უნიკინოში ნაჩვენები იქნება მარტინ სკორსეზეს ფილმი “კარზე ვინ მიკაკუნებს”. დასაწყისი 18.00 საათზე\, A კორპუსი (ჭავჭავაძის 32)\, აუდიტორია 101. დასწრება თავისუფალია. \n\n[wpai_display_imported_files_here]
URL:https://events.iliauni.edu.ge/event/unikino-30-aprils-karze-vin-mikakunebs/
CATEGORIES:უნიკინოს აფიშა
ATTACH;FMTTYPE=image/png:https://events.iliauni.edu.ge/wp-content/uploads/2025/09/cover_default.png
END:VEVENT
BEGIN:VEVENT
DTSTART;TZID=Asia/Dubai:20100420T182800
DTEND;TZID=Asia/Dubai:20100420T182800
DTSTAMP:20260422T001238
CREATED:20100420T142802Z
LAST-MODIFIED:20240201T113740Z
UID:10000554-1271788080-1271788080@events.iliauni.edu.ge
SUMMARY:უნიკინო 23 აპრილს: ”ქვიშის ქვეშ”
DESCRIPTION:პარასკევს\, 23 აპრილს უნიკინოში ნაჩვენები იქნება ფრანგი რეჟისორის\, ფრანსუა ოზონის ფილმი “ქვიშის ქვეშ” (2000). შარლოტ რამპლინი\, ბრუნო კრემერი და ჟაკ ნოლოტის მონაწილეობით. \nდასაწყისი 18.00 საათზე\, A კორპუსი (ჭავჭავაძის 32)\, აუდიტორია 101. დასწრება თავისუფალია. http://www.imdb.com/title/tt0240913/ \n\n\n[wpai_display_imported_files_here]
URL:https://events.iliauni.edu.ge/event/unikino-23-aprils-qvishis-qvesh/
CATEGORIES:უნიკინოს აფიშა
ATTACH;FMTTYPE=image/png:https://events.iliauni.edu.ge/wp-content/uploads/2025/09/cover_default.png
END:VEVENT
BEGIN:VEVENT
DTSTART;TZID=Asia/Dubai:20100412T000000
DTEND;TZID=Asia/Dubai:20100412T000000
DTSTAMP:20260422T001238
CREATED:20100411T200000Z
LAST-MODIFIED:20240201T113935Z
UID:10000591-1271030400-1271030400@events.iliauni.edu.ge
SUMMARY:უნიკინო 16 აპრილი\, 2010: ”აქიცინე ძაღლი”
DESCRIPTION:16 აპრილს\, 18.00 საათზე\, უნიკინოში ნახავთ ბარო ლევინსონის ფილმს\, ”აქიცინე ძაღლი”\, რობერტ დენიროს\, დასტინ ჰოფმანის და ენ ჰეჩის მონაწილებით. \nმისამართი: ი. ჭავჭავაძის გამზ. 32\, 101 – ე აუდიტორია. \n\n\n[wpai_display_imported_files_here]
URL:https://events.iliauni.edu.ge/event/unikino-16-aprili-2010-aqitsine-dzaghli/
CATEGORIES:უნიკინოს აფიშა
ATTACH;FMTTYPE=image/png:https://events.iliauni.edu.ge/wp-content/uploads/2025/09/cover_default.png
END:VEVENT
BEGIN:VEVENT
DTSTART;TZID=Asia/Dubai:20100322T000000
DTEND;TZID=Asia/Dubai:20100322T000000
DTSTAMP:20260422T001238
CREATED:20100321T200000Z
LAST-MODIFIED:20240201T114933Z
UID:10000815-1269216000-1269216000@events.iliauni.edu.ge
SUMMARY:უნიკინო 26 მარტი\, 2010: ”Good bye\, Lenin! ”
DESCRIPTION:პარასკევს\, 26 მარტს\, 18.00 საათზე\, უნიკინო წარმოგიდგენთ ფილმს Good Bye\, Lenin! \nდასწრება თავისუფალია. მის: ი. ჭავჭავაძის გამზ.32\, ”ა” კორპუსი\, 101 – ე აუდიტორია. \n\n\n[wpai_display_imported_files_here]
URL:https://events.iliauni.edu.ge/event/unikino-26-marti-2010-good-bye-lenin/
CATEGORIES:უნიკინოს აფიშა
ATTACH;FMTTYPE=image/png:https://events.iliauni.edu.ge/wp-content/uploads/2025/09/cover_default.png
END:VEVENT
BEGIN:VEVENT
DTSTART;TZID=Asia/Dubai:20100315T000000
DTEND;TZID=Asia/Dubai:20100315T000000
DTSTAMP:20260422T001238
CREATED:20100314T200000Z
LAST-MODIFIED:20240201T114943Z
UID:10000820-1268611200-1268611200@events.iliauni.edu.ge
SUMMARY:უნიკინო\, 19 მარტი\, 2010: ”ვაცლავ ჰაველი”
DESCRIPTION:პარასკევს\, 19 მარტს\, 18.00 საათზე\, უნიკინო წარმოგიდგენთ პეტრ აინჩარეკის დოკუმენტურ ფილმს ”ვაცლავ ჰამელი”. \nდასწრება თავისუფალია. მის: ი. ჭავჭავაძის გამზ. 32\, ”ა” კორპუსი\, 101 – ე აუდიტორია. \n\n\n[wpai_display_imported_files_here]
URL:https://events.iliauni.edu.ge/event/unikino-19-marti-2010-vatslav-haveli/
CATEGORIES:უნიკინოს აფიშა
ATTACH;FMTTYPE=image/png:https://events.iliauni.edu.ge/wp-content/uploads/2025/09/cover_default.png
END:VEVENT
BEGIN:VEVENT
DTSTART;TZID=Asia/Dubai:20100201T000000
DTEND;TZID=Asia/Dubai:20100201T000000
DTSTAMP:20260422T001238
CREATED:20100131T200000Z
LAST-MODIFIED:20240201T115346Z
UID:10000905-1264982400-1264982400@events.iliauni.edu.ge
SUMMARY:უნიკინო 5 თებერვალი\, 2010: ” ფანჯარა ეზოს მხარეს”
DESCRIPTION:პარასკევს\, 5 თებერვალს\, 18.00 საათზე\, უნიკინოში ნახავთ ალფრედ ჰიჩკოკის ფილმს “ფანჯარა ეზოს მხარეს”. ჩვენება გაიმართება 18.00 საათზე\, 101 აუდიტორიაში. \n\n\n[wpai_display_imported_files_here]
URL:https://events.iliauni.edu.ge/event/unikino-5-thebervali-2010-phanjara-ezos-mkhares/
CATEGORIES:უნიკინოს აფიშა
ATTACH;FMTTYPE=image/png:https://events.iliauni.edu.ge/wp-content/uploads/2025/09/cover_default.png
END:VEVENT
BEGIN:VEVENT
DTSTART;TZID=Asia/Dubai:20100125T000000
DTEND;TZID=Asia/Dubai:20100125T000000
DTSTAMP:20260422T001238
CREATED:20100124T200000Z
LAST-MODIFIED:20240201T112541Z
UID:10000203-1264377600-1264377600@events.iliauni.edu.ge
SUMMARY:უნიკინო\, 29 იანვარი\, 2010: ”გზა”
DESCRIPTION:პარასკევს\, 29 იანვარს\, 18.00 საათზე\, უნიკინოში ნაჩვენები იქნება ფედერიკო ფელინის ფილმი “გზა” La strada ენთონი ქვინის და ჯულიეტა მაზინას მონაწილეობით. მის.: ილია ჭავჭავაძის გამზ.32\, უნივერსიტეტის ”ა” კორპუსი\, 101-ე აუდიტორია. \n\n\n[wpai_display_imported_files_here]
URL:https://events.iliauni.edu.ge/event/unikino-29-ianvari-2010-gza/
CATEGORIES:უნიკინოს აფიშა
ATTACH;FMTTYPE=image/png:https://events.iliauni.edu.ge/wp-content/uploads/2025/09/cover_default.png
END:VEVENT
BEGIN:VEVENT
DTSTART;TZID=Asia/Dubai:20100118T000000
DTEND;TZID=Asia/Dubai:20100118T000000
DTSTAMP:20260422T001238
CREATED:20100117T200000Z
LAST-MODIFIED:20240201T112428Z
UID:10000165-1263772800-1263772800@events.iliauni.edu.ge
SUMMARY:უნიკინო\, 22 იანვარი\, 2010: 'ჩვენი მამების დროშები'
DESCRIPTION:პარასკევს\, 22 იანვარს\, 18.00 საათზე\, უნიკინოში ნახავთ ფილმს კლინტ ისტვუდის ფილმს “ჩვენი მამების დროშები”. \nჩვენება გაიმართება 18.00 საათზე\, 101 აუდიტორიაში. \n\n[wpai_display_imported_files_here]
URL:https://events.iliauni.edu.ge/event/unikino-22-ianvari-2010-chveni-mamebis-droshebi/
CATEGORIES:უნიკინოს აფიშა
ATTACH;FMTTYPE=image/png:https://events.iliauni.edu.ge/wp-content/uploads/2025/09/cover_default.png
END:VEVENT
BEGIN:VEVENT
DTSTART;TZID=Asia/Dubai:20091222T000000
DTEND;TZID=Asia/Dubai:20091222T000000
DTSTAMP:20260422T001238
CREATED:20091221T200000Z
LAST-MODIFIED:20240201T112437Z
UID:10000171-1261440000-1261440000@events.iliauni.edu.ge
SUMMARY:უნიკინო 25 დეკემბერს ”დონ ხუან დი მარკო”
DESCRIPTION:პარასკევს\, 25 დეკემბერს\, 18.00 საათზე\, უნიკინოში ნახავთ ფილმს “დონ ხუან დი მარკო” ჯონი დეპის\, მარლონ ბრანდოს\, ფეი დანაუეის მონაწილეობით. \n\n\n[wpai_display_imported_files_here]
URL:https://events.iliauni.edu.ge/event/unikino-25-dekembers-don-khuan-di-marko/
CATEGORIES:უნიკინოს აფიშა
ATTACH;FMTTYPE=image/png:https://events.iliauni.edu.ge/wp-content/uploads/2025/09/cover_default.png
END:VEVENT
END:VCALENDAR