BEGIN:VCALENDAR
VERSION:2.0
PRODID:-//უნივერსიტეტის ღონისძიებების პორტალი - ECPv6.2.8.2//NONSGML v1.0//EN
CALSCALE:GREGORIAN
METHOD:PUBLISH
X-ORIGINAL-URL:https://events.iliauni.edu.ge
X-WR-CALDESC:Events for უნივერსიტეტის ღონისძიებების პორტალი
REFRESH-INTERVAL;VALUE=DURATION:PT1H
X-Robots-Tag:noindex
X-PUBLISHED-TTL:PT1H
BEGIN:VTIMEZONE
TZID:Asia/Dubai
BEGIN:STANDARD
TZOFFSETFROM:+0400
TZOFFSETTO:+0400
TZNAME:+04
DTSTART:20100101T000000
END:STANDARD
END:VTIMEZONE
BEGIN:VEVENT
DTSTART;TZID=Asia/Dubai:20111121T145700
DTEND;TZID=Asia/Dubai:20111121T145700
DTSTAMP:20260422T001345
CREATED:20111121T105740Z
LAST-MODIFIED:20240202T083709Z
UID:10004511-1321887420-1321887420@events.iliauni.edu.ge
SUMMARY:უნიკინო 25 ნოემბერს: ”ენი ჰოლი”
DESCRIPTION:პარასკევს\, 25 ნოემბერს\, 18:00 საათზე\, ილიას უნივერსიტეტის A კორპუსში\, 101-ე აუდიტორიაში\, ნაჩვენები იქნება ვუდი ალენის ფილმი ”ენი ჰოლი”. მონაწილეობენ: ვუდი ალენი\, დაიან კიტონი\, ტონი რობერტსი\, პოლ საიმონი და სხვები. \nდასწრება თავისუფალია. \nთარგმანი: ცირა სიფრაშვილი. \n\n[wpai_display_imported_files_here]
URL:https://events.iliauni.edu.ge/event/unikino-25-noembers-eni-holi/
CATEGORIES:უნიკინოს აფიშა
ATTACH;FMTTYPE=image/png:https://events.iliauni.edu.ge/wp-content/uploads/2025/09/cover_default.png
END:VEVENT
BEGIN:VEVENT
DTSTART;TZID=Asia/Dubai:20111114T174200
DTEND;TZID=Asia/Dubai:20111114T174200
DTSTAMP:20260422T001345
CREATED:20111114T134228Z
LAST-MODIFIED:20240202T083557Z
UID:10004491-1321292520-1321292520@events.iliauni.edu.ge
SUMMARY:უნიკინო 18 ნოემბერს: ”ეს უხილავი ბავშვები”
DESCRIPTION:პარასკევს\, 18 ნოემბერს\, 18:00 საათზე\, ილიას უნივერსიტეტის A კორპუსში\, 101-ე აუდიტორიაში\, ნაჩვენები იქნება ემირ კუსტურიცას ფილმი ”ეს უხილავი ბავშვები”. \nდასწრება თავისუფალია. \n\n[wpai_display_imported_files_here]
URL:https://events.iliauni.edu.ge/event/unikino-18-noembers-es-ukhilavi-bavshvebi/
CATEGORIES:უნიკინოს აფიშა
ATTACH;FMTTYPE=image/png:https://events.iliauni.edu.ge/wp-content/uploads/2025/09/cover_default.png
END:VEVENT
BEGIN:VEVENT
DTSTART;TZID=Asia/Dubai:20111108T124200
DTEND;TZID=Asia/Dubai:20111108T124200
DTSTAMP:20260422T001345
CREATED:20111108T084232Z
LAST-MODIFIED:20240202T083425Z
UID:10004473-1320756120-1320756120@events.iliauni.edu.ge
SUMMARY:უნიკინო 11 ნოემბერს: ”მწვანე ქუჩის ხულიგნები”
DESCRIPTION:პარასკევს\, 11 ნოემბერს\, 18:00 საათზე\, ილიას უნივერსიტეტის A კორპუსში\, 101-ე აუდიტორიაში\, ნაჩვენები იქნება ლექსი ალექსანდერის ფილმი ”მწვანე ქუჩის ხულიგნები”. მონაწილეობენ: ელია ვუდი\, ჩარლი ჰიუნამი\, დევიდ ალექსანდერი და სხვები. \nდასწრება თავისუფალია. \nთარგმანი: ქეთევან ნაკაშიძე. \n\n[wpai_display_imported_files_here]
URL:https://events.iliauni.edu.ge/event/unikino-11-noembers-mtsvane-quchis-khulignebi/
CATEGORIES:უნიკინოს აფიშა
ATTACH;FMTTYPE=image/png:https://events.iliauni.edu.ge/wp-content/uploads/2025/09/cover_default.png
END:VEVENT
BEGIN:VEVENT
DTSTART;TZID=Asia/Dubai:20111102T141700
DTEND;TZID=Asia/Dubai:20111102T141700
DTSTAMP:20260422T001345
CREATED:20111102T101738Z
LAST-MODIFIED:20240202T083431Z
UID:10004478-1320243420-1320243420@events.iliauni.edu.ge
SUMMARY:უნიკინო 4 ნოემბერს: ”მექანიკური ფორთოხალი”
DESCRIPTION:პარასკევს\, 4 ნოემბერს\, 18:00 საათზე\, ილიას უნივერსიტეტის A კორპუსში\, 101-ე აუდიტორიაში\, ნაჩვენები იქნება სტენლი კუბრიკის ფილმი\, ”მექანიკური ფორთოხალი” (1971). მონაწილეობენ: მალკოლმ მაკდაუელი\, პატრიკ მეგი\, უორენ კლარკი და სხვები. ფილმი მოგვაწოდა საზოგადოებრივი მაუწყებლის პირველმა არხმა. \nდასწრება თავისუფალია. \n\n[wpai_display_imported_files_here]
URL:https://events.iliauni.edu.ge/event/unikino-4-noembers-meqanikuri-phorthokhali/
CATEGORIES:უნიკინოს აფიშა
ATTACH;FMTTYPE=image/png:https://events.iliauni.edu.ge/wp-content/uploads/2025/09/cover_default.png
END:VEVENT
BEGIN:VEVENT
DTSTART;TZID=Asia/Dubai:20111025T165000
DTEND;TZID=Asia/Dubai:20111025T165000
DTSTAMP:20260422T001345
CREATED:20111025T125052Z
LAST-MODIFIED:20240202T083112Z
UID:10004434-1319561400-1319561400@events.iliauni.edu.ge
SUMMARY:უნიკინო 28 ოქტომბერს: ”სრულყოფილი სამყარო”
DESCRIPTION:პარასკევს\, 28 ოქტომბერს\, 18:00 საათზე\, ილიას უნივერსიტეტის A კორპუსში\, 101-ე აუდიტორიაში\, ნაჩვენები იქნება კლინტ ისტვუდის ფილმი ”სრულყოფილი სამყარო” (1993). მონაწილეობენ: კევინ კოსტნერი\, კლინტ ისტვუდი\, ლორა დერნი\, პოლ ჰიუიტი და სხვები. თარგმანი: თამარ ბაღიშვილი. \n\n[wpai_display_imported_files_here]
URL:https://events.iliauni.edu.ge/event/unikino-28-oqtombers-srulqhophili-samqharo/
CATEGORIES:უნიკინოს აფიშა
ATTACH;FMTTYPE=image/png:https://events.iliauni.edu.ge/wp-content/uploads/2025/09/cover_default.png
END:VEVENT
BEGIN:VEVENT
DTSTART;TZID=Asia/Dubai:20111004T173500
DTEND;TZID=Asia/Dubai:20111004T173500
DTSTAMP:20260422T001345
CREATED:20111004T133543Z
LAST-MODIFIED:20240202T082240Z
UID:10004292-1317749700-1317749700@events.iliauni.edu.ge
SUMMARY:უნიკინო 21 ოქტომბერს: ”პრინცესა მონონოკი”
DESCRIPTION:პარასკევს\, 21 ოქტომბერს\, 18:00 საათზე\, ილიას უნივერსიტეტის A კორპუსში\, 101-ე აუდიტორიაში (ი. ჭავჭავაძის გამზ. 32)\, ნაჩვენები იქნება ჰაიაო მიაზაკის ანიმაციური ფილმი ”პრინცესა მონონოკი”. თარგმანი: ანნა კორიფაძე. \nდასწრება თავისუფალია. \n\n[wpai_display_imported_files_here]
URL:https://events.iliauni.edu.ge/event/unikino-21-oqtombers-printsesa-mononoki/
CATEGORIES:უნიკინოს აფიშა
ATTACH;FMTTYPE=image/png:https://events.iliauni.edu.ge/wp-content/uploads/2025/09/cover_default.png
END:VEVENT
BEGIN:VEVENT
DTSTART;TZID=Asia/Dubai:20110607T162300
DTEND;TZID=Asia/Dubai:20110607T162300
DTSTAMP:20260422T001345
CREATED:20110607T122358Z
LAST-MODIFIED:20240202T075810Z
UID:10003901-1307463780-1307463780@events.iliauni.edu.ge
SUMMARY:ანიმაციური ფილმების კრებული
DESCRIPTION:10 ივნისს\, 18:00 საათზე\, ილიას სახელმწიფო უნივერსიტეტის A კორპუსში\, 101-ე აუდიტორიაში\, განმეორებით იქნება ნაჩვენები ანიმაციური ფილმების კრებული: CREATURE COMFORTS (Nick Park – winner\, 1990); BALANCE (Lauenstein – winner\, 1989); TECHNOLOGICAL THREAT (Kroyer – nominee\, 1988); THE CAT CAME BACK (Barker – nominee\, 1988); YOUR FACE  (Plympton – nominee\, 1987) EVERY CHILD (Fedorenco and Lamb – winner\, 1979). \n\n[wpai_display_imported_files_here]
URL:https://events.iliauni.edu.ge/event/animatsiuri-philmebis-krebuli-2/
CATEGORIES:უნიკინოს აფიშა
ATTACH;FMTTYPE=image/png:https://events.iliauni.edu.ge/wp-content/uploads/2025/09/cover_default.png
END:VEVENT
BEGIN:VEVENT
DTSTART;TZID=Asia/Dubai:20110530T172500
DTEND;TZID=Asia/Dubai:20110530T172500
DTSTAMP:20260422T001345
CREATED:20110530T132546Z
LAST-MODIFIED:20240202T075441Z
UID:10003870-1306776300-1306776300@events.iliauni.edu.ge
SUMMARY:უნიკინო 3 ივნისს: ”ვის ეშინია ვირჯინია ვულფის?”
DESCRIPTION:პარასკევს\, 3 ივნისს\, 18:00 საათზე\, ილიას უნივერსიტეტის A კორპუსში\, 101-ე აუდიტორიაში\, ნაჩვენები იქნება მაიკ ნიკოლსის ფილმი ”ვის ეშინია ვირჯინია ვულფის?” (1966). მონაწილეობენ: ელიზაბეტ ტეილორი\, რიჩარდ ბარტონი\, ჯორჯ სიგალი\, სანდი დენისი და სხვები. ფილმის ჩვენება ხორციელდება პირველი არხის ხელშეწყობით. \nდასწრება თავისუფალია. \n\n[wpai_display_imported_files_here]
URL:https://events.iliauni.edu.ge/event/unikino-3-ivniss-vis-eshinia-virjinia-vulphis/
CATEGORIES:უნიკინოს აფიშა
ATTACH;FMTTYPE=image/png:https://events.iliauni.edu.ge/wp-content/uploads/2025/09/cover_default.png
END:VEVENT
BEGIN:VEVENT
DTSTART;TZID=Asia/Dubai:20110524T190300
DTEND;TZID=Asia/Dubai:20110524T190300
DTSTAMP:20260422T001345
CREATED:20110524T150357Z
LAST-MODIFIED:20240202T075136Z
UID:10003798-1306263780-1306263780@events.iliauni.edu.ge
SUMMARY:ანიმაციური ფილმების კრებული
DESCRIPTION:პარასკევს\, 27 მაისს\, 18:00 საათზე\, ილიას უნივერსიტეტის A კორპუსში\, 101-ე აუდიტორიაში\, ნაჩვენები იქნება ანიმაციური ფილმების კრებული:  CREATURE COMFORTS (Nick Park – winner\, 1990); BALANCE (Lauenstein – winner\, 1989); TECHNOLOGICAL THREAT (Kroyer – nominee\, 1988); THE CAT CAME BACK (Barker – nominee\, 1988); YOUR FACE  (Plympton – nominee\, 1987) EVERY CHILD (Fedorenco and Lamb – winner\, 1979). \n\n[wpai_display_imported_files_here]
URL:https://events.iliauni.edu.ge/event/animatsiuri-philmebis-krebuli/
CATEGORIES:უნიკინოს აფიშა
ATTACH;FMTTYPE=image/png:https://events.iliauni.edu.ge/wp-content/uploads/2025/09/cover_default.png
END:VEVENT
BEGIN:VEVENT
DTSTART;TZID=Asia/Dubai:20110517T170700
DTEND;TZID=Asia/Dubai:20110517T170700
DTSTAMP:20260422T001345
CREATED:20110517T130738Z
LAST-MODIFIED:20240202T074642Z
UID:10003701-1305652020-1305652020@events.iliauni.edu.ge
SUMMARY:უნიკინო 20 მაისს: ”ჩემი მარცხენა ფეხი”
DESCRIPTION:პარასკევს\, 20 მაისს\, 18:00 საათზე\, ილიას უნივერსიტეტის A კორპუსში\, 101-ე აუდიტორიაში\, ნაჩვენები იქნება ჯიმ შერიდანის ფილმი ”ჩემი მარცხენა ფეხი”. მონაწილეობენ: დენიელ დეი-ლიუისი\, ბრენდა ფრიკერი\, ელისონ ვილანი\, კირსტენ შერიდანი და სხვები. თარგმანი: ანნა კორიფაძე. \nდასწრება თავისუფალია. \n\n[wpai_display_imported_files_here]
URL:https://events.iliauni.edu.ge/event/unikino-20-maiss-chemi-martskhena-phekhi/
CATEGORIES:უნიკინოს აფიშა
ATTACH;FMTTYPE=image/png:https://events.iliauni.edu.ge/wp-content/uploads/2025/09/cover_default.png
END:VEVENT
BEGIN:VEVENT
DTSTART;TZID=Asia/Dubai:20110510T162800
DTEND;TZID=Asia/Dubai:20110510T162800
DTSTAMP:20260422T001345
CREATED:20110510T122840Z
LAST-MODIFIED:20240202T074352Z
UID:10003626-1305044880-1305044880@events.iliauni.edu.ge
SUMMARY:უნიკინო 13 მაისს: ”განდგომილები”
DESCRIPTION:პარასკევს\, 13 მაისს\, 18:00 საათზე\, ილიას უნივერსიტეტის A კორპუსში\, 101-ე აუდიტორიაში\, ნაჩვენები იქნება მარტინ სკორსეზეს ფილმი ”განდგომილები”. მონაწილეობენ: ლეონარდო დი კაპრიო\, მეტ დეიმონი\, ჯეკ ნიკოლსონი\, მარტინ შინი\, ალექს ბოლდვინი და სხვები.  \nდასწრება თავისუფალია. \n\n[wpai_display_imported_files_here]
URL:https://events.iliauni.edu.ge/event/unikino-13-maiss-gandgomilebi/
CATEGORIES:უნიკინოს აფიშა
ATTACH;FMTTYPE=image/png:https://events.iliauni.edu.ge/wp-content/uploads/2025/09/cover_default.png
END:VEVENT
BEGIN:VEVENT
DTSTART;TZID=Asia/Dubai:20110426T163000
DTEND;TZID=Asia/Dubai:20110426T163000
DTSTAMP:20260422T001345
CREATED:20110426T123041Z
LAST-MODIFIED:20240202T073756Z
UID:10003522-1303835400-1303835400@events.iliauni.edu.ge
SUMMARY:უნიკინო 29 აპრილს: ”თომას ქრაუნის საქმე”
DESCRIPTION:პარასკევს\, 29 აპრილს\, 18:00 საათზე\, ილიას უნივერსიტეტის A კორპუსში\,  101-ე აუდიტორიაში\, ნაჩვენები იქნება ჯონ მაკტირნანის ფილმი ”თომას  ქრაუნის საქმე”. მონაწილეობენ: პირს ბროსნანი\, რენე რუსო\, დენის ლირი\, ბენ  გაზარა და სხვები. თარგმანი: მარიამ ლაბაური.\nდასწრება თავისუფალია.\n\n[wpai_display_imported_files_here]
URL:https://events.iliauni.edu.ge/event/unikino-29-aprils-thomas-qraunis-saqme/
CATEGORIES:უნიკინოს აფიშა
ATTACH;FMTTYPE=image/png:https://events.iliauni.edu.ge/wp-content/uploads/2025/09/cover_default.png
END:VEVENT
BEGIN:VEVENT
DTSTART;TZID=Asia/Dubai:20110411T172200
DTEND;TZID=Asia/Dubai:20110411T172200
DTSTAMP:20260422T001345
CREATED:20110411T132216Z
LAST-MODIFIED:20240202T073527Z
UID:10003469-1302542520-1302542520@events.iliauni.edu.ge
SUMMARY:უნიკინო 15 აპრილს: ”რასიომონი”
DESCRIPTION:პარასკევს\, 15 აპრილს\, 18:00 საათზე\, ილიას უნივერსიტეტის A კორპუსში\, 101-ე აუდიტორიაში\, ნაჩვენები იქნება აკირა კუროსავას ფილმი ”რასიომონი” (1950). მონაწილეობენ: ტოშირო მიფუნე\, მაჩიკო კიო\, მასაიუკი მორი\, ტაკაში შიმურა და სხვები. \nფილმის ჩვენება ხორციელდება პირველი არხის ხელშეწყობით. \nდასწრება თავისუფალია. \n\n[wpai_display_imported_files_here]
URL:https://events.iliauni.edu.ge/event/unikino-15-aprils-rasiomoni/
CATEGORIES:უნიკინოს აფიშა
ATTACH;FMTTYPE=image/png:https://events.iliauni.edu.ge/wp-content/uploads/2025/09/cover_default.png
END:VEVENT
BEGIN:VEVENT
DTSTART;TZID=Asia/Dubai:20110401T000000
DTEND;TZID=Asia/Dubai:20110401T000000
DTSTAMP:20260422T001345
CREATED:20110331T200000Z
LAST-MODIFIED:20240202T073237Z
UID:10003425-1301616000-1301616000@events.iliauni.edu.ge
SUMMARY:უნიკინო 8 აპრილს: ”ლოლა გარბის”
DESCRIPTION:პარასკევს\, 8 აპრილს\, 18:00 საათზე\, ილიას უნივერსიტეტის A კორპუსში\, 101-ე აუდიტორიაში\, ნაჩვენები იქნება ტომ ტიკვერის ფილმი ”ლოლა გარბის” (1998). \nმონაწილეობენ: ფრანკა პოტენტე\, მორიც ბლაიბტროი\, ჰერბერტ კნაუპი\, ნინა პეტრი და სხვები. \n\n[wpai_display_imported_files_here]
URL:https://events.iliauni.edu.ge/event/unikino-8-aprils-lola-garbis/
CATEGORIES:უნიკინოს აფიშა
ATTACH;FMTTYPE=image/png:https://events.iliauni.edu.ge/wp-content/uploads/2025/09/cover_default.png
END:VEVENT
BEGIN:VEVENT
DTSTART;TZID=Asia/Dubai:20110328T161700
DTEND;TZID=Asia/Dubai:20110328T161700
DTSTAMP:20260422T001345
CREATED:20110328T121751Z
LAST-MODIFIED:20240202T073007Z
UID:10003379-1301329020-1301329020@events.iliauni.edu.ge
SUMMARY:უნიკინო 1 აპრილს: ”როკო და მისი ძმები”
DESCRIPTION:პარასკევს\, 1 აპრილს\, 18:00 საათზე\, ილიას უნივერსიტეტის A კორპუსში\, 101-ე აუდიტორიაში\, ნაჩვენები იქნება ლუკინო ვისკონტის ფილმი ”როკო და მისი ძმები” (1960). მონაწილეობენ: ალენ დელონი\, რენატო სალვატორი\, ანი ჟირარდო და სხვები.  \nფილმის ჩვენება ხორციელდება პირველი არხის ხელშეწყობით. \n\n[wpai_display_imported_files_here]
URL:https://events.iliauni.edu.ge/event/unikino-1-aprils-roko-da-misi-dzmebi/
CATEGORIES:უნიკინოს აფიშა
ATTACH;FMTTYPE=image/png:https://events.iliauni.edu.ge/wp-content/uploads/2025/09/cover_default.png
END:VEVENT
BEGIN:VEVENT
DTSTART;TZID=Asia/Dubai:20110321T160800
DTEND;TZID=Asia/Dubai:20110321T160800
DTSTAMP:20260422T001345
CREATED:20110321T120806Z
LAST-MODIFIED:20240202T072548Z
UID:10003279-1300723680-1300723680@events.iliauni.edu.ge
SUMMARY:უნიკინო 25 მარტს: ”წითელი უდაბნო”
DESCRIPTION:პარასკევს\, 25 მარტს\, 18:00 საათზე\, ილიას უნივერსიტეტის A კორპუსში\, 101-ე აუდიტორიაში (ი.ჭავჭავაძის გამზ.32)\, ნაჩვენები იქნება მიქელანჯელო ანტონიონის ფილმი ”წითელი უდაბნო” (1964). მონაწილეობენ: მონიკა ვიტი\, რიჩარდ ჰარისი\, კარლო კიონეტი\, ქსენია ვალდერი და სხვები. ფილმის ჩვენება ხორციელდება პირველი არხის ხელშეწყობით. \nდასწრება თავისუფალია. \n\n[wpai_display_imported_files_here]
URL:https://events.iliauni.edu.ge/event/unikino-25-marts-tsitheli-udabno/
CATEGORIES:უნიკინოს აფიშა
ATTACH;FMTTYPE=image/png:https://events.iliauni.edu.ge/wp-content/uploads/2025/09/cover_default.png
END:VEVENT
BEGIN:VEVENT
DTSTART;TZID=Asia/Dubai:20110314T154000
DTEND;TZID=Asia/Dubai:20110314T154000
DTSTAMP:20260422T001345
CREATED:20110314T114021Z
LAST-MODIFIED:20240202T072144Z
UID:10003187-1300117200-1300117200@events.iliauni.edu.ge
SUMMARY:უნიკინო 18 მარტს: ”ღმერთის ქალაქი”
DESCRIPTION:პარასკევს\, 18 მარტს\, 18:00 საათზე\, ილიას უნივერსიტეტის A კორპუსში\, 101-ე აუდიტორიაში\, ნაჩვენები იქნება ლატია ლიუნდის და ფერნანდუ მეირელიშის ფილმი ”ღმერთის ქალაქი” (2002). \nმონაწილეობენ: ელის ბრეგა\, ჯონათან ჰააგენსენი\, სეუ ხორხე\, ლეანდრო ფირმინო\, მათეუს ნაჰტერგეილი\, ალექსანდრე როდრიგეზი\, დუგლას სილვა და სხვები. \n\n[wpai_display_imported_files_here]
URL:https://events.iliauni.edu.ge/event/unikino-18-marts-ghmerthis-qalaqi/
CATEGORIES:უნიკინოს აფიშა
ATTACH;FMTTYPE=image/png:https://events.iliauni.edu.ge/wp-content/uploads/2025/09/cover_default.png
END:VEVENT
BEGIN:VEVENT
DTSTART;TZID=Asia/Dubai:20110307T162800
DTEND;TZID=Asia/Dubai:20110307T162800
DTSTAMP:20260422T001345
CREATED:20110307T122831Z
LAST-MODIFIED:20240202T072000Z
UID:10003172-1299515280-1299515280@events.iliauni.edu.ge
SUMMARY:უნიკინო 11 მარტს: ”ტკბილი ცხოვრება”
DESCRIPTION:პარასკევს\, 11 მარტს\, 18:00 საათზე\, ილიას უნივერსიტეტის A კორპუსში\, 101-ე აუდიტორიაში\, ნაჩვენები იქნება ფედერიკო ფელინის ფილმი ”ტკბილი ცხოვრება” (1960).  \nმონაწილეობენ: მარჩელო მასტროიანი\, ანიტა ეკბერგი\, ანუკ ემე\, მეგალი ნოელი და სხვები.  \nფილმის ჩვენება ხორციელდება ”პირველი არხის” ხელშეწყობით. \n\n[wpai_display_imported_files_here]
URL:https://events.iliauni.edu.ge/event/unikino-11-marts-tkbili-tskhovreba/
CATEGORIES:უნიკინოს აფიშა
ATTACH;FMTTYPE=image/png:https://events.iliauni.edu.ge/wp-content/uploads/2025/09/cover_default.png
END:VEVENT
BEGIN:VEVENT
DTSTART;TZID=Asia/Dubai:20110228T160900
DTEND;TZID=Asia/Dubai:20110228T160900
DTSTAMP:20260422T001345
CREATED:20110228T120917Z
LAST-MODIFIED:20240202T071816Z
UID:10003148-1298909340-1298909340@events.iliauni.edu.ge
SUMMARY:უნიკინო 4 მარტს: ”არიზონული ოცნება”
DESCRIPTION:4 მარტს\, 18:00 საათზე\, ილიას უნივერსიტეტის A კორპუსში\, 101-ე აუდიტორიაში\, ნაჩვენები იქნება ემირ კუსტურიცას ფილმი ”არიზონული ოცნება” (1993).  \nმონაწილეობენ: ჯონი დეპი\, ჯერი ლუისი\, ფეი დანაუეი\, ლილი ტეილორი\, ვინსენტ გალო და სხვები. ფილმის ჩვენება ხორციელდება ”რუსთავი 2”-ის ხელშეწყობით. \nდასწრება თავისუფალია. \n\n[wpai_display_imported_files_here]
URL:https://events.iliauni.edu.ge/event/unikino-4-marts-arizonuli-otsneba/
CATEGORIES:უნიკინოს აფიშა
ATTACH;FMTTYPE=image/png:https://events.iliauni.edu.ge/wp-content/uploads/2025/09/cover_default.png
END:VEVENT
BEGIN:VEVENT
DTSTART;TZID=Asia/Dubai:20110126T153300
DTEND;TZID=Asia/Dubai:20110126T153300
DTSTAMP:20260422T001345
CREATED:20110126T113307Z
LAST-MODIFIED:20240202T071020Z
UID:10003055-1296055980-1296055980@events.iliauni.edu.ge
SUMMARY:"უნიკინო" 4 მარტიდან
DESCRIPTION:უნივერსიტეტის კინო–კლუბში „უნიკინო“ ფილმების ჩვენება განახლდება ა/წ 4  მარტიდან. როგორც ილიას სახელმწიფო უნივერსიტეტის სტუდენტებს\, ასევე  ნებისმიერ დაინტერესებულ პირს საშუალება ექნება უყუროს მსოფლიო  კინოშედევრებს ყოველ პარასკევს\, 18:00 საათზე. \nმისამართი: ილიას სახელმწიფო უნივერსიტეტი (ჭავჭავაძის გამზ. 32)\, A კორპუსი\, 101 აუდიტორია. \n\n[wpai_display_imported_files_here]
URL:https://events.iliauni.edu.ge/event/unikino-4-martidan/
CATEGORIES:უნიკინოს აფიშა
ATTACH;FMTTYPE=image/png:https://events.iliauni.edu.ge/wp-content/uploads/2025/09/cover_default.png
END:VEVENT
BEGIN:VEVENT
DTSTART;TZID=Asia/Dubai:20110117T161600
DTEND;TZID=Asia/Dubai:20110117T161600
DTSTAMP:20260422T001345
CREATED:20110117T121625Z
LAST-MODIFIED:20240202T070745Z
UID:10003019-1295280960-1295280960@events.iliauni.edu.ge
SUMMARY:უნიკინო 21 იანვარს: ”თმები”
DESCRIPTION:პარასკევს\, 21 იანვარს\, 18:00 საათზე\, ილიას უნივერსიტეტის A კორპუსში\, 101-ე აუდიტორიაში\, ნაჩვენები იქნება მილოშ ფორმანის ფილმი ”თმები” (1979). მონაწილეობენ: ჯონ სავაჟი\, ტრიტ უილიამსი\, ბევერლი დ`ანჯელო\, ენი გოლდენი და სხვები. ფილმის ჩვენება ხორციელდება რუსთავი 2-ის ხელშეწყობით. \nდასწრება თავისუფალია. \n\n[wpai_display_imported_files_here]
URL:https://events.iliauni.edu.ge/event/unikino-21-ianvars-thmebi/
CATEGORIES:უნიკინოს აფიშა
ATTACH;FMTTYPE=image/png:https://events.iliauni.edu.ge/wp-content/uploads/2025/09/cover_default.png
END:VEVENT
BEGIN:VEVENT
DTSTART;TZID=Asia/Dubai:20101221T164600
DTEND;TZID=Asia/Dubai:20101221T164600
DTSTAMP:20260422T001345
CREATED:20101221T124647Z
LAST-MODIFIED:20240202T070054Z
UID:10002890-1292949960-1292949960@events.iliauni.edu.ge
SUMMARY:უნიკინო 24 დეკემბერს: ”ბრალდების მოწმე”
DESCRIPTION:პარასკევს\, 24 დეკემბერს\, 18:00 საათზე\, ილიას უნივერსიტეტის A კორპუსში\, 101-ე აუდიტორიაში\, ნაჩვენები იქნება ბილი უაილდერის ფილმი ”ბრალდების მოწმე” (1957). \nმონაწილეობენ: ტაირონ პაუერი\, მარლენ დიტრიხი\, ჩარლზ ლაფტონი\, ჯონ უილიამსი და სხვები. \nდასწრება თავისუფალია. \n\n[wpai_display_imported_files_here]
URL:https://events.iliauni.edu.ge/event/unikino-24-dekembers-braldebis-motsme/
CATEGORIES:უნიკინოს აფიშა
ATTACH;FMTTYPE=image/png:https://events.iliauni.edu.ge/wp-content/uploads/2025/09/cover_default.png
END:VEVENT
BEGIN:VEVENT
DTSTART;TZID=Asia/Dubai:20101213T171000
DTEND;TZID=Asia/Dubai:20101213T171000
DTSTAMP:20260422T001345
CREATED:20101213T131057Z
LAST-MODIFIED:20240202T065928Z
UID:10002883-1292260200-1292260200@events.iliauni.edu.ge
SUMMARY:უნიკინო 17 დეკემბერს: ”12 განრისხებული მამაკაცი”
DESCRIPTION:პარასკევს\, 17 დეკემბერს\, 18:00 საათზე\, ილიას უნივერსიტეტის A კორპუსში\, 101-ე აუდიტორიაში\, ნაჩვენები იქნება სიდნეი ლუმეტის ფილმი ”12 განრისხებული მამაკაცი” (1957). \nრეჟისორი: სიდნეი ლუმეტი \nმთავარ როლში: ჰენრი ფონდა \nმონაწილეობენ: ჯონ ფიდლერი\, მარტინ ბალსამი\, ლი ჯეი კობი\, რობერტ ვებერი და სხვები.  \nდასწრება თავისუფალია. \n\n[wpai_display_imported_files_here]
URL:https://events.iliauni.edu.ge/event/unikino-17-dekembers-12-ganriskhebuli-mamakatsi/
CATEGORIES:უნიკინოს აფიშა
ATTACH;FMTTYPE=image/png:https://events.iliauni.edu.ge/wp-content/uploads/2025/09/cover_default.png
END:VEVENT
BEGIN:VEVENT
DTSTART;TZID=Asia/Dubai:20101206T160900
DTEND;TZID=Asia/Dubai:20101206T160900
DTSTAMP:20260422T001345
CREATED:20101206T120902Z
LAST-MODIFIED:20240202T065904Z
UID:10002882-1291651740-1291651740@events.iliauni.edu.ge
SUMMARY:უნიკინო 10 დეკემბერს: ”მარწყვის მდელო”
DESCRIPTION:პარასკევს\, 10 დეკემბერს\, 18:00 საათზე\, ილიას უნივერსიტეტის A კორპუსში\, 101-ე აუდიტორიაში\, ნაჩვენები იქნება ინგმარ ბერგმანის ფილმი ”მარწყვის მდელო” (1957). \nმონაწილეობენ: ვიქტორ სიოსტრომი\, ბიბი ანდერსონი\, ინგრიდ ტულინი\, მაქს ფონ ზიუდოვი და სხვა. \nდასწრება თავისუფალია. \n\n[wpai_display_imported_files_here]
URL:https://events.iliauni.edu.ge/event/unikino-10-dekembers-martsqhvis-mdelo/
CATEGORIES:უნიკინოს აფიშა
ATTACH;FMTTYPE=image/png:https://events.iliauni.edu.ge/wp-content/uploads/2025/09/cover_default.png
END:VEVENT
BEGIN:VEVENT
DTSTART;TZID=Asia/Dubai:20101129T163900
DTEND;TZID=Asia/Dubai:20101129T163900
DTSTAMP:20260422T001345
CREATED:20101129T123923Z
LAST-MODIFIED:20240202T065743Z
UID:10002876-1291048740-1291048740@events.iliauni.edu.ge
SUMMARY:უნიკინო 3 დეკემბერს: ”რაც ოთარი წავიდა”
DESCRIPTION:პარასკევს\, 3 დეკემბერს\, 18:00 საათზე\, ილიას უნივერსიტეტის ” A” კორპუსის\,  101-ე აუდიტორიაში\, ნაჩვენები იქნება ჟული ბერტუჩელის ფილმი ”რაც ოთარი წავიდა” (2003). \nმონაწილეობენ: ესტერ გორინტინი\, ნინო ხომასურიძე\, რუსუდან  ბოლქვაძე\, დუტა სხირტლაძე და სხვები. \nდასწრება თავისუფალია. \n\n[wpai_display_imported_files_here]
URL:https://events.iliauni.edu.ge/event/unikino-3-dekembers-rats-othari-tsavida/
CATEGORIES:უნიკინოს აფიშა
ATTACH;FMTTYPE=image/png:https://events.iliauni.edu.ge/wp-content/uploads/2025/09/cover_default.png
END:VEVENT
BEGIN:VEVENT
DTSTART;TZID=Asia/Dubai:20101122T161900
DTEND;TZID=Asia/Dubai:20101122T161900
DTSTAMP:20260422T001345
CREATED:20101122T121915Z
LAST-MODIFIED:20240202T065613Z
UID:10002865-1290442740-1290442740@events.iliauni.edu.ge
SUMMARY:უნიკინო 26 ნოემბერს: ”წყარო”
DESCRIPTION:პარასკევს\, 26 ნოემბერს\, 18:00 საათზე\, ილიას უნივერსიტეტის A კორპუსში\, 101-ე აუდიტორიაში\, ნაჩვენები იქნება დარენ არონოვსკის ფილმი ”წყარო” (2006).  \nმონაწილეობენ: ჰაგ ჯეკმენი\, რეიჩელ ვეიში\, ელენ ბარსტინი\, დონა მერფი\, იგორ ტალკაჩი და სხვები. \nდასწრება თავისუფალია. \n\n[wpai_display_imported_files_here]
URL:https://events.iliauni.edu.ge/event/unikino-26-noembers-tsqharo/
CATEGORIES:უნიკინოს აფიშა
ATTACH;FMTTYPE=image/png:https://events.iliauni.edu.ge/wp-content/uploads/2025/09/cover_default.png
END:VEVENT
BEGIN:VEVENT
DTSTART;TZID=Asia/Dubai:20101115T160300
DTEND;TZID=Asia/Dubai:20101115T160300
DTSTAMP:20260422T001345
CREATED:20101115T120319Z
LAST-MODIFIED:20240202T065253Z
UID:10002802-1289836980-1289836980@events.iliauni.edu.ge
SUMMARY:უნიკინო 19 ნოემბერს: ”კაცი\, რომელმაც ძალიან ბევრი იცოდა”
DESCRIPTION:პარასკევს\, 19 ნოემბერს\, 18:00 საათზე\, უნიკინოში ნაჩვენები იქნება ალფრედ ჰიჩკოკის ფილმი ”კაცი\, რომელმაც ძალიან ბევრი იცოდა” (1956) . \nმონაწილეობენ: ჯეიმს სტიუარტი\, დორის დეი\, ბრენდა დე ბენზი\, ბერნარდ მაილსი და სხვები. \nმის.: ი. ჭავჭავაძის გამზ. #32\, ”ა” კორპუსი\, 101-ე აუდიტორია. დასწრება თავისუფალია. \n\n[wpai_display_imported_files_here]
URL:https://events.iliauni.edu.ge/event/unikino-19-noembers-katsi-romelmats-dzalian-bevri-itsoda/
CATEGORIES:უნიკინოს აფიშა
ATTACH;FMTTYPE=image/png:https://events.iliauni.edu.ge/wp-content/uploads/2025/09/cover_default.png
END:VEVENT
BEGIN:VEVENT
DTSTART;TZID=Asia/Dubai:20101108T160600
DTEND;TZID=Asia/Dubai:20101108T160600
DTSTAMP:20260422T001345
CREATED:20101108T120617Z
LAST-MODIFIED:20240202T064959Z
UID:10002739-1289232360-1289232360@events.iliauni.edu.ge
SUMMARY:უნიკინო 12 ნოემბერს: ”დღიური ჩემი შვილებისათვის”
DESCRIPTION:პარასკევს\, 12 ნოემბერს\, 18:00 საათზე\, უნიკინოში ნაჩვენები იქნება მარტა მესაროშის ფილმი ”დღიური ჩემი შვილებისათვის”. \nმონაწილეობენ: შუშა ჩინკოცი\, ტერი ფიოლდი\, ანა პოლონი\, იან ნოვიცკი და სხვები. \nმის.: ი. ჭავჭავაძის გამზ. #32\, ”ა” კორპუსი\, 101-ე აუდიტორია. დასწრება თავისუფალია. \n\n[wpai_display_imported_files_here]
URL:https://events.iliauni.edu.ge/event/unikino-12-noembers-dghiuri-chemi-shvilebisathvis/
CATEGORIES:უნიკინოს აფიშა
ATTACH;FMTTYPE=image/png:https://events.iliauni.edu.ge/wp-content/uploads/2025/09/cover_default.png
END:VEVENT
BEGIN:VEVENT
DTSTART;TZID=Asia/Dubai:20101102T113800
DTEND;TZID=Asia/Dubai:20101102T113800
DTSTAMP:20260422T001345
CREATED:20101102T073812Z
LAST-MODIFIED:20240202T064347Z
UID:10002672-1288697880-1288697880@events.iliauni.edu.ge
SUMMARY:უნიკინო 5 ნოემბერს: ”უცნაური მატარებელი”
DESCRIPTION:პარასკევს\, 5 ნოემბერს\, 18:00 საათზე\, უნიკინოში ნაჩვენები იქნება რეჟისორ ჯიმ ჯარმუშის ფილმი ”უცნაური მატარებელი” (1989). \nმონაწილეობენ: მასატოში ნაგასი\, იუკი კუდო\, სქრიმინ ჯეი ჰოვკინსი\, ნიკოლეტა ბრაში და სხვები. \nმის.: ი. ჭავჭავაძის გამზ. #32\, ”ა” კორპუსი\, 101-ე აუდიტორია. დასწრება თავისუფალია. \n\n[wpai_display_imported_files_here]
URL:https://events.iliauni.edu.ge/event/unikino-5-noembers-utsnauri-matarebeli/
CATEGORIES:უნიკინოს აფიშა
ATTACH;FMTTYPE=image/png:https://events.iliauni.edu.ge/wp-content/uploads/2025/09/cover_default.png
END:VEVENT
BEGIN:VEVENT
DTSTART;TZID=Asia/Dubai:20101025T120800
DTEND;TZID=Asia/Dubai:20101025T120800
DTSTAMP:20260422T001345
CREATED:20101025T080833Z
LAST-MODIFIED:20240202T064740Z
UID:10002679-1288008480-1288008480@events.iliauni.edu.ge
SUMMARY:უნიკინო 29 ოქტომბერს: ”ფართოდ დახუჭული თვალები”
DESCRIPTION:პარასკევს\, 29 ოქტომბერს\, 18:00 საათზე უნიკინოში ნაჩვენები იქნება სტენლი კუბრიკის ფილმი ”ფართოდ დახუჭული თვალები” (1999).  \nმონაწილეობენ: ნიკოლ კიდმანი\, ტომ კრუზი\, სიდნეი პოლაკი\, პეტერ ბენსონი და სხვები. \nმის.: ი. ჭავჭავაძის გამზ. #32\, ”ა” კორპუსი\, 101-ე აუდიტორია. დასწრება თავისუფალია. \n\n[wpai_display_imported_files_here]
URL:https://events.iliauni.edu.ge/event/unikino-29-oqtombers-pharthod-dakhutchuli-thvalebi/
CATEGORIES:უნიკინოს აფიშა
ATTACH;FMTTYPE=image/png:https://events.iliauni.edu.ge/wp-content/uploads/2025/09/cover_default.png
END:VEVENT
END:VCALENDAR