BEGIN:VCALENDAR
VERSION:2.0
PRODID:-//უნივერსიტეტის ღონისძიებების პორტალი - ECPv6.2.8.2//NONSGML v1.0//EN
CALSCALE:GREGORIAN
METHOD:PUBLISH
X-WR-CALNAME:უნივერსიტეტის ღონისძიებების პორტალი
X-ORIGINAL-URL:https://events.iliauni.edu.ge
X-WR-CALDESC:Events for უნივერსიტეტის ღონისძიებების პორტალი
REFRESH-INTERVAL;VALUE=DURATION:PT1H
X-Robots-Tag:noindex
X-PUBLISHED-TTL:PT1H
BEGIN:VTIMEZONE
TZID:Asia/Dubai
BEGIN:STANDARD
TZOFFSETFROM:+0400
TZOFFSETTO:+0400
TZNAME:+04
DTSTART:20110101T000000
END:STANDARD
END:VTIMEZONE
BEGIN:VEVENT
DTSTART;TZID=Asia/Dubai:20121015T171200
DTEND;TZID=Asia/Dubai:20121015T171200
DTSTAMP:20260421T180141
CREATED:20121015T131210Z
LAST-MODIFIED:20240202T084223Z
UID:10004638-1350321120-1350321120@events.iliauni.edu.ge
SUMMARY:უნიკინო 19 ოქტომბერს: "შვიდი სამურაი"
DESCRIPTION:პარასკევს\, 19 ოქტომბერს\, 18:00 საათზე\, ილიას სახელმწიფო უნივერსიტეტის A კორპუსში\, 101-ე აუდიტორიაში\, ნაჩვენები იქნება აკირა კუროსავას ფილმი ”შვიდი სამურაი”  (1954). მონაწილეობენ: ტაკაში შიმურა\, ტოშირო მიფუნე\, იოშიო ინაბა\, სეიჯი მიაგუჩი და სხვები. \n\n[wpai_display_imported_files_here]
URL:https://events.iliauni.edu.ge/event/unikino-19-oqtombers-shvidi-samurai/
CATEGORIES:უნიკინოს აფიშა
ATTACH;FMTTYPE=image/png:https://events.iliauni.edu.ge/wp-content/uploads/2025/09/cover_default.png
END:VEVENT
BEGIN:VEVENT
DTSTART;TZID=Asia/Dubai:20121008T115900
DTEND;TZID=Asia/Dubai:20121008T115900
DTSTAMP:20260421T180142
CREATED:20121008T075917Z
LAST-MODIFIED:20240202T083825Z
UID:10004537-1349697540-1349697540@events.iliauni.edu.ge
SUMMARY:უნიკინო 12 ოქტომბერს: "ღმერთის ქალაქი"
DESCRIPTION:პარასკევს\, 12 ოქტომბერს\, 18:00 საათზე\, ილიას სახელმწიფო უნივერსიტეტის A კორპუსში\, 101-ე აუდიტორიაში\, ნაჩვენები იქნება ლატია ლიუნდის და ფერნანდუ მეირელიშის ფილმი ”ღმერთის ქალაქი”  (2002). \nმონაწილეობენ: ელის ბრეგა\, ჯონათან ჰააგენსენი\, სეუ ხორხე\, ლეანდრო ფირმინო\, მათეუს ნაჰტერგეილი\, ალექსანდრე როდრიგეზი\, დუგლას სილვა და სხვები. \n\n[wpai_display_imported_files_here]
URL:https://events.iliauni.edu.ge/event/unikino-12-oqtombers-ghmerthis-qalaqi/
CATEGORIES:უნიკინოს აფიშა
ATTACH;FMTTYPE=image/png:https://events.iliauni.edu.ge/wp-content/uploads/2025/09/cover_default.png
END:VEVENT
BEGIN:VEVENT
DTSTART;TZID=Asia/Dubai:20120605T190100
DTEND;TZID=Asia/Dubai:20120605T190100
DTSTAMP:20260421T180142
CREATED:20120605T150119Z
LAST-MODIFIED:20240202T084300Z
UID:10004646-1338922860-1338922860@events.iliauni.edu.ge
SUMMARY:უნიკინო 8 ივნისს: "უწარსულო კაცი"
DESCRIPTION:პარასკევს\, 8 ივნისს\, 18:00 საათზე\, ილიას სახელმწიფო უნივერსიტეტის\, 101-ე აუდიტორიაში\, ნაჩვენები იქნება აკი კაურისმიაკის ფილმი ”უწარსულო კაცი” (2002). \nმონაწილეობენ: მარკუ პელტოლა\, კატი ოუტინენი\, საკარი კუოსმანენი და სხვები. ფილმის ჩვენება ხორციელდება საზოგადოებრივი მაუწყებლის პირველი არხის ხელშეწყობით. \nდასწრება თავისუფალია. \n\n[wpai_display_imported_files_here]
URL:https://events.iliauni.edu.ge/event/unikino-8-ivniss-utsarsulo-katsi/
CATEGORIES:უნიკინოს აფიშა
ATTACH;FMTTYPE=image/png:https://events.iliauni.edu.ge/wp-content/uploads/2025/09/cover_default.png
END:VEVENT
BEGIN:VEVENT
DTSTART;TZID=Asia/Dubai:20120529T161600
DTEND;TZID=Asia/Dubai:20120529T161600
DTSTAMP:20260421T180142
CREATED:20120529T121655Z
LAST-MODIFIED:20240202T084335Z
UID:10004662-1338308160-1338308160@events.iliauni.edu.ge
SUMMARY:უნიკინო 1 ივნისს: ”კასაბლანკა”
DESCRIPTION:პარასკევს\, 1 ივნისს\, 18:00 საათზე\, ილიას უნივერსიტეტის A კორპუსში\, 101-ე აუდიტორიაში\, ნაჩვენები იქნება მაიკლ კურტისის ფილმი ”კასაბლანკა” (1942). \nმონაწილეობენ: კლოდ რეინსი\, მადლენ ლებო\, ინგრიდ ბერგმანი. ფილმის ჩვენება ხორციელდება საზოგადოებრივი მაუწყებლის პირველი არხის ხელშეწყობით. \nდასწრება თავისუფალია. \n\n[wpai_display_imported_files_here]
URL:https://events.iliauni.edu.ge/event/unikino-1-ivniss-kasablanka/
CATEGORIES:უნიკინოს აფიშა
ATTACH;FMTTYPE=image/png:https://events.iliauni.edu.ge/wp-content/uploads/2025/09/cover_default.png
END:VEVENT
BEGIN:VEVENT
DTSTART;TZID=Asia/Dubai:20120515T165400
DTEND;TZID=Asia/Dubai:20120515T165400
DTSTAMP:20260421T180142
CREATED:20120515T125430Z
LAST-MODIFIED:20240202T084517Z
UID:10004688-1337100840-1337100840@events.iliauni.edu.ge
SUMMARY:უნიკინო 18 მაისს: "სიჩუმე გასროლის შემდეგ”
DESCRIPTION:პარასკევს\, 18 მაისს\, 18:00 საათზე\, ილიას უნივერსიტეტის A კორპუსში\, 101-ე აუდიტორიაში\, ნაჩვენები იქნება რეჟისორ ფოლკერ შლენდორფის ფილმი ”რიტას ლეგენდები (სიჩუმე გასროლის შემდეგ)” (2000). მონაწილეობენ: ბიბიანა ბიგლოუ\, რიჩარდ კროპფი\, მარტინ ვუტკე\, ნადია ული\, ჰარალდ შროტი და სხვები. ფილმის ჩვენება ხორციელდება საზოგადოებრივი მაუწყებლის პირველი არხის ხელშეწყობით. \nდასწრება თავისუფალია. \n\n[wpai_display_imported_files_here]
URL:https://events.iliauni.edu.ge/event/unikino-18-maiss-sichume-gasrolis-shemdeg/
CATEGORIES:უნიკინოს აფიშა
ATTACH;FMTTYPE=image/png:https://events.iliauni.edu.ge/wp-content/uploads/2025/09/cover_default.png
END:VEVENT
BEGIN:VEVENT
DTSTART;TZID=Asia/Dubai:20120502T112800
DTEND;TZID=Asia/Dubai:20120502T112800
DTSTAMP:20260421T180142
CREATED:20120502T072845Z
LAST-MODIFIED:20240202T084547Z
UID:10004703-1335958080-1335958080@events.iliauni.edu.ge
SUMMARY:უნიკინო 4 მაისს: "ღამე მოდთან"
DESCRIPTION:პარასკევს\, 4 მაისს\, 18:00 საათზე\, ილიას სახელმწიფო უნივერსიტეტის A კორპუსში\, 101-ე აუდიტორიაში\, ნაჩვენები იქნება ერიკ რომერის ფილმი “ღამე მოდთან” (1969). მონაწილეობენ: ჟან–ლუი ტრენტინიანი\, ფრანსუაზ ფაბიანი\, მარი–კრისტიან ბარო. \nფილმის ჩვენება ხორციელდება საზოგადოებრივი მაუწყებლის პირველი არხის ხელშეწყობით. \nდასწრება თავისუფალია. \n\n[wpai_display_imported_files_here]
URL:https://events.iliauni.edu.ge/event/unikino-4-maiss-ghame-modthan/
CATEGORIES:უნიკინოს აფიშა
ATTACH;FMTTYPE=image/png:https://events.iliauni.edu.ge/wp-content/uploads/2025/09/cover_default.png
END:VEVENT
BEGIN:VEVENT
DTSTART;TZID=Asia/Dubai:20120425T172900
DTEND;TZID=Asia/Dubai:20120425T172900
DTSTAMP:20260421T180142
CREATED:20120425T132910Z
LAST-MODIFIED:20240202T084609Z
UID:10004713-1335374940-1335374940@events.iliauni.edu.ge
SUMMARY:უნიკინო 27 აპრილს: ”400 დარტყმა”
DESCRIPTION:პარასკევს\, 27 აპრილს\, 18:00 საათზე\, ილიას სახელმწიფო უნივერსიტეტის A კორპუსში\, 101-ე აუდიტორიაში\, ნაჩვენები იქნება ფრანსუა ტრიუფოს ფილმი “400 დარტყმა” (1959). მონაწილეობენ: ჟან-პიერ ლეო\, კლერ მორიე\, ალბერ რემი\, დენიელ კუტერიე\, რენო ფონტანაროზა. \nფილმის ჩვენება ხორციელდება საზოგადოებრივი მაუწყებლის პირველი არხის ხელშეწყობით. \nდასწრება თავისუფალია. \n\n[wpai_display_imported_files_here]
URL:https://events.iliauni.edu.ge/event/unikino-27-aprils-400-dartqhma/
CATEGORIES:უნიკინოს აფიშა
ATTACH;FMTTYPE=image/png:https://events.iliauni.edu.ge/wp-content/uploads/2025/09/cover_default.png
END:VEVENT
BEGIN:VEVENT
DTSTART;TZID=Asia/Dubai:20120417T191300
DTEND;TZID=Asia/Dubai:20120417T191300
DTSTAMP:20260421T180142
CREATED:20120417T151354Z
LAST-MODIFIED:20240202T084725Z
UID:10004725-1334689980-1334689980@events.iliauni.edu.ge
SUMMARY:უნიკინო 20 აპრილს: ”კედელი”
DESCRIPTION:პარასკევს\, 20 აპრილს\, 18:00 საათზე\, ილიას უნივერსიტეტის A კორპუსში\, 101-ე აუდიტორიაში ნაჩვენები იქნება ალან პარკერის ფილმი ”კედელი” (Pink Floyd The Wall) (1982). \nფილმის ჩვენება ხორციელდება ილიას უნივერსიტეტის როკ-კლუბის ინიციატივით. \nთარგმანი: თამარ ბაღიშვილი. \n\n[wpai_display_imported_files_here]
URL:https://events.iliauni.edu.ge/event/unikino-20-aprils-kedeli/
CATEGORIES:უნიკინოს აფიშა
ATTACH;FMTTYPE=image/png:https://events.iliauni.edu.ge/wp-content/uploads/2025/09/cover_default.png
END:VEVENT
BEGIN:VEVENT
DTSTART;TZID=Asia/Dubai:20120406T164000
DTEND;TZID=Asia/Dubai:20120406T164000
DTSTAMP:20260421T180142
CREATED:20120406T124022Z
LAST-MODIFIED:20240202T084755Z
UID:10004738-1333730400-1333730400@events.iliauni.edu.ge
SUMMARY:უნიკინო 6 აპრილს: ”ველო-ცხოვრება”
DESCRIPTION:პარასკევს\, 6 აპრილს\, 18:00 საათზე\, ილიას უნივერსიტეტის A კორპუსში\, 101-ე აუდიტორიაში ნაჩვენები იქნება დერეკ ფრანკოვსკის და რაიან გიბის დოკუმენტური ფილმი ”ველო-ცხოვრება” (2010). ფილმის ჩვენება ხორციელდება ილიას უნივერსიტეტის სამთო ველოსპორტის მოყვარულთა კლუბის ინიციატივით. \nთარგმანი: თამარ ბაღიშვილი. \n\n[wpai_display_imported_files_here]
URL:https://events.iliauni.edu.ge/event/unikino-6-aprils-velo-tskhovreba/
CATEGORIES:უნიკინოს აფიშა
ATTACH;FMTTYPE=image/png:https://events.iliauni.edu.ge/wp-content/uploads/2025/09/cover_default.png
END:VEVENT
BEGIN:VEVENT
DTSTART;TZID=Asia/Dubai:20120327T162800
DTEND;TZID=Asia/Dubai:20120327T162800
DTSTAMP:20260421T180142
CREATED:20120327T122824Z
LAST-MODIFIED:20240202T084817Z
UID:10004747-1332865680-1332865680@events.iliauni.edu.ge
SUMMARY:უნიკინო 30 მარტს: ”ფლეზენთვილი”
DESCRIPTION:პარასკევს\, 30 მარტს\, 18:00 საათზე\, ილიას უნივერსიტეტის A კორპუსში\, 101-ე აუდიტორიაში ნაჩვენები იქნება გარი როსის ფილმი ”ფლეზენთვილი” (1998). მონაწილეობენ: ტობი მაგუაერი\, რის უიზერსპუნი\, უილიამ ხ. მეისი\, ჯეფ დენიელსი და სხვები. \nდასწრება თავისუფალია. \nთარგმანი: ნინევა სალუქვაძე. \n\n[wpai_display_imported_files_here]
URL:https://events.iliauni.edu.ge/event/unikino-30-marts-phlezenthvili/
CATEGORIES:უნიკინოს აფიშა
ATTACH;FMTTYPE=image/png:https://events.iliauni.edu.ge/wp-content/uploads/2025/09/cover_default.png
END:VEVENT
BEGIN:VEVENT
DTSTART;TZID=Asia/Dubai:20120320T180600
DTEND;TZID=Asia/Dubai:20120320T180600
DTSTAMP:20260421T180142
CREATED:20120320T140619Z
LAST-MODIFIED:20240202T084836Z
UID:10004758-1332266760-1332266760@events.iliauni.edu.ge
SUMMARY:უნიკინო 23 მარტს: ”ყველაფერი  დედაჩემის შესახებ”
DESCRIPTION:პარასკევს\, 23 მარტს\, 18:00 საათზე\, ილიას სახელმწიფო უნივერსიტეტის A კორპუსში\, 101-ე აუდიტორიაში ნაჩვენები იქნება პედრო ალმოდოვარის ფილმი ”ყველაფერი  დედაჩემის შესახებ” (1999). მონაწილეობენ: სესილია როტი\, მარისა პარედესი\, ანტონია სან ხუანი\, პენელოპა კრუზი და სხვები. \nდასწრება თავისუფალია. \nთარგმანი: ქეთევან ნაკაშიძე. \n\n[wpai_display_imported_files_here]
URL:https://events.iliauni.edu.ge/event/unikino-23-marts-qhvelapheri-dedachemis-shesakheb/
CATEGORIES:უნიკინოს აფიშა
ATTACH;FMTTYPE=image/png:https://events.iliauni.edu.ge/wp-content/uploads/2025/09/cover_default.png
END:VEVENT
BEGIN:VEVENT
DTSTART;TZID=Asia/Dubai:20120313T001700
DTEND;TZID=Asia/Dubai:20120313T001700
DTSTAMP:20260421T180142
CREATED:20120312T201711Z
LAST-MODIFIED:20240202T085006Z
UID:10004773-1331597820-1331597820@events.iliauni.edu.ge
SUMMARY:უნიკინო 16 მარტს: ”წვიმის კაცი”
DESCRIPTION:პარასკევს\, 16 მარტს\, 18:00 საათზე\, ილიას უნივერსიტეტის A კორპუსში\, 101-ე აუდიტორიაში ნაჩვენები იქნება ბარი ლევინსონის  ფილმი “წვიმის კაცი” (1988). \nმონაწილეობენ: დასტინ ჰოფმანი\, ტომ კრუზი\, ვალერია გოლინო და სხვები. \nდასწრება თავისუფალია. \nთარგმანი: ქეთევან ნაკაშიძე. \n\n[wpai_display_imported_files_here]
URL:https://events.iliauni.edu.ge/event/unikino-16-marts-tsvimis-katsi/
CATEGORIES:უნიკინოს აფიშა
ATTACH;FMTTYPE=image/png:https://events.iliauni.edu.ge/wp-content/uploads/2025/09/cover_default.png
END:VEVENT
BEGIN:VEVENT
DTSTART;TZID=Asia/Dubai:20120306T164000
DTEND;TZID=Asia/Dubai:20120306T164000
DTSTAMP:20260421T180142
CREATED:20120306T124026Z
LAST-MODIFIED:20240202T085028Z
UID:10004778-1331052000-1331052000@events.iliauni.edu.ge
SUMMARY:უნიკინო 9 მარტს: ”კალათბურთელის დღიური”
DESCRIPTION:პარასკევს\, 9 მარტს\, 18:00 საათზე\, ნაჩვენები იქნება სკოტ კალვერტის ფილმი ”კალათბურთელის დღიური” (1995). მონაწილეობენ: ლეონარდო დი კაპრიო\, ლორეინ ბრაკო\, მერლინ სოკოლი\, ჯეიმს მადიო და სხვები. \nდასწრება თავისუფალია. \nთარგმანი\, თამარ ბაღიშვილი. \n\n[wpai_display_imported_files_here]
URL:https://events.iliauni.edu.ge/event/unikino-9-marts-kalathburthelis-dghiuri/
CATEGORIES:უნიკინოს აფიშა
ATTACH;FMTTYPE=image/png:https://events.iliauni.edu.ge/wp-content/uploads/2025/09/cover_default.png
END:VEVENT
BEGIN:VEVENT
DTSTART;TZID=Asia/Dubai:20120123T183700
DTEND;TZID=Asia/Dubai:20120123T183700
DTSTAMP:20260421T180142
CREATED:20120123T143756Z
LAST-MODIFIED:20240202T085101Z
UID:10004792-1327343820-1327343820@events.iliauni.edu.ge
SUMMARY:უნიკინო 27 იანვარს: ”მალჰოლანდ დრაივი”
DESCRIPTION:პარასკევს\, 27 იანვარს\, 18:00 საათზე\, ილიას უნივერსიტეტის A კორპუსში\, 101-ე აუდიტორიაში\, ნაჩვენები იქნება დევიდ ლინჩის ფილმი ”მალჰოლანდ დრაივი” (2001). მონაწილეობენ: ნაომი უოთსი\, ლაურა ჰერინგი\, ენ მილერი\, დენ ჰედაია და სხვები. \nდასწრება თავისუფალია. \nთარგმნა ქეთევან ნაკაშიძემ. \n\n[wpai_display_imported_files_here]
URL:https://events.iliauni.edu.ge/event/unikino-27-ianvars-malholand-draivi/
CATEGORIES:უნიკინოს აფიშა
ATTACH;FMTTYPE=image/png:https://events.iliauni.edu.ge/wp-content/uploads/2025/09/cover_default.png
END:VEVENT
BEGIN:VEVENT
DTSTART;TZID=Asia/Dubai:20120116T172200
DTEND;TZID=Asia/Dubai:20120116T172200
DTSTAMP:20260421T180142
CREATED:20120116T132219Z
LAST-MODIFIED:20240202T085125Z
UID:10004807-1326734520-1326734520@events.iliauni.edu.ge
SUMMARY:უნიკინო 20 იანვარს: ”ძაღლის აჩრდილი: სამურაის გზა”
DESCRIPTION:პარასკევს\, 20 იანვარს\, 18:00 საათზე\, ილიას უნივერსიტეტის A კორპუსში\, 101-ე აუდიტორიაში\, ნაჩვენები იქნება ჯიმ ჯარმუშის ფილმი\, ”ძაღლის აჩრდილი: სამურაის გზა” (1999). მონაწილეობენ: ფორესტ უიტაკერი\, ჯონ ტორმი\, კლიფ გორმანი\, დენის ლიუ და სხვები. \nდასწრება თავისუფალია. \nთარგმანი: ქეთევან ნაკაშიძე. \n\n[wpai_display_imported_files_here]
URL:https://events.iliauni.edu.ge/event/unikino-20-ianvars-dzaghlis-achrdili-samurais-gza/
CATEGORIES:უნიკინოს აფიშა
ATTACH;FMTTYPE=image/png:https://events.iliauni.edu.ge/wp-content/uploads/2025/09/cover_default.png
END:VEVENT
BEGIN:VEVENT
DTSTART;TZID=Asia/Dubai:20111227T160600
DTEND;TZID=Asia/Dubai:20111227T160600
DTSTAMP:20260421T180142
CREATED:20111227T120615Z
LAST-MODIFIED:20240202T085138Z
UID:10004811-1325001960-1325001960@events.iliauni.edu.ge
SUMMARY:უნიკინო 30 დეკემბერს: ”როზმარის ბავშვი”
DESCRIPTION:პარასკევს\, 30 დეკემბერს\, 18:00 საათზე\, ილიას უნივერსიტეტის A კორპუსში\, 101-ეაუდიტორიაში\, ნაჩვენები იქნება რომან პოლანსკის ფილმი ”როზმარის ბავშვი” (1968). მონაწილეობენ: მია ფეროუ\, ჯონ კასავეტისი\, რუტ გორდონი\, სიდნი ბეკმერი\, მორის ევანსი და სხვები. \n\n[wpai_display_imported_files_here]
URL:https://events.iliauni.edu.ge/event/unikino-30-dekembers-rozmaris-bavshvi/
CATEGORIES:უნიკინოს აფიშა
ATTACH;FMTTYPE=image/png:https://events.iliauni.edu.ge/wp-content/uploads/2025/09/cover_default.png
END:VEVENT
BEGIN:VEVENT
DTSTART;TZID=Asia/Dubai:20111220T130700
DTEND;TZID=Asia/Dubai:20111220T130700
DTSTAMP:20260421T180142
CREATED:20111220T090701Z
LAST-MODIFIED:20240202T085158Z
UID:10004819-1324386420-1324386420@events.iliauni.edu.ge
SUMMARY:უნიკინო 23 დეკემბერს: ”რებეკა”
DESCRIPTION:პარასკევს\, 23 დეკემბერს\, 18:00 საათზე\, ილიას უნივერსიტეტის A კორპუსში\, 101-ეაუდიტორიაში\, ნაჩვენები იქნება ალფრედ ჰიჩკოკის ფილმი ”რებეკა” (1940). მონაწილეობენ: ჯოან ფონტეინი\, ლოურენს ოლივიე\, ჯორჯ სანდერს\, იუდით ანდერსონი. ფილმის ჩვენება ხორციელდება საზოგადოებრივი მაუწყებლის პირველი არხის ხელშეწყობით. \nდასწრება თავისუფალია. \n\n[wpai_display_imported_files_here]
URL:https://events.iliauni.edu.ge/event/unikino-23-dekembers-rebeka/
CATEGORIES:უნიკინოს აფიშა
ATTACH;FMTTYPE=image/png:https://events.iliauni.edu.ge/wp-content/uploads/2025/09/cover_default.png
END:VEVENT
BEGIN:VEVENT
DTSTART;TZID=Asia/Dubai:20111214T161800
DTEND;TZID=Asia/Dubai:20111214T161800
DTSTAMP:20260421T180142
CREATED:20111214T121828Z
LAST-MODIFIED:20240202T084917Z
UID:10004766-1323879480-1323879480@events.iliauni.edu.ge
SUMMARY:უნიკინო 16 დეკემბერს: ”პარიზი 888”
DESCRIPTION:პარასკევს\, 16 დეკემბერს\, 18:00 საათზე\, ილიას უნივერსიტეტის A კორპუსში\, 101-ეაუდიტორიაში\, ნაჩვენები იქნება დოკუმენტური ფილმი ჰიჩ-ჰაიკინგზე პარიზი 888. \nთარგმანი ანნა კორიფაძე. \n\n[wpai_display_imported_files_here]
URL:https://events.iliauni.edu.ge/event/unikino-16-dekembers-parizi-888/
CATEGORIES:უნიკინოს აფიშა
ATTACH;FMTTYPE=image/png:https://events.iliauni.edu.ge/wp-content/uploads/2025/09/cover_default.png
END:VEVENT
BEGIN:VEVENT
DTSTART;TZID=Asia/Dubai:20111206T132700
DTEND;TZID=Asia/Dubai:20111206T132700
DTSTAMP:20260421T180142
CREATED:20111206T092733Z
LAST-MODIFIED:20240202T084344Z
UID:10004667-1323178020-1323178020@events.iliauni.edu.ge
SUMMARY:უნიკინო 9 დეკემბერს: ”მზიანი ორშაბათები”
DESCRIPTION:პარასკევს\, 9 დეკემბერს\, 18:00 საათზე\, ილიას უნივერსიტეტის A კორპუსში\, 101-ეაუდიტორიაში\, ნაჩვენები იქნება ფერნანდო ლეონ დე არანოას ფილმი “მზიანი ორშაბათები” (2002). ფილმის ჩვენება ხორციელდება ილიას უნივერსიტეტის ესპანური კინოკლუბის ინიციატივით. \nდასწრება თავისუფალია. \n\n[wpai_display_imported_files_here]
URL:https://events.iliauni.edu.ge/event/unikino-9-dekembers-mziani-orshabathebi/
CATEGORIES:უნიკინოს აფიშა
ATTACH;FMTTYPE=image/png:https://events.iliauni.edu.ge/wp-content/uploads/2025/09/cover_default.png
END:VEVENT
BEGIN:VEVENT
DTSTART;TZID=Asia/Dubai:20111128T131300
DTEND;TZID=Asia/Dubai:20111128T131300
DTSTAMP:20260421T180142
CREATED:20111128T091330Z
LAST-MODIFIED:20240202T084155Z
UID:10004635-1322485980-1322485980@events.iliauni.edu.ge
SUMMARY:უნიკინო 2 დეკემბერს: ”ურთულესი მარშრუტები”
DESCRIPTION:პარასკევს\, 2 დეკემბერს\, 18:00 საათზე\, ილიას უნივერსიტეტის A კორპუსში\, 101-ე აუდიტორიაში\, ნაჩვენები იქნება პიტერ მორტიმერის დოკუმენტური ფილმი ”ურთულესი მარშრუტები” (King Lines). ფილმის ჩვენება ხორციელდება ილიაუნის ალპური კლუბის ინიციატივით. \nდასწრება თავისუფალია. \n\n[wpai_display_imported_files_here]
URL:https://events.iliauni.edu.ge/event/unikino-2-dekembers-urthulesi-marshrutebi/
CATEGORIES:უნიკინოს აფიშა
ATTACH;FMTTYPE=image/png:https://events.iliauni.edu.ge/wp-content/uploads/2025/09/cover_default.png
END:VEVENT
BEGIN:VEVENT
DTSTART;TZID=Asia/Dubai:20111121T145700
DTEND;TZID=Asia/Dubai:20111121T145700
DTSTAMP:20260421T180142
CREATED:20111121T105740Z
LAST-MODIFIED:20240202T083709Z
UID:10004511-1321887420-1321887420@events.iliauni.edu.ge
SUMMARY:უნიკინო 25 ნოემბერს: ”ენი ჰოლი”
DESCRIPTION:პარასკევს\, 25 ნოემბერს\, 18:00 საათზე\, ილიას უნივერსიტეტის A კორპუსში\, 101-ე აუდიტორიაში\, ნაჩვენები იქნება ვუდი ალენის ფილმი ”ენი ჰოლი”. მონაწილეობენ: ვუდი ალენი\, დაიან კიტონი\, ტონი რობერტსი\, პოლ საიმონი და სხვები. \nდასწრება თავისუფალია. \nთარგმანი: ცირა სიფრაშვილი. \n\n[wpai_display_imported_files_here]
URL:https://events.iliauni.edu.ge/event/unikino-25-noembers-eni-holi/
CATEGORIES:უნიკინოს აფიშა
ATTACH;FMTTYPE=image/png:https://events.iliauni.edu.ge/wp-content/uploads/2025/09/cover_default.png
END:VEVENT
BEGIN:VEVENT
DTSTART;TZID=Asia/Dubai:20111114T174200
DTEND;TZID=Asia/Dubai:20111114T174200
DTSTAMP:20260421T180142
CREATED:20111114T134228Z
LAST-MODIFIED:20240202T083557Z
UID:10004491-1321292520-1321292520@events.iliauni.edu.ge
SUMMARY:უნიკინო 18 ნოემბერს: ”ეს უხილავი ბავშვები”
DESCRIPTION:პარასკევს\, 18 ნოემბერს\, 18:00 საათზე\, ილიას უნივერსიტეტის A კორპუსში\, 101-ე აუდიტორიაში\, ნაჩვენები იქნება ემირ კუსტურიცას ფილმი ”ეს უხილავი ბავშვები”. \nდასწრება თავისუფალია. \n\n[wpai_display_imported_files_here]
URL:https://events.iliauni.edu.ge/event/unikino-18-noembers-es-ukhilavi-bavshvebi/
CATEGORIES:უნიკინოს აფიშა
ATTACH;FMTTYPE=image/png:https://events.iliauni.edu.ge/wp-content/uploads/2025/09/cover_default.png
END:VEVENT
BEGIN:VEVENT
DTSTART;TZID=Asia/Dubai:20111108T124200
DTEND;TZID=Asia/Dubai:20111108T124200
DTSTAMP:20260421T180142
CREATED:20111108T084232Z
LAST-MODIFIED:20240202T083425Z
UID:10004473-1320756120-1320756120@events.iliauni.edu.ge
SUMMARY:უნიკინო 11 ნოემბერს: ”მწვანე ქუჩის ხულიგნები”
DESCRIPTION:პარასკევს\, 11 ნოემბერს\, 18:00 საათზე\, ილიას უნივერსიტეტის A კორპუსში\, 101-ე აუდიტორიაში\, ნაჩვენები იქნება ლექსი ალექსანდერის ფილმი ”მწვანე ქუჩის ხულიგნები”. მონაწილეობენ: ელია ვუდი\, ჩარლი ჰიუნამი\, დევიდ ალექსანდერი და სხვები. \nდასწრება თავისუფალია. \nთარგმანი: ქეთევან ნაკაშიძე. \n\n[wpai_display_imported_files_here]
URL:https://events.iliauni.edu.ge/event/unikino-11-noembers-mtsvane-quchis-khulignebi/
CATEGORIES:უნიკინოს აფიშა
ATTACH;FMTTYPE=image/png:https://events.iliauni.edu.ge/wp-content/uploads/2025/09/cover_default.png
END:VEVENT
BEGIN:VEVENT
DTSTART;TZID=Asia/Dubai:20111102T141700
DTEND;TZID=Asia/Dubai:20111102T141700
DTSTAMP:20260421T180142
CREATED:20111102T101738Z
LAST-MODIFIED:20240202T083431Z
UID:10004478-1320243420-1320243420@events.iliauni.edu.ge
SUMMARY:უნიკინო 4 ნოემბერს: ”მექანიკური ფორთოხალი”
DESCRIPTION:პარასკევს\, 4 ნოემბერს\, 18:00 საათზე\, ილიას უნივერსიტეტის A კორპუსში\, 101-ე აუდიტორიაში\, ნაჩვენები იქნება სტენლი კუბრიკის ფილმი\, ”მექანიკური ფორთოხალი” (1971). მონაწილეობენ: მალკოლმ მაკდაუელი\, პატრიკ მეგი\, უორენ კლარკი და სხვები. ფილმი მოგვაწოდა საზოგადოებრივი მაუწყებლის პირველმა არხმა. \nდასწრება თავისუფალია. \n\n[wpai_display_imported_files_here]
URL:https://events.iliauni.edu.ge/event/unikino-4-noembers-meqanikuri-phorthokhali/
CATEGORIES:უნიკინოს აფიშა
ATTACH;FMTTYPE=image/png:https://events.iliauni.edu.ge/wp-content/uploads/2025/09/cover_default.png
END:VEVENT
BEGIN:VEVENT
DTSTART;TZID=Asia/Dubai:20111025T165000
DTEND;TZID=Asia/Dubai:20111025T165000
DTSTAMP:20260421T180142
CREATED:20111025T125052Z
LAST-MODIFIED:20240202T083112Z
UID:10004434-1319561400-1319561400@events.iliauni.edu.ge
SUMMARY:უნიკინო 28 ოქტომბერს: ”სრულყოფილი სამყარო”
DESCRIPTION:პარასკევს\, 28 ოქტომბერს\, 18:00 საათზე\, ილიას უნივერსიტეტის A კორპუსში\, 101-ე აუდიტორიაში\, ნაჩვენები იქნება კლინტ ისტვუდის ფილმი ”სრულყოფილი სამყარო” (1993). მონაწილეობენ: კევინ კოსტნერი\, კლინტ ისტვუდი\, ლორა დერნი\, პოლ ჰიუიტი და სხვები. თარგმანი: თამარ ბაღიშვილი. \n\n[wpai_display_imported_files_here]
URL:https://events.iliauni.edu.ge/event/unikino-28-oqtombers-srulqhophili-samqharo/
CATEGORIES:უნიკინოს აფიშა
ATTACH;FMTTYPE=image/png:https://events.iliauni.edu.ge/wp-content/uploads/2025/09/cover_default.png
END:VEVENT
BEGIN:VEVENT
DTSTART;TZID=Asia/Dubai:20111004T173500
DTEND;TZID=Asia/Dubai:20111004T173500
DTSTAMP:20260421T180142
CREATED:20111004T133543Z
LAST-MODIFIED:20240202T082240Z
UID:10004292-1317749700-1317749700@events.iliauni.edu.ge
SUMMARY:უნიკინო 21 ოქტომბერს: ”პრინცესა მონონოკი”
DESCRIPTION:პარასკევს\, 21 ოქტომბერს\, 18:00 საათზე\, ილიას უნივერსიტეტის A კორპუსში\, 101-ე აუდიტორიაში (ი. ჭავჭავაძის გამზ. 32)\, ნაჩვენები იქნება ჰაიაო მიაზაკის ანიმაციური ფილმი ”პრინცესა მონონოკი”. თარგმანი: ანნა კორიფაძე. \nდასწრება თავისუფალია. \n\n[wpai_display_imported_files_here]
URL:https://events.iliauni.edu.ge/event/unikino-21-oqtombers-printsesa-mononoki/
CATEGORIES:უნიკინოს აფიშა
ATTACH;FMTTYPE=image/png:https://events.iliauni.edu.ge/wp-content/uploads/2025/09/cover_default.png
END:VEVENT
BEGIN:VEVENT
DTSTART;TZID=Asia/Dubai:20110607T162300
DTEND;TZID=Asia/Dubai:20110607T162300
DTSTAMP:20260421T180142
CREATED:20110607T122358Z
LAST-MODIFIED:20240202T075810Z
UID:10003901-1307463780-1307463780@events.iliauni.edu.ge
SUMMARY:ანიმაციური ფილმების კრებული
DESCRIPTION:10 ივნისს\, 18:00 საათზე\, ილიას სახელმწიფო უნივერსიტეტის A კორპუსში\, 101-ე აუდიტორიაში\, განმეორებით იქნება ნაჩვენები ანიმაციური ფილმების კრებული: CREATURE COMFORTS (Nick Park – winner\, 1990); BALANCE (Lauenstein – winner\, 1989); TECHNOLOGICAL THREAT (Kroyer – nominee\, 1988); THE CAT CAME BACK (Barker – nominee\, 1988); YOUR FACE  (Plympton – nominee\, 1987) EVERY CHILD (Fedorenco and Lamb – winner\, 1979). \n\n[wpai_display_imported_files_here]
URL:https://events.iliauni.edu.ge/event/animatsiuri-philmebis-krebuli-2/
CATEGORIES:უნიკინოს აფიშა
ATTACH;FMTTYPE=image/png:https://events.iliauni.edu.ge/wp-content/uploads/2025/09/cover_default.png
END:VEVENT
BEGIN:VEVENT
DTSTART;TZID=Asia/Dubai:20110530T172500
DTEND;TZID=Asia/Dubai:20110530T172500
DTSTAMP:20260421T180142
CREATED:20110530T132546Z
LAST-MODIFIED:20240202T075441Z
UID:10003870-1306776300-1306776300@events.iliauni.edu.ge
SUMMARY:უნიკინო 3 ივნისს: ”ვის ეშინია ვირჯინია ვულფის?”
DESCRIPTION:პარასკევს\, 3 ივნისს\, 18:00 საათზე\, ილიას უნივერსიტეტის A კორპუსში\, 101-ე აუდიტორიაში\, ნაჩვენები იქნება მაიკ ნიკოლსის ფილმი ”ვის ეშინია ვირჯინია ვულფის?” (1966). მონაწილეობენ: ელიზაბეტ ტეილორი\, რიჩარდ ბარტონი\, ჯორჯ სიგალი\, სანდი დენისი და სხვები. ფილმის ჩვენება ხორციელდება პირველი არხის ხელშეწყობით. \nდასწრება თავისუფალია. \n\n[wpai_display_imported_files_here]
URL:https://events.iliauni.edu.ge/event/unikino-3-ivniss-vis-eshinia-virjinia-vulphis/
CATEGORIES:უნიკინოს აფიშა
ATTACH;FMTTYPE=image/png:https://events.iliauni.edu.ge/wp-content/uploads/2025/09/cover_default.png
END:VEVENT
BEGIN:VEVENT
DTSTART;TZID=Asia/Dubai:20110524T190300
DTEND;TZID=Asia/Dubai:20110524T190300
DTSTAMP:20260421T180142
CREATED:20110524T150357Z
LAST-MODIFIED:20240202T075136Z
UID:10003798-1306263780-1306263780@events.iliauni.edu.ge
SUMMARY:ანიმაციური ფილმების კრებული
DESCRIPTION:პარასკევს\, 27 მაისს\, 18:00 საათზე\, ილიას უნივერსიტეტის A კორპუსში\, 101-ე აუდიტორიაში\, ნაჩვენები იქნება ანიმაციური ფილმების კრებული:  CREATURE COMFORTS (Nick Park – winner\, 1990); BALANCE (Lauenstein – winner\, 1989); TECHNOLOGICAL THREAT (Kroyer – nominee\, 1988); THE CAT CAME BACK (Barker – nominee\, 1988); YOUR FACE  (Plympton – nominee\, 1987) EVERY CHILD (Fedorenco and Lamb – winner\, 1979). \n\n[wpai_display_imported_files_here]
URL:https://events.iliauni.edu.ge/event/animatsiuri-philmebis-krebuli/
CATEGORIES:უნიკინოს აფიშა
ATTACH;FMTTYPE=image/png:https://events.iliauni.edu.ge/wp-content/uploads/2025/09/cover_default.png
END:VEVENT
BEGIN:VEVENT
DTSTART;TZID=Asia/Dubai:20110517T170700
DTEND;TZID=Asia/Dubai:20110517T170700
DTSTAMP:20260421T180142
CREATED:20110517T130738Z
LAST-MODIFIED:20240202T074642Z
UID:10003701-1305652020-1305652020@events.iliauni.edu.ge
SUMMARY:უნიკინო 20 მაისს: ”ჩემი მარცხენა ფეხი”
DESCRIPTION:პარასკევს\, 20 მაისს\, 18:00 საათზე\, ილიას უნივერსიტეტის A კორპუსში\, 101-ე აუდიტორიაში\, ნაჩვენები იქნება ჯიმ შერიდანის ფილმი ”ჩემი მარცხენა ფეხი”. მონაწილეობენ: დენიელ დეი-ლიუისი\, ბრენდა ფრიკერი\, ელისონ ვილანი\, კირსტენ შერიდანი და სხვები. თარგმანი: ანნა კორიფაძე. \nდასწრება თავისუფალია. \n\n[wpai_display_imported_files_here]
URL:https://events.iliauni.edu.ge/event/unikino-20-maiss-chemi-martskhena-phekhi/
CATEGORIES:უნიკინოს აფიშა
ATTACH;FMTTYPE=image/png:https://events.iliauni.edu.ge/wp-content/uploads/2025/09/cover_default.png
END:VEVENT
END:VCALENDAR