BEGIN:VCALENDAR
VERSION:2.0
PRODID:-//უნივერსიტეტის ღონისძიებების პორტალი - ECPv6.2.8.2//NONSGML v1.0//EN
CALSCALE:GREGORIAN
METHOD:PUBLISH
X-WR-CALNAME:უნივერსიტეტის ღონისძიებების პორტალი
X-ORIGINAL-URL:https://events.iliauni.edu.ge
X-WR-CALDESC:Events for უნივერსიტეტის ღონისძიებების პორტალი
REFRESH-INTERVAL;VALUE=DURATION:PT1H
X-Robots-Tag:noindex
X-PUBLISHED-TTL:PT1H
BEGIN:VTIMEZONE
TZID:Asia/Dubai
BEGIN:STANDARD
TZOFFSETFROM:+0400
TZOFFSETTO:+0400
TZNAME:+04
DTSTART:20090101T000000
END:STANDARD
END:VTIMEZONE
BEGIN:VEVENT
DTSTART;TZID=Asia/Dubai:20091214T000000
DTEND;TZID=Asia/Dubai:20091214T000000
DTSTAMP:20260422T145653
CREATED:20091213T200000Z
LAST-MODIFIED:20240201T112447Z
UID:10000175-1260748800-1260748800@events.iliauni.edu.ge
SUMMARY:უნიკინო\, 18 დეკემბერი\, 2010: 'ბოლი'
DESCRIPTION:პარასკევს\, 18 დეკემბერს\, 18.00 საათზე\, უნიკინოში ნახავთ ფილმს “ბოლი” (Smoke) პოლ ოსტერის სცენარის მიხედვით. მის: ი.ჭავჭავაძის გამზ.32\, ა კორპუსი\, 101-ე აუდიტორია. \n\n\n[wpai_display_imported_files_here]
URL:https://events.iliauni.edu.ge/event/unikino-18-dekemberi-2010-boli/
CATEGORIES:უნიკინოს აფიშა
ATTACH;FMTTYPE=image/png:https://events.iliauni.edu.ge/wp-content/uploads/2025/09/cover_default.png
END:VEVENT
BEGIN:VEVENT
DTSTART;TZID=Asia/Dubai:20091201T000000
DTEND;TZID=Asia/Dubai:20091201T000000
DTSTAMP:20260422T145653
CREATED:20091130T200000Z
LAST-MODIFIED:20240201T112336Z
UID:10000137-1259625600-1259625600@events.iliauni.edu.ge
SUMMARY:უნიკინო\, 4 დეკემბერი\, 2009: ” კუსაც შეუძლია ფრენა”
DESCRIPTION:პარასკევს\, 4 დეკემბერს\,18.00 საათზე უნიკინოში ნახავთ ბაჰმან გობადის ფილმს ”კუსაც შეუძლია ფრენა”. \nდასწრება თავისუფალია. \nმის: ილ.ჭავჭავაძის გამზ.32\, ა კორპუსი\, 101- ე აუდიტორია. \n\n\n[wpai_display_imported_files_here]
URL:https://events.iliauni.edu.ge/event/unikino-4-dekemberi-2009-kusats-sheudzlia-phrena/
CATEGORIES:უნიკინოს აფიშა
ATTACH;FMTTYPE=image/png:https://events.iliauni.edu.ge/wp-content/uploads/2025/09/cover_default.png
END:VEVENT
BEGIN:VEVENT
DTSTART;TZID=Asia/Dubai:20091116T000000
DTEND;TZID=Asia/Dubai:20091116T000000
DTSTAMP:20260422T145654
CREATED:20091115T200000Z
LAST-MODIFIED:20240201T112234Z
UID:10000107-1258329600-1258329600@events.iliauni.edu.ge
SUMMARY:უნიკინო\, 20 ნოემბერი: ” შეყვარებულები პონტ ნოფიდან”
DESCRIPTION:პარასკევს\, 20 ნოემბერს\, 19.00 სთ-ზე უნიკინოში ნაჩვენები იქნება ლეო კარაქსის ფილმი “შეყვარებულები პონტ ნოფიდან” ჟულიეტ ბინოშის და დენის ლავანის მონაწილეობით. \nგთხოვთ\, გვეწვიოთ: ჭავჭავაძის 32\, A კორპუსი\, 101 აუდიტორია. \n\n\n[wpai_display_imported_files_here]
URL:https://events.iliauni.edu.ge/event/unikino-20-noemberi-sheqhvarebulebi-pont-nophidan/
CATEGORIES:უნიკინოს აფიშა
ATTACH;FMTTYPE=image/png:https://events.iliauni.edu.ge/wp-content/uploads/2025/09/cover_default.png
END:VEVENT
BEGIN:VEVENT
DTSTART;TZID=Asia/Dubai:20091109T000000
DTEND;TZID=Asia/Dubai:20091109T000000
DTSTAMP:20260422T145654
CREATED:20091108T200000Z
LAST-MODIFIED:20240201T112241Z
UID:10000112-1257724800-1257724800@events.iliauni.edu.ge
SUMMARY:უნიკინო 13 ნოემბერს: მოქალაქე კეინი
DESCRIPTION:პარასკევს\, 13 ნოემბერს\, 19.00 საათზე\, უნიკინოში ნაჩვენები იქნება ორსონ უელსის ფილმი “მოქალაქე კეინი”. ჭავჭავაძის 32\, ა კორპუსი\, 101-ე აუდიტორია. \n\n[wpai_display_imported_files_here]
URL:https://events.iliauni.edu.ge/event/unikino-13-noembers-moqalaqe-keini/
CATEGORIES:უნიკინოს აფიშა
ATTACH;FMTTYPE=image/png:https://events.iliauni.edu.ge/wp-content/uploads/2025/09/cover_default.png
END:VEVENT
BEGIN:VEVENT
DTSTART;TZID=Asia/Dubai:20091026T000000
DTEND;TZID=Asia/Dubai:20091026T000000
DTSTAMP:20260422T145654
CREATED:20091025T200000Z
LAST-MODIFIED:20240201T112249Z
UID:10000115-1256515200-1256515200@events.iliauni.edu.ge
SUMMARY:უნიკინო\, 23 ოქტომბერს: უკანასკნელ ამოსუნთქვამდე
DESCRIPTION:პარასკევს\, 23 ოქტომბერს\, 18.00\, უნიკინო გთავაზობთ ჟან-ლუკ გოდარის ფილმს “Breathless” (უკანასკნელ ამოსუნთქვამდე). \nმის.: ჭავჭავაძის 32\, ა კორპუსი\, 101 აუდიტორია. დასწრება უფასოა. \n\n[wpai_display_imported_files_here]
URL:https://events.iliauni.edu.ge/event/unikino-23-oqtombers-ukanasknel-amosunthqvamde/
CATEGORIES:უნიკინოს აფიშა
ATTACH;FMTTYPE=image/png:https://events.iliauni.edu.ge/wp-content/uploads/2025/09/cover_default.png
END:VEVENT
BEGIN:VEVENT
DTSTART;TZID=Asia/Dubai:20091026T000000
DTEND;TZID=Asia/Dubai:20091026T000000
DTSTAMP:20260422T145654
CREATED:20091025T200000Z
LAST-MODIFIED:20240201T112245Z
UID:10000113-1256515200-1256515200@events.iliauni.edu.ge
SUMMARY:უნიკინო 30 ოქტომბერს: ჩვეულებრივი ეჭვმიტანილები
DESCRIPTION:პარასკევს\, 30 ოქტომბერს\, 18:00 საათზე\, უნიკინო გთავაზობთ ფილმს “ჩვეულებრივ ეჭვმიტანილებს”. მის: ჭავჭავაძის 32\, ა კორპუსი\, 101 აუდიტორია. \nდასწრება უფასოა. \n\n\n[wpai_display_imported_files_here]
URL:https://events.iliauni.edu.ge/event/unikino-30-oqtombers-chveulebrivi-etchvmitanilebi/
CATEGORIES:უნიკინოს აფიშა
ATTACH;FMTTYPE=image/png:https://events.iliauni.edu.ge/wp-content/uploads/2025/09/cover_default.png
END:VEVENT
BEGIN:VEVENT
DTSTART;TZID=Asia/Dubai:20091005T000000
DTEND;TZID=Asia/Dubai:20091005T000000
DTSTAMP:20260422T145654
CREATED:20091004T200000Z
LAST-MODIFIED:20240201T112253Z
UID:10000117-1254700800-1254700800@events.iliauni.edu.ge
SUMMARY:უნიკინო 9 ოქტომბერს: ღამე დედამიწაზე
DESCRIPTION:პარასკევს\, 9 ოქტომბერს\, 18.00 საათზე\, უნიკინო წარმოგიდგენთ ჯიმ ჯარმუშის ფილმს: “ღამე დედამიწაზე”. მთავარ როლებში: რობერტო ბენინი\, ვინონა რაიდერი\, ბეატრის დალი. \nჩვენება იმართება 101-ე აუდიტორიაში\, ა კორპუსში. \nდასწრება თავისუფალია. \n\n\n[wpai_display_imported_files_here]
URL:https://events.iliauni.edu.ge/event/unikino-9-oqtombers-ghame-dedamitsaze/
CATEGORIES:უნიკინოს აფიშა
ATTACH;FMTTYPE=image/png:https://events.iliauni.edu.ge/wp-content/uploads/2025/09/cover_default.png
END:VEVENT
BEGIN:VEVENT
DTSTART;TZID=Asia/Dubai:20090928T000000
DTEND;TZID=Asia/Dubai:20090928T000000
DTSTAMP:20260422T145654
CREATED:20090927T200000Z
LAST-MODIFIED:20240201T112257Z
UID:10000120-1254096000-1254096000@events.iliauni.edu.ge
SUMMARY:უნიკინო 2 ოქტომბერს: CINEMA PARADISO
DESCRIPTION:უნიკინო – “CINEMA PARADISO”\, 1990 წლის ოსკარის მფლობელი რეჟისორი ჯუზეპე ტორნატორეს ფილმი პარასკევს\, 2 ოქტომბერს\, 18:00 საათზე\, ილია ჭავჭავაძის სახელმწიფო უნივერსიტეტის A კორპუსის 101 აუდიტორიაში ( ჭავჭავაძის გამზ.32) იქნება ნაჩვენები. \nმთავარ როლებში: ფილიპ ნუარე\, პუპელა მაჯიო\, ჟაკ პერენი\, მარკო ლეონარდი. \nდასწრება თავისუფალია. \n\n[wpai_display_imported_files_here]
URL:https://events.iliauni.edu.ge/event/unikino-2-oqtombers-cinema-paradiso/
CATEGORIES:უნიკინოს აფიშა
ATTACH;FMTTYPE=image/png:https://events.iliauni.edu.ge/wp-content/uploads/2025/09/cover_default.png
END:VEVENT
BEGIN:VEVENT
DTSTART;TZID=Asia/Dubai:20090622T000000
DTEND;TZID=Asia/Dubai:20090622T000000
DTSTAMP:20260422T145654
CREATED:20090621T200000Z
LAST-MODIFIED:20240201T112308Z
UID:10000121-1245628800-1245628800@events.iliauni.edu.ge
SUMMARY:უნიკინო 26 ივნისს: "კანონს მიღმა"
DESCRIPTION:პარასკევს\, 26 ივნისს\, 18:00 საათზე\, ილია ჭავჭავაძის სახელმწიფო უნივერსიტეტის A კორპუსის 101 აუდიტორიაში (ჭავჭავაძის გამზ.32) ნაჩვენები იქნება ამერიკელი რეჟისორის\, ჯიმ ჯარმუშის ფილმი “კანონს მიღმა” (Down by law). მონაწილეობენ: რობერტო ბენინი\, ტომ ვეითსი\, ჯონ ლური და სხვები. ფილმი გადაღებულია 1986 წელს და მიღებული აქვს მრავალი პრიზი. \n\n[wpai_display_imported_files_here]
URL:https://events.iliauni.edu.ge/event/unikino-26-ivniss-kanons-mighma/
CATEGORIES:უნიკინოს აფიშა
ATTACH;FMTTYPE=image/png:https://events.iliauni.edu.ge/wp-content/uploads/2025/09/cover_default.png
END:VEVENT
BEGIN:VEVENT
DTSTART;TZID=Asia/Dubai:20090612T183900
DTEND;TZID=Asia/Dubai:20090612T183900
DTSTAMP:20260422T145654
CREATED:20090612T143943Z
LAST-MODIFIED:20240201T112310Z
UID:10000126-1244831940-1244831940@events.iliauni.edu.ge
SUMMARY:უნიკინო 19 ივნისს: ”შეშლილების გალია”
DESCRIPTION:პარასკევს\, 19 ივნისს\, 18:00 საათზე  ილია ჭავჭავაძის სახელმწიფო უნივერსიტეტის სააქტო დარბაზში (ჩოლოყაშვილის გამზ.3-5\, ვაკის პარკთან) ნაჩვენები იქნება იტალიელი რეჟისორის\, ედუარდ მოლინოს განუმეორებელი კომედია- ”შეშლილების გალია”. \n\n\n[wpai_display_imported_files_here]
URL:https://events.iliauni.edu.ge/event/unikino-19-ivniss-sheshlilebis-galia/
CATEGORIES:უნიკინოს აფიშა
ATTACH;FMTTYPE=image/png:https://events.iliauni.edu.ge/wp-content/uploads/2025/09/cover_default.png
END:VEVENT
BEGIN:VEVENT
DTSTART;TZID=Asia/Dubai:20090608T120000
DTEND;TZID=Asia/Dubai:20090608T120000
DTSTAMP:20260422T145654
CREATED:20090607T200000Z
LAST-MODIFIED:20240201T112320Z
UID:10000003-1244462400-1244462400@events.iliauni.edu.ge
SUMMARY:უნიკინო 12 ივნისს: ”ბოლი” (Smoke)
DESCRIPTION:პარასკევს\, 12 ივნისს\, 18:00 საათზე\, ილიაუნის ავსტრიული ბიბლიოთეკის №10 ოთახში\, გაიმართება ფილმის “ბოლი” (Smoke) ჩვენება. ფილმის სცენარის ავტორი და თანარეჟისორი არის ცნობილი ამერიკელი მწერალი პოლ ოსტერი. როლებში – უილიამ ჰარტი\, ჰარვეი კეიტელი\, ფორესტ უითაკერი და სხვები.ფილმი გადაღებული 1994 წელს და მრავალი პრიზი აქვს მიღებული. \nინფორმაცია ვებ-ზე: http://www.imdb.com/title/tt0114478/ \n\n\n[wpai_display_imported_files_here]
URL:https://events.iliauni.edu.ge/event/unikino-12-ivniss-boli-smoke/
CATEGORIES:უნიკინოს აფიშა
ATTACH;FMTTYPE=image/png:https://events.iliauni.edu.ge/wp-content/uploads/2025/09/cover_default.png
END:VEVENT
END:VCALENDAR