BEGIN:VCALENDAR
VERSION:2.0
PRODID:-//უნივერსიტეტის ღონისძიებების პორტალი - ECPv6.2.8.2//NONSGML v1.0//EN
CALSCALE:GREGORIAN
METHOD:PUBLISH
X-ORIGINAL-URL:https://events.iliauni.edu.ge
X-WR-CALDESC:Events for უნივერსიტეტის ღონისძიებების პორტალი
REFRESH-INTERVAL;VALUE=DURATION:PT1H
X-Robots-Tag:noindex
X-PUBLISHED-TTL:PT1H
BEGIN:VTIMEZONE
TZID:Asia/Dubai
BEGIN:STANDARD
TZOFFSETFROM:+0400
TZOFFSETTO:+0400
TZNAME:+04
DTSTART:20240101T000000
END:STANDARD
END:VTIMEZONE
BEGIN:VEVENT
DTSTART;TZID=Asia/Dubai:20241130T200000
DTEND;TZID=Asia/Dubai:20241130T210000
DTSTAMP:20260424T015027
CREATED:20241127T101652Z
LAST-MODIFIED:20241127T101652Z
UID:10005623-1732996800-1733000400@events.iliauni.edu.ge
SUMMARY:ილიაუნი vs თსუ 2
DESCRIPTION:30 ნოემბერს\, 20:00 საათზე\, თბილისის ოლიმპიურ სასახლეში ილიაუნი ფუტსალის მეორე ლიგის მეშვიდე ტურის შეხვედრას პრინციპულ მეტოქესთან\, თსუ 2-თან\, გამართავს. \nახლანდელი მონაცემებით ილიაუნისა და თსუ 2-ს თანაბარი\, 10-10 ქულა აქვთ\, თუმცა ბურთების უკეთესი შეფარდებით ილიაუნი მესამე ადგილზეა\, თსუ 2 − მეოთხეზე. \nჩვენი  გუნდი მატჩს კარგ ფორმაში ხვდება\, ბოლო 3 თამაშიდან მან 2 გამარჯვება მოიპოვა\, 1 მატჩი კი ფრედ დაასრულა. \nდრო: 30 ნოემბერი\, 20:00 საათი \nადგიმლდებარეობა: თბილისის ოლიმპიური სასახლე (უნივერისტეტის ქუჩა 15ა) \nგულშემატკივართა დასწრება თავისუფალია.
URL:https://events.iliauni.edu.ge/event/iliauni-vs-thsu-2/
CATEGORIES:სპორტული ღონისძიებები
ATTACH;FMTTYPE=image/png:https://events.iliauni.edu.ge/wp-content/uploads/2024/11/tsu_web_new-1.png
END:VEVENT
END:VCALENDAR