BEGIN:VCALENDAR
VERSION:2.0
PRODID:-//უნივერსიტეტის ღონისძიებების პორტალი - ECPv6.2.8.2//NONSGML v1.0//EN
CALSCALE:GREGORIAN
METHOD:PUBLISH
X-ORIGINAL-URL:https://events.iliauni.edu.ge
X-WR-CALDESC:Events for უნივერსიტეტის ღონისძიებების პორტალი
REFRESH-INTERVAL;VALUE=DURATION:PT1H
X-Robots-Tag:noindex
X-PUBLISHED-TTL:PT1H
BEGIN:VTIMEZONE
TZID:Asia/Dubai
BEGIN:STANDARD
TZOFFSETFROM:+0400
TZOFFSETTO:+0400
TZNAME:+04
DTSTART:20240101T000000
END:STANDARD
END:VTIMEZONE
BEGIN:VEVENT
DTSTART;TZID=Asia/Dubai:20241002T120000
DTEND;TZID=Asia/Dubai:20241002T130000
DTSTAMP:20260423T043630
CREATED:20240925T115133Z
LAST-MODIFIED:20240925T115133Z
UID:10005536-1727870400-1727874000@events.iliauni.edu.ge
SUMMARY:ვორკშოპი „იაპონური სამოსი\, კალიგრაფია და ორიგამის ხელოვნება“
DESCRIPTION:2 ოქტომბერს\, 12:00 საათზე\, ილიას სახელმწიფო უნივერსიტეტის G106 აუდიტორიაში ილიაუნის აღმოსავლეთმცოდნეობის ინსტიტუტის იაპონური ცენტრის ორგანიზებით გაიმართება იაპონური კულტურისადმი მიძღვნილი ვორკშოპი „იაპონური სამოსი\, კალიგრაფია და ორიგამის ხელოვნება”. \nმას გაუძღვებიან ილიაუნის ასოცირებული პროფესორი ჯაბა მესხიშვილი და იაპონიის საერთაშორისო თანამშრომლობის სააგენტოსთან თანამშრომლობის ფარგლებში მოწვეული იაპონური ენის ლექტორი რისა უჩიდა. \nვორკშოპის მონაწილეები გაეცნობიან ინფორმაციას იაპონურის სამოსის\, კალიგრაფიისა და ორიგამის შესახებ\, საშუალება ექნებათ\, მოირგონ იაპონური სამოსი\, სპეციალური იაპონური ფუნჯების საშუალებით შეასრულონ კალიგრაფიის ნიმუშები და გააკეთონ ორიგამი (ქაღალდის ფიგურები). \nსამუშაო ენები: ქართული\, ინგლისური \nდრო: 2 ოქტომბერი\, 12:00 საათი \nადგილმდებარეობა: ილიას სახელმწიფო უნივერსიტეტის G106 აუდიტორია\, გ. წერეთლის ქ. N1. \nდასწრება თავისუფალია.
URL:https://events.iliauni.edu.ge/event/vorkshopi-iaponuri-samosi-kaligraphia-da-origamis-khelovneba/
CATEGORIES:მეცნიერებათა და ხელოვნების ფაკულტეტი,სემინარები
ATTACH;FMTTYPE=image/png:https://events.iliauni.edu.ge/wp-content/uploads/2024/09/web-metsn-khel-iaponia.png
END:VEVENT
END:VCALENDAR