BEGIN:VCALENDAR
VERSION:2.0
PRODID:-//უნივერსიტეტის ღონისძიებების პორტალი - ECPv6.2.8.2//NONSGML v1.0//EN
CALSCALE:GREGORIAN
METHOD:PUBLISH
X-ORIGINAL-URL:https://events.iliauni.edu.ge
X-WR-CALDESC:Events for უნივერსიტეტის ღონისძიებების პორტალი
REFRESH-INTERVAL;VALUE=DURATION:PT1H
X-Robots-Tag:noindex
X-PUBLISHED-TTL:PT1H
BEGIN:VTIMEZONE
TZID:Asia/Dubai
BEGIN:STANDARD
TZOFFSETFROM:+0400
TZOFFSETTO:+0400
TZNAME:+04
DTSTART:20240101T000000
END:STANDARD
END:VTIMEZONE
BEGIN:VEVENT
DTSTART;TZID=Asia/Dubai:20240418T190000
DTEND;TZID=Asia/Dubai:20240418T200000
DTSTAMP:20260424T034730
CREATED:20240416T121851Z
LAST-MODIFIED:20240416T121851Z
UID:10005421-1713466800-1713470400@events.iliauni.edu.ge
SUMMARY:ღია მასალები – ვებინარების ციკლი „საუკეთესო პრაქტიკა“
DESCRIPTION:18 აპრილს\, 19:00 საათზე\, ილიას სახელმწიფო უნივერსიტეტის ბავშვის განვითარების ინსტიტუტის ორგანიზებით გაიმართება ვებინარების ციკლის მეორე შეხვედრა „ღია მასალები”. \nისაუბრებენ: \n\nლუიზა ბერიძე\, ბათუმის N34 საბავშვო ბაღის აღმზრდელი\nხატია კონცელიძე\, ბათუმის N35 საბავშვო ბაღის პეც. პედაგოგი\n\nშეხვედრა გაიმართება ბავშვის განვითარების ინსტიტუტის ფეისბუქის გვერდზე.
URL:https://events.iliauni.edu.ge/event/ghia-masalebi-vebinarebis-tsikli-sauketheso-praqtika/
CATEGORIES:სემინარები
ATTACH;FMTTYPE=image/png:https://events.iliauni.edu.ge/wp-content/uploads/2024/04/shekhvedra2_web-1.png
END:VEVENT
END:VCALENDAR