BEGIN:VCALENDAR
VERSION:2.0
PRODID:-//უნივერსიტეტის ღონისძიებების პორტალი - ECPv6.2.8.2//NONSGML v1.0//EN
CALSCALE:GREGORIAN
METHOD:PUBLISH
X-WR-CALNAME:უნივერსიტეტის ღონისძიებების პორტალი
X-ORIGINAL-URL:https://events.iliauni.edu.ge
X-WR-CALDESC:Events for უნივერსიტეტის ღონისძიებების პორტალი
REFRESH-INTERVAL;VALUE=DURATION:PT1H
X-Robots-Tag:noindex
X-PUBLISHED-TTL:PT1H
BEGIN:VTIMEZONE
TZID:Asia/Dubai
BEGIN:STANDARD
TZOFFSETFROM:+0400
TZOFFSETTO:+0400
TZNAME:+04
DTSTART:20240101T000000
END:STANDARD
END:VTIMEZONE
BEGIN:VEVENT
DTSTART;TZID=Asia/Dubai:20241016T163000
DTEND;TZID=Asia/Dubai:20241016T173000
DTSTAMP:20260422T132750
CREATED:20241009T090510Z
LAST-MODIFIED:20241009T090510Z
UID:10005554-1729096200-1729099800@events.iliauni.edu.ge
SUMMARY:ფილმის „ათასი ჭრილობა“ ჩვენება და შეხვედრა ჩეხეთის ელჩთან საქართველოში
DESCRIPTION:16 ოქტომბერს\, 16:30 საათზე\, ილიას სახელმწიფო უნივერსიტეტის T102 საკონფერენციო დარბაზში ილიაუნის სამართლის სკოლის ადამიანის უფლებათა მიმართულება და კინოკლუბი ყვარლის ევროკლუბთან თანამშრომლობით გამართავს ფილმის „ათასი ჭრილობა“ ჩვენებასა და დისკუსიას. \nფილმის ჩვენების შემდეგ ჩეხეთის რესპუბლიკის საგანგებო და სრულუფლებიან ელჩთან\, პეტრ კუბერნატთან გაიმართება შეხვედრა\, რომელსაც სიტყვით გახსნის ილიას სახელმწიფო უნივერსიტეტის რექტორი ნინო დობორჯგინიძე. \nდოკუმენტური ფილმი მოგვითხრობს საინფორმაციო ომსა და ფილიპინელ ჟურნალისტ მარია რესაზე. ის Rappler-ის თანადამფუძნებელი და აღმასრულებელი დირექტორია\, 2019 წელს მარია რესა დააპატიმრეს „კიბერცილისწამებისთვის“ მის მიერ მომზადებული ჟურნალისტური გამოძიებების გამო. 2021 წელს ნობელის პრემია მიენიჭა მშვიდობის დარგში გამოხატვის თავისუფლების დაცვისთვის. \nფილმი ქართულ ენაზე ევროკავშირის მხარდაჭერით ითარგმნა. \nმომხსენებლები: \n\nპეტრ კუბერნატი\, ჩეხეთის რესპუბლიკის ელჩი საქართველოში;\nნინო დობორჯგინიძე\, ილიას სახელმწიფო უნივერსიტეტის რექტორი;\nნიკა გურინი\, ყვარლის ევროკლუბის ხელმძღვანელი\, ილიაუნის სამართლის სკოლის საჯარო სამართლისა და პოლიტიკის სამაგისტრო პროგრამის სტუდენტი.\n\nმოდერატორი − თამარ ჩხიკვაძე\, ილიაუნის სამართლის სკოლის მეორე კურსის სტუდენტი \nდეტალური დღის წესრიგი: \n\n16:30 – 18:00 კინოჩვენება\n18:00 – 18:10 მისასალმებელი სიტყვა – ნინო დობორჯგინიძე\n18:10 – 18:30 დისკუსია პეტრ კუბერნატსა და ნიკა გურინთან\n\nსამუშაო ენა: ქართული \nდრო: 16 ოქტომბერი\, 16:30 საათი \nადგილმდებარეობა: ილიას სახელმწიფო უნივერსიტეტის T102 აუდიტორია\, ქ. ჩოლოყაშვილის გამზ. N3/5 \nდასწრება თავისუფალია.
URL:https://events.iliauni.edu.ge/event/philmis-athasi-tchriloba-chveneba-da-shekhvedra-chekhethis-elchthan-saqarthveloshi/
CATEGORIES:სამართლის სკოლა,ღონისძიებები
ATTACH;FMTTYPE=image/png:https://events.iliauni.edu.ge/wp-content/uploads/2024/10/1000_web_new.png
END:VEVENT
END:VCALENDAR