BEGIN:VCALENDAR
VERSION:2.0
PRODID:-//უნივერსიტეტის ღონისძიებების პორტალი - ECPv6.2.8.2//NONSGML v1.0//EN
CALSCALE:GREGORIAN
METHOD:PUBLISH
X-WR-CALNAME:უნივერსიტეტის ღონისძიებების პორტალი
X-ORIGINAL-URL:https://events.iliauni.edu.ge
X-WR-CALDESC:Events for უნივერსიტეტის ღონისძიებების პორტალი
REFRESH-INTERVAL;VALUE=DURATION:PT1H
X-Robots-Tag:noindex
X-PUBLISHED-TTL:PT1H
BEGIN:VTIMEZONE
TZID:Asia/Dubai
BEGIN:STANDARD
TZOFFSETFROM:+0400
TZOFFSETTO:+0400
TZNAME:+04
DTSTART:20250101T000000
END:STANDARD
END:VTIMEZONE
BEGIN:VEVENT
DTSTART;TZID=Asia/Dubai:20250313T150000
DTEND;TZID=Asia/Dubai:20250313T170000
DTSTAMP:20260422T044146
CREATED:20250311T115420Z
LAST-MODIFIED:20250311T122407Z
UID:10005679-1741878000-1741885200@events.iliauni.edu.ge
SUMMARY:საჯარო ლექცია „როგორ განვავითაროთ საკუთარი შესაძლებლობები სწორად და შედეგიანად“
DESCRIPTION:13 მარტს\, 15:00 საათზე\, ილიას სახელმწიფო უნივერსიტეტის T102 აუდიტორიაში პროექტის “Level UP” ფარგლებში პირველ ლექციას წაიკითხავს ილიაუნის ლექტორი\, ორგანიზაციული განვითარების კონსულტანტი\, კარიერისა და HR ბრენდინგის ექსპერტი და ტრენერი ნატალია ვართანოვა. \nლექციის თემები: \nშეფასება: როგორ გავაანალიზოთ საკუთარი შესაძლებლობები და როგორ მივმართოთ სწორად კარიერული განვითარებისკენ \nუნარ–ჩვევები: შრომის ბაზარზე წარმატებისთვის აუცილებელი უნარების განვითარება \nლექციაზე დასწრების მსურველები გთხოვთ\, დარეგისტრირდეთ: https://forms.gle/Z1kbo3T7Y269LvUBA \nსამუშაო ენა: ქართული \nდრო: 13 მარტი\, 15:00 საათი \nადგილმდებარეობა: ილიას სახელმწიფო უნივერსიტეტის T102 აუდიტორია\, ქ. ჩოლოყაშვილის გამზ. N3/5 \n 
URL:https://events.iliauni.edu.ge/event/11-03-2025-public-lectures/
CATEGORIES:საჯარო ლექციები
ATTACH;FMTTYPE=image/png:https://events.iliauni.edu.ge/wp-content/uploads/2025/03/axali.png
END:VEVENT
END:VCALENDAR