BEGIN:VCALENDAR
VERSION:2.0
PRODID:-//უნივერსიტეტის ღონისძიებების პორტალი - ECPv6.2.8.2//NONSGML v1.0//EN
CALSCALE:GREGORIAN
METHOD:PUBLISH
X-ORIGINAL-URL:https://events.iliauni.edu.ge
X-WR-CALDESC:Events for უნივერსიტეტის ღონისძიებების პორტალი
REFRESH-INTERVAL;VALUE=DURATION:PT1H
X-Robots-Tag:noindex
X-PUBLISHED-TTL:PT1H
BEGIN:VTIMEZONE
TZID:Asia/Dubai
BEGIN:STANDARD
TZOFFSETFROM:+0400
TZOFFSETTO:+0400
TZNAME:+04
DTSTART:20240101T000000
END:STANDARD
END:VTIMEZONE
BEGIN:VEVENT
DTSTART;TZID=Asia/Dubai:20240528T150000
DTEND;TZID=Asia/Dubai:20240528T170000
DTSTAMP:20260423T153311
CREATED:20240524T091310Z
LAST-MODIFIED:20240524T091310Z
UID:10005454-1716908400-1716915600@events.iliauni.edu.ge
SUMMARY:„წარმატებული ადამიანების 8 ჩვევა“ - საჯარო ლექცია
DESCRIPTION:28 მაისს\, 15:00 საათზე\, ილიას სახელმწიფო უნივერსიტეტის ავსტრიული ბიბლიოთეკაში პროფესორ ფილიპ კიმის ორგანიზებით გაიმართება აქცია „წარმატებული ადამიანების 8 ჩვევა“. \nლექციაზე ამერიკელი პროფესორები სხვადასხვა უნივერსიტეტიდან დამსწრე საზოგადოებას გაუზიარებენ ჩვევებსა და ფილოსოფიას\, რაც მათ წარმატების მიღწევაში ეხმარება. \nდისკუსია გაიმართება „მრგვალი მაგიდის/მუსიკალური სკამების“ ფორმატში\, სადაც სპიკერები განლაგდებიან 4 მაგიდასთან (თითოეულ მაგიდასთან – 2 სპიკერი). დისკუსიის მონაწილეები კი შეიკრიბებიან თითოეული მაგიდის ირგვლივ და მომდევნო 15 წუთის განმავლობაში მოუსმენენ სპიკერების საინტერესო პრეზენტაციებს\, დაუსვამენ მათ კითხვებს ან გაუზიარებენ კომენტარებს. ამის შემდეგ დისკუსიის მონაწილეები გადაინაცვლებენ მომდევნო მაგიდასთან. მრგვალი “მაგიდის/მუსიკალური სკამების” დისკუსიისთვის განკუთვნილი იქნება 60-90 წუთი\, ხოლო დარჩენილი 30 წუთი კითხვა-პასუხის ნაწილს დაეთმობა. \nსპიკერები: \n\nანჰუა ჩენი ბოსტონი დოქტორობის კანდიდატი\, ჰარვარდის უნივერსიტეტი\nენი შენ ჰუანგი ბოსტონი დოქტორობის კანდიდატი\, მასაჩუსეტსის ტექნოლოგიური ინსტიტუტი; ფულბრაიტის სტიპენდიანტი\nბამჯუნ პარკი ვაშინგტონი მერილენდის უნივერსიტეტი\, სტომატოლოგია\nჩერისა შანგი ბოსტონი ჰარვარდის უნივერსიტეტი\nჯეი ჰონგ ჩუ ბოსტონი ჰარვარდის უნივერსიტეტი\nჯეს ჩი ფილადელფია ჰარვარდის უნივერსიტეტი\, ბოსტონის უნივერსიტეტის მედიცინის დოქტორი\nჯონ ვუ ვაშინგტონი დოქტორი\, ჯონს ჰოპკინზის უნივერსიტეტი\nლიდია ჰე ვაშინგტონი დოქტორი\, მერილენდის უნივერსიტეტი\nფილიპ კიმი ფილადელფია ჰარვარდი\, ოქსფორდი\, პენსილვანიის უნივერსიტეტის დოქტორობის კანდიდატი\n\nსამუშაო ენა: ინგლისური \nდრო: 28 მაისი\, 15:00 საათიდან 17:00 საათამდე \nადგილმდებარეობა: ილიას სახელმწიფო უნივერსიტეტის ავსტრიული ბიბლიოთეკა (S507)\, გ. წერეთლის ქუჩა N3 \nდასწრება თავისუფალია.
URL:https://events.iliauni.edu.ge/event/tsarmatebuli-adamianebis-8-chveva-sajaro-leqtsia/
CATEGORIES:მეცნიერებათა და ხელოვნების ფაკულტეტი,საჯარო ლექციები
ATTACH;FMTTYPE=image/png:https://events.iliauni.edu.ge/wp-content/uploads/2024/05/web-8-rcheva.png
END:VEVENT
BEGIN:VEVENT
DTSTART;TZID=Asia/Dubai:20240531T170000
DTEND;TZID=Asia/Dubai:20240531T180000
DTSTAMP:20260423T153311
CREATED:20240530T080716Z
LAST-MODIFIED:20240603T080746Z
UID:10005455-1717174800-1717178400@events.iliauni.edu.ge
SUMMARY:პროფესორ სულხან მუხიგულაშვილისა და ასისტენტ-პროფესორ მარიამ მანჯიკაშვილის საჯარო მოხსენებები
DESCRIPTION:31 მაისს ილიას სახელმწიფო უნივერსიტეტის T302 აუდიტორიაში ტექნოლოგიის სკოლის გაზაფხულის სემესტრის ყოველკვირეული სემინარის ფარგლებში პროფესორი სულხან მუხიგულაშვილი და ასისტენტ-პროფესორი მარიამ მანჯიკაშვილი წაიკითხავენ საჯარო მოხსენებებს. \n\n17:00 საათზე პროფესორი სულხან მუხიგულაშვილი წაიკითხავს მოხსენებას „პერიოდული ამოცანა მაღალი რიგის გადახრილ არგუმენტებიანი დიფერენციალური განტოლებებისთვის“.\n\n\n18:00 საათზე ასისტენტ-პროფესორი მარიამ მანჯიკაშვილი წაიკითხავს მოხსენებას „არაოსცილაციურობის აუცილებელი და საკმარისი პირობები მეოთხე რიგის წრფივი ჩვეულებრი დიფერენციალური განტოლებებისთვის“.\n\nსამუშაო ენა: ქართული \nდრო: 31 მაისი\, 17:00 და 18:00 საათი ადგილმდებარეობა: ილიას სახელმწიფო უნივერსიტეტის T302 აუდიტორია\, ქ. ჩოლოყაშვილის გამზ. N3/5 \nდასწრება თავისუფალია.
URL:https://events.iliauni.edu.ge/event/prophesor-sulkhan-mukhigulashvilisa-da-asistent-prophesor-mariam-manjikashvilis-sajaro-mokhsenebebi/
CATEGORIES:ბიზნესის, ტექნოლოგიისა და განათლების ფაკულტეტი,საჯარო ლექციები
ATTACH;FMTTYPE=image/png:https://events.iliauni.edu.ge/wp-content/uploads/2024/06/507e5292a48a1eda03c8f0440a9145f3_83581.png
END:VEVENT
END:VCALENDAR