BEGIN:VCALENDAR
VERSION:2.0
PRODID:-//უნივერსიტეტის ღონისძიებების პორტალი - ECPv6.2.8.2//NONSGML v1.0//EN
CALSCALE:GREGORIAN
METHOD:PUBLISH
X-ORIGINAL-URL:https://events.iliauni.edu.ge
X-WR-CALDESC:Events for უნივერსიტეტის ღონისძიებების პორტალი
REFRESH-INTERVAL;VALUE=DURATION:PT1H
X-Robots-Tag:noindex
X-PUBLISHED-TTL:PT1H
BEGIN:VTIMEZONE
TZID:Asia/Dubai
BEGIN:STANDARD
TZOFFSETFROM:+0400
TZOFFSETTO:+0400
TZNAME:+04
DTSTART:20240101T000000
END:STANDARD
END:VTIMEZONE
BEGIN:VEVENT
DTSTART;TZID=Asia/Dubai:20240319T130000
DTEND;TZID=Asia/Dubai:20240319T150000
DTSTAMP:20260424T035531
CREATED:20240313T095333Z
LAST-MODIFIED:20240313T095333Z
UID:10005379-1710853200-1710860400@events.iliauni.edu.ge
SUMMARY:„მიწოდების ჯაჭვებისა და ფირმების ცოდნის ქსელების როლი იაპონიის ეკონომიკურ ზრდასა და მდგრადობაში“ – პროფესორ იასუიუკი ტოდოს საჯარო ლექცია
DESCRIPTION:19 მარტს\, 13:00 საათზე\, ილიას სახელმწიფო უნივერსიტეტის G106 აუდიტორიაში ილიაუნის გიორგი წერეთლის აღმოსავლეთმცოდნეობის ინსტიტუტში არსებული იაპონური ცენტრისა და იაპონიის საერთაშორისო თანამშრომლობის სააგენტოს ორგანიზებით იაპონიის შემსწავლელი საგანმანათლებლო კურსის პროგრამის ფარგლებში ვასედას უნივერსიტეტის (იაპონია) პროფესორი იასუიუკი ტოდო წაიკითხავს ლექციას „მიწოდების ჯაჭვებისა და ფირმების ცოდნის ქსელების როლი იაპონიის ეკონომიკურ ზრდასა და მდგრადობაში“. \nთემის მოკლე მიმოხილვა \nპროფესორი იასუიუკი ტოდო განიხილავს მიწოდების ჯაჭვებისა და ფირმების ცოდნის ქსელების როლს იაპონიის ეკონომიკურ ზრდასა და მდგრადობაში. იაპონური ფირმების მიწოდების ჯაჭვებს\, ცნობილს\, როგორც “keiretsu”\, ახასიათებს გრძელვადიანი ძლიერი კავშირები\, რომლებიც აღჭურვილია ნდობით და წვლილი შეაქვს ეფექტურ წარმოებასა და ინოვაციაში. თუმცა ბოლო დროს\, ბუნებრივი კატასტროფების გახშირებისა და ეკონომიკური უსაფრთხოების მზარდი საკითხების გამო\, იაპონური ფირმების ქსელებს შესთავაზეს რეორგანიზაცია და დივერსიფიკაცია მდგრადობისა და ინოვაციის ხელშესაწყობად.  მომხსენებელი ისაუბრებს იაპონიის გამოცდილებიდან ნასწავლ გაკვეთილებსა და შედეგებზე საქართველოსა და სომხეთში. \nმომხსენებლის შესახებ \nიასუიუკი ტოდოს ეკონომიკის დოქტორის ხარისხი მიღებული აქვს სტენფორდის უნივერსიტეტში. ამჟამად ვასედას უნივერსიტეტის პროფესორია. მისი კვლევითი საქმიანობის სფეროა საერთაშორისო ეკონომიკა\, ეკონომიკის განვითარება და გამოყენებითი მიკროეკონომიკა. გამოქვეყნებული აქვს დაახლოებით 70 აკადემიური ნაშრომი მაღალრეიტინგულ სამეცნიერო ჟურნალებში: Nature Sustainability\, the Journal of Industrial Economics\, the Journal of Regional Science\, Research Policy\, World Development\, and Ecological Economics და ა.შ. \nპროფესორი ტოდო Japanese Association for Development Economics და the Japanese Society of International Economics საბჭოს წევრია. ასევე ემსახურებოდა რამდენიმე საკონსულტაციო კომიტეტს როგორც ეროვნულ\, ასევე ადგილობრივ მთავრობების დონეზე. \nსამუშაო ენა: ინგლისური \nდრო: 19 მარტი\, 13:00 საათი \nადგილმდებარეობა: ილიას სახელმწიფო უნივერსიტეტის G106 აუდიტორია\, გ. წერეთლის ქ. N1 \nდასწრება თავისუფალია.
URL:https://events.iliauni.edu.ge/event/mitsodebis-jatchvebisa-da-phirmebis-tsodnis-qselebis-roli-iaponiis-ekonomikur-zrdasa-da-mdgradobashi-prophesor-iasuiuki-todos-sajaro-leqtsia/
CATEGORIES:საჯარო ლექციები
ATTACH;FMTTYPE=image/png:https://events.iliauni.edu.ge/wp-content/uploads/2024/03/23b0c66361c6203857e91c5ac6ecf3b4_82848.png
END:VEVENT
END:VCALENDAR