BEGIN:VCALENDAR
VERSION:2.0
PRODID:-//უნივერსიტეტის ღონისძიებების პორტალი - ECPv6.2.8.2//NONSGML v1.0//EN
CALSCALE:GREGORIAN
METHOD:PUBLISH
X-WR-CALNAME:უნივერსიტეტის ღონისძიებების პორტალი
X-ORIGINAL-URL:https://events.iliauni.edu.ge
X-WR-CALDESC:Events for უნივერსიტეტის ღონისძიებების პორტალი
REFRESH-INTERVAL;VALUE=DURATION:PT1H
X-Robots-Tag:noindex
X-PUBLISHED-TTL:PT1H
BEGIN:VTIMEZONE
TZID:Asia/Dubai
BEGIN:STANDARD
TZOFFSETFROM:+0400
TZOFFSETTO:+0400
TZNAME:+04
DTSTART:20240101T000000
END:STANDARD
END:VTIMEZONE
BEGIN:VEVENT
DTSTART;TZID=Asia/Dubai:20241122T180000
DTEND;TZID=Asia/Dubai:20241122T190000
DTSTAMP:20260422T191026
CREATED:20241111T074742Z
LAST-MODIFIED:20241122T083430Z
UID:10005585-1732298400-1732302000@events.iliauni.edu.ge
SUMMARY:ფილიპ მერფის საჯარო ლექცია „ვირუსების მიერ იმუნური აცილების სტრატეგიები“
DESCRIPTION:22 ნოემბერს\, 18:00 საათზე\, ილიას სახელმწიფო უნივერსიტეტის T102 აუდიტორიაში აშშ-ის ჯანმრთელობის ეროვნული ინსტიტუტის (NIH) ალერგიისა და ინფექციური დაავადებების ეროვნული ინსტიტუტის (NIAID) მოლეკულური იმუნოლოგიის ლაბორატორიის (LMI) ხელმძღვანელი ფილიპ მერფი წაიკითხავს საჯარო ლექციას „ვირუსების მიერ იმუნური აცილების სტრატეგიები“. \nმომხსენებელი განიხილავს მექანიზმებს\, რომლებსაც ვირუსები იყენებენ გადარჩენისთვის და იმუნური სისტემის მიერ მათი აღმოჩენის თავიდან ასაცილებლად\, ფოკუსირებული იქნება კლინიკური მნიშვნელობის მქონე ადამიანის პათოგენებზე. \nმომხსენებლის შესახებ \nფილიპ მერფი ბეთესდის ჯანმრთელობის ეროვნული ინსტიტუტის ალერგიისა და ინფექციური დაავადებების ეროვნული ინსტიტუტის  (NIAID) უფროსი მკვლევარი და მოლეკულური იმუნოლოგიის ლაბორატორიის (LMI) ხელმძღვანელია. \nდოქტორი მერფი სწავლობს WHIM სინდრომს\, პირველადი იმუნოდეფიციტის იშვიათ დარღვევას\, გამოწვეულს ქემოკინის CXCR4 რეცეპტორის მუტაციით\, პათოგენეზის უკეთ შესასწავლად  და როგორც ფარმაკოლოგიური თერაპიის\, ასევე გენეტიკური განკურნების სტრატეგიების განსავითარებლად. \nდოქტ. მერფის გამოქვეყნებული აქვს 300-ზე მეტი რეცენზირებული სტატია\, ძირითადად იმუნორეგულაციასა და ინფექციურ დაავადებებთან დაკავშირებულ საბაზისო\, ტრანსლაციურ და კლინიკურ კვლევებზე; მიღებული აქვს არაერთი პატენტი და ჯილდო\, მათ შორის NIAID წლის მენტორის ჯილდო\, NIH დირექტორის ჯილდო (ორჯერ)\, “Journal of Immunology”-ის Pillars of Immunology ჯილდო\, ასევე ლეიკოციტების ბიოლოგიის საზოგადოების Dolph Adams და Bonazinga ჯილდოები. \nმისი 2 პუბლიკაცია შერჩეულია\, როგორც ჟურნალ Science-ის კლასიკა. \nდოქტ. მერფი არის ამერიკელ ექიმთა ასოციაციის\, კლინიკური გამოკვლევების ამერიკული საზოგადოების\, მიკრობიოლოგიის ამერიკული საზოგადოების\, ბიოქიმიისა და მოლეკულური ბიოლოგიის ამერიკული საზოგადოების და ჰენრი კუნკელის საზოგადოების წევრი. \nსამუშაო ენა: ინგლისური \nდრო: 22 ნოემბერი\, 18:00 საათი \nადგილმდებარეობა: ილიას სახელმწიფო უნივერსიტეტის T102 აუდიტორია\, ქ. ჩოლოყაშვილის გამზ. N3/5. \nდასწრება თავისუფალია.
URL:https://events.iliauni.edu.ge/event/philip-merphis-sajaro-leqtsia-virusebis-mier-imunuri-atsilebis-strategiebi/
CATEGORIES:საჯარო ლექციები
ATTACH;FMTTYPE=image/png:https://events.iliauni.edu.ge/wp-content/uploads/2024/11/sab.png
END:VEVENT
BEGIN:VEVENT
DTSTART;TZID=Asia/Dubai:20241126T160000
DTEND;TZID=Asia/Dubai:20241126T170000
DTSTAMP:20260422T191026
CREATED:20241121T105731Z
LAST-MODIFIED:20241121T105731Z
UID:10005619-1732636800-1732640400@events.iliauni.edu.ge
SUMMARY:საჯარო ლექცია „ნაფიც მსაჯულთა სასამართლოს აქტუალური პრობლემები და მათი კონსტიტუციურ-სამართლებრივი შეფასება“
DESCRIPTION:26 ნოემბერს\, 16:00 საათზე\, წიგნის სახლში „ლიგამუსი“ ილიას სახელმწიფო უნივერსიტეტის სამართლის სკოლის მართლმსაჯულების განვითარებისა და სამართლებრივი სწავლების ცენტრის ორგანიზებით გაიმართება საჯარო ლექცია „ნაფიც მსაჯულთა სასამართლოს აქტუალური პრობლემები და მათი კონსტიტუციურ-სამართლებრივი შეფასება“. \nმომხსენებლები: ირაკლი ჩომახაშვილი\, გიორგი ჩიფჩიური \nმოდერატორი ზაზა მეიშვილი \nსამუშაო ენა: ქართული \nდრო: 26 ნოემბერი\, 16:00 საათი \nადგილმდებარეობა: წიგნის სახლი „ლიგამუსი“\, ი. ჭავჭავაძის გამზ. N32 \nდასწრება თავისუფალია.
URL:https://events.iliauni.edu.ge/event/sajaro-leqtsia-naphits-msajultha-sasamarthlos-aqtualuri-problemebi-da-mathi-konstitutsiur-samarthlebrivi-shephaseba/
CATEGORIES:სამართლის სკოლა,საჯარო ლექციები
ATTACH;FMTTYPE=image/png:https://events.iliauni.edu.ge/wp-content/uploads/2024/11/naphitsi-msajuleb_web_new.png
END:VEVENT
BEGIN:VEVENT
DTSTART;TZID=Asia/Dubai:20241129T160000
DTEND;TZID=Asia/Dubai:20241129T170000
DTSTAMP:20260422T191026
CREATED:20241120T090503Z
LAST-MODIFIED:20241127T102657Z
UID:10005612-1732896000-1732899600@events.iliauni.edu.ge
SUMMARY:პროფესორ ჯაო იანის საჯარო ლექცია "Transparent conductive oxide thin film and its applications in lasers"
DESCRIPTION:29 ნოემბერს\, 16:00 საათზე\, ილიას სახელმწიფო უნივერსიტეტის T102 აუდიტორიაში შანხაის ოპტიკისა და ზუსტი მექანიკის ინსტიტუტის პროფესორი ჯაო იანი წაიკითხავს საჯარო ლექციას “Transparent conductive oxide thin film and its applications in lasers”. \nილიაუნის ტექნოლოგიის სკოლის პროფესორის\, ავთანდილ თავხელიძის ინიციატივით ნოემბრის ბოლოს ილიას სახელმწიფო უნივერსიტეტს ეწვევა ჩინელ მეცნიერთა ჯგუფი\, რომლის მიზანია ილიაუნის მკვლევრების გაცნობა\, ლაბორატორიების დათვალიერება და თანამშრომლობის გაღრმავება. \nსამუშაო ენა: ინგლისური \nდრო: 29 ნოემბერი\, 16:00 საათი \nადგილმდებარეობა: ილიას სახელმწიფო უნივერსიტეტის T102 აუდიტორია\, ქ. ჩოლოყაშვილის გამზ. N3/5 \nდასწრება თავისუფალია.
URL:https://events.iliauni.edu.ge/event/prophesor-jao-ianis-sajaro-leqtsia-transparent-conductive-oxide-thin-film-and-its-applications-in-lasers/
CATEGORIES:ბიზნესის, ტექნოლოგიისა და განათლების ფაკულტეტი,საჯარო ლექციები
ATTACH;FMTTYPE=image/png:https://events.iliauni.edu.ge/wp-content/uploads/2024/11/tech-1.png
END:VEVENT
END:VCALENDAR