BEGIN:VCALENDAR
VERSION:2.0
PRODID:-//უნივერსიტეტის ღონისძიებების პორტალი - ECPv6.2.8.2//NONSGML v1.0//EN
CALSCALE:GREGORIAN
METHOD:PUBLISH
X-ORIGINAL-URL:https://events.iliauni.edu.ge
X-WR-CALDESC:Events for უნივერსიტეტის ღონისძიებების პორტალი
REFRESH-INTERVAL;VALUE=DURATION:PT1H
X-Robots-Tag:noindex
X-PUBLISHED-TTL:PT1H
BEGIN:VTIMEZONE
TZID:Asia/Dubai
BEGIN:STANDARD
TZOFFSETFROM:+0400
TZOFFSETTO:+0400
TZNAME:+04
DTSTART:20240101T000000
END:STANDARD
END:VTIMEZONE
BEGIN:VEVENT
DTSTART;TZID=Asia/Dubai:20241219T140000
DTEND;TZID=Asia/Dubai:20241219T160000
DTSTAMP:20260422T035934
CREATED:20241219T104443Z
LAST-MODIFIED:20241219T111603Z
UID:10005633-1734616800-1734624000@events.iliauni.edu.ge
SUMMARY:დოქტორანტ ბაჩანა ბერაძის სადისერტაციო ნაშრომის დაცვა
DESCRIPTION:19 დეკემბერს\, 14:00 საათზე\, ილიას სახელმწიფო უნივერსიტეტის S800 აუდიტორიაში ილიაუნის საბუნებისმეტყველო მეცნიერებებისა და მედიცინის ფაკულტეტის სადოქტორო პროგრამის „ფიზიკა და ასტრონომია“ დოქტორანტი ბაჩანა ბერაძე დაიცავს სადისერტაციო ნაშრომს  „ხელოვნური მაგნიტური ველის ზეგავლენა კვაზი-ერთ-განზომილებიან ელექტრონულ და სპინურ სისტემებში“ (“Effects of synthetic gauge fields on quasi-1D electronic and spin systems”). \nსამეცნიერო ხელმძღვანელები: ილიას სახელმწიფო უნივერსიტეტის პროფესორები გიორგი ჯაფარიძე და ალექსანდრე ნერსესიანი \nსამუშაო ენა: ქართული \nდრო: 19 დეკემბერი\, 14:00 საათი \nადგილმდებარეობა: ილიას სახელმწიფო უნივერსიტეტის S800 აუდიტორია\, გ. წერეთლის ქ. N3 \nდასწრება თავისუფალია.
URL:https://events.iliauni.edu.ge/event/doqtorant-bachana-beradzis-sadisertatsio-nashromis-datsva/
CATEGORIES:საბუნებისმეტყველო მეცნიერებებისა და მედიცინის ფაკულტეტი,ღონისძიებები
ATTACH;FMTTYPE=image/png:https://events.iliauni.edu.ge/wp-content/uploads/2024/12/galaxy.png
END:VEVENT
END:VCALENDAR