BEGIN:VCALENDAR
VERSION:2.0
PRODID:-//უნივერსიტეტის ღონისძიებების პორტალი - ECPv6.2.8.2//NONSGML v1.0//EN
CALSCALE:GREGORIAN
METHOD:PUBLISH
X-ORIGINAL-URL:https://events.iliauni.edu.ge
X-WR-CALDESC:Events for უნივერსიტეტის ღონისძიებების პორტალი
REFRESH-INTERVAL;VALUE=DURATION:PT1H
X-Robots-Tag:noindex
X-PUBLISHED-TTL:PT1H
BEGIN:VTIMEZONE
TZID:Asia/Dubai
BEGIN:STANDARD
TZOFFSETFROM:+0400
TZOFFSETTO:+0400
TZNAME:+04
DTSTART:20240101T000000
END:STANDARD
END:VTIMEZONE
BEGIN:VEVENT
DTSTART;TZID=Asia/Dubai:20241209T140000
DTEND;TZID=Asia/Dubai:20241209T150000
DTSTAMP:20260421T183536
CREATED:20241203T113044Z
LAST-MODIFIED:20241209T075353Z
UID:10005628-1733752800-1733756400@events.iliauni.edu.ge
SUMMARY:„კიბოს კონტროლისა და მასთან დაკავშირებული პოლიტიკის ზეგავლენის შესწავლა პოპულაციის ქცევაზე საქართველოში“ – მარინა თოფურიძის სადოქტორო ნაშრომის დაცვა
DESCRIPTION:9 დეკემბერს\, 14:00 საათზე\, ილიას სახელმწიფო უნივერსიტეტის G106 აუდიტორიაში ილიაუნის საბუნებისმეტყველო მეცნიერებებისა და მედიცინის ფაკულტეტის ინგლისურენოვანი სადოქტორო პროგრამის „საზოგადოებრივი ჯანდაცვა“ დოქტორანტი მარინა თოფურიძე დაიცავს სადოქტორო ნაშრომს „კიბოს კონტროლისა და მასთან დაკავშირებული პოლიტიკის ზეგავლენის შესწავლა პოპულაციის ქცევაზე საქართველოში“ (“Study of Cancer Control and Related Policies and Their Impact on Population Behaviour in Georgia”). \nსადისერტაციო კვლევის მიზანია შეაფასოს საქართველოში კიბოს კონტროლის პოლიტიკის გავლენა მოსახლეობის ქცევებზე და გამოავლინოს მისი მიღების პროცესზე ზემოქმედი ფაქტორები\, განსაკუთრებით თამბაქოს კონტროლისა და კიბოს სკრინინგის პოლიტიკა. დისერტაციაში გამოყენებულია მონაცემები თამბაქოს კონტროლის პოლიტიკის რანდომიზებული კონტროლირებადი კვლევიდან (2017-2021) და 2023 წელს ჩატარებული ცოდნის\, დამოკიდებულებების და პრაქტიკის (KAP) კვლევიდან\, რომელიც ეხება კიბოს სკრინინგის ბარიერებს საქართველოში. კვლევა ასახავს სფეროს მიღწევებსა და გამოწვევებს. დასკვნები ცხადყოფს მიზნობრივი ინტერვენციების\, საზოგადოების ინფორმირებულობის გაზრდისა და ჯანდაცვის ინფრასტრუქტურის გაძლიერების საჭიროებას\, რაც ხელს შეუწყობს პოლიტიკის დანერგვას და კიბოთი გამოწვეული ავადობის და სიკვდილიანობის შემცირებას საქართველოში. \nსამეცნიერო ხელმძღვანელი: ნინო მახაშვილი\, ილიას სახელმწიფო უნივერსიტეტის პროფესორი \nსამუშაო ენა: ინგლისური \nდრო: 9 დეკემბერი\, 14:00 საათი \nადგილმდებარეობა: ილიას სახელმწიფო უნივერსიტეტის G106 აუდიტორია\, გ.წერეთლის ქ. N1 \nდასწრება თავისუფალია.
URL:https://events.iliauni.edu.ge/event/kibos-kontrolisa-da-masthan-dakavshirebuli-politikis-zegavlenis-shestsavla-populatsiis-qtsevaze-saqarthveloshi-marina-thophuridzis-sadoqtoro-nashromis-datsva/
CATEGORIES:საბუნებისმეტყველო მეცნიერებებისა და მედიცინის ფაკულტეტი
ATTACH;FMTTYPE=image/png:https://events.iliauni.edu.ge/wp-content/uploads/2024/12/datsva_web_new.png
END:VEVENT
END:VCALENDAR