BEGIN:VCALENDAR
VERSION:2.0
PRODID:-//უნივერსიტეტის ღონისძიებების პორტალი - ECPv6.2.8.2//NONSGML v1.0//EN
CALSCALE:GREGORIAN
METHOD:PUBLISH
X-WR-CALNAME:უნივერსიტეტის ღონისძიებების პორტალი
X-ORIGINAL-URL:https://events.iliauni.edu.ge
X-WR-CALDESC:Events for უნივერსიტეტის ღონისძიებების პორტალი
REFRESH-INTERVAL;VALUE=DURATION:PT1H
X-Robots-Tag:noindex
X-PUBLISHED-TTL:PT1H
BEGIN:VTIMEZONE
TZID:Asia/Dubai
BEGIN:STANDARD
TZOFFSETFROM:+0400
TZOFFSETTO:+0400
TZNAME:+04
DTSTART:20240101T000000
END:STANDARD
END:VTIMEZONE
BEGIN:VEVENT
DTSTART;TZID=Asia/Dubai:20240805T100000
DTEND;TZID=Asia/Dubai:20240805T160000
DTSTAMP:20260423T030641
CREATED:20240712T094856Z
LAST-MODIFIED:20240712T094856Z
UID:10005505-1722852000-1722873600@events.iliauni.edu.ge
SUMMARY:ტრენინგი „მედიცინა და ინოვაცია“
DESCRIPTION:5 აგვისტოს\, 10:00 საათზე\, ილიას სახელმწიფო უნივერსიტეტის G106 აუდიტორიაში პროექტის „InTech4MED – ინოვაცია და ტექნოლოგია მედიცინაში“ ფარგლებში გაიმართება ტრენინგი „მედიცინა და ინოვაცია“. \nმისი მიზანია ახალგაზრდა მეცნიერთა\, მაგისტრატურისა და დოქტორანტურის სტუდენტთა კვლევითი უნარების განვითარების ხელშეწყობა ინტერაქტიული საგანამანათლებლო-პრაქტიკული ღონისძებების განხორციელების გზით. \nტრენინგში მონაწილეობის მსურველებმა წინასწარ უნდა გაიარონ რეგისტრაცია ბმულზე: https://shorturl.at/BIIB3 \nსამუშაო ენა: ინგლისური \nდრო: 5 აგვისტო\, 10:00-16:00 სთ. \nადგილმდებარეობა: ილიას სახელმწიფო უნივერსიტეტის G106 აუდიტორია\, გ. წერეთლის ქ. N1
URL:https://events.iliauni.edu.ge/event/treningi-meditsina-da-inovatsia/
CATEGORIES:საბუნებისმეტყველო მეცნიერებებისა და მედიცინის ფაკულტეტი,ღონისძიებები
ATTACH;FMTTYPE=image/png:https://events.iliauni.edu.ge/wp-content/uploads/2024/07/treningi_web.png
END:VEVENT
END:VCALENDAR