BEGIN:VCALENDAR
VERSION:2.0
PRODID:-//უნივერსიტეტის ღონისძიებების პორტალი - ECPv6.2.8.2//NONSGML v1.0//EN
CALSCALE:GREGORIAN
METHOD:PUBLISH
X-WR-CALNAME:უნივერსიტეტის ღონისძიებების პორტალი
X-ORIGINAL-URL:https://events.iliauni.edu.ge
X-WR-CALDESC:Events for უნივერსიტეტის ღონისძიებების პორტალი
REFRESH-INTERVAL;VALUE=DURATION:PT1H
X-Robots-Tag:noindex
X-PUBLISHED-TTL:PT1H
BEGIN:VTIMEZONE
TZID:Asia/Dubai
BEGIN:STANDARD
TZOFFSETFROM:+0400
TZOFFSETTO:+0400
TZNAME:+04
DTSTART:20240101T000000
END:STANDARD
END:VTIMEZONE
BEGIN:VEVENT
DTSTART;TZID=Asia/Dubai:20240514T133000
DTEND;TZID=Asia/Dubai:20240514T163000
DTSTAMP:20260423T030636
CREATED:20240502T121822Z
LAST-MODIFIED:20240502T121909Z
UID:10005439-1715693400-1715704200@events.iliauni.edu.ge
SUMMARY:დოქტორანტ ლელა ჩიტაძის სადისერტაციო ნაშრომის დაცვა
DESCRIPTION:14 მაისს\, 13:30 საათზე\, ილიას სახელმწიფო უნივერსიტეტის G106 აუდიტორიაში ილიაუნის საბუნებისმეტყველო მეცნიერებებისა და მედიცინის ფაკულტეტის მოლეკულური ბიოლოგიისა და ნეირომეცნიერებების (მიმართულება: მოლეკულური ბიოლოგია) სადოქტორო პროგრამის დოქტორანტი ლელა ჩიტაძე დაიცავს სადისერტაციო ნაშრომს „წიწილებში მხედველობითი იმპრინტინგის მეხსიერების მოლეკულური მექანიზმები – კოგნინის\, მიტოქონდრიული ნადH დეჰიდროგენაზული კომპლექსის II სუბერთეულისა და Src კინაზას კომპლექსის ცვლილებების შესწავლა“ (“Molecular mechanisms of visual imprinting memory in chicks – study of Cognin\, mitochondrial NADH dehydrogenase subunit II and Src kinase complex changes”).
URL:https://events.iliauni.edu.ge/event/doqtorant-lela-chitadzis-sadisrtatsio-nashromis-datsva/
CATEGORIES:საბუნებისმეტყველო მეცნიერებებისა და მედიცინის ფაკულტეტი,ღონისძიებები
ATTACH;FMTTYPE=image/png:https://events.iliauni.edu.ge/wp-content/uploads/2024/05/chitadze_web.png
END:VEVENT
BEGIN:VEVENT
DTSTART;TZID=Asia/Dubai:20240515T080000
DTEND;TZID=Asia/Dubai:20240518T170000
DTSTAMP:20260423T030636
CREATED:20240429T122417Z
LAST-MODIFIED:20241122T110934Z
UID:10005435-1715760000-1716051600@events.iliauni.edu.ge
SUMMARY:„ასტროლაბი“ – ასტროფიზიკის პირველი პრაქტიკული ვორკშოპი საქართველოში მოსწავლეებისთვის
DESCRIPTION:15-დან 18 მაისის ჩათვლით ილიას სახელმწიფო უნივერსიტეტში მოსწავლეებისთვის გაიმართება ასტროფიზიკის პირველი პრაქტიკული ვორკშოპი „ასტროლაბი”. \nვორკშოპის მიზანია ასტროფიზიკით დაინტერესებულ მოსწავლეებს 4 დღის განმავლობაში შეუქმნას შესაბამისი კვლევითი გარემო\, სადაც ისინი არა მარტო მოისმენენ გამორჩეულ ქართველ და უცხოელ მეცნიერთა ლექციებს\, არამედ მათი დახმარებით თავად დაამუშავებენ კოსმოსურ წყაროებზე დაკვირვებებს და შეძლებენ მათ ვიზუალიზაციას. \nმსგავს ინტერაქტიულ ღონისძიებაში მონაწილეობისა და მეცნიერებთან საუბრის საშუალება მოსწავლეებს განსაკუთრებულ შესაძლებლობას მისცემს\, რამდენიმე დღით თავი ამ დარგის ნაწილად იგრძნონ. \nვორკშოპებს გაუძღვებიან: \n\nდოქტ. ადრიანა პირესი\, მთვარისა და პლანეტარული მეცნიერებების ცენტრი\, ჩინეთის სამეცნიერო აკადემია\, (ჩინეთი) და პოტსდამის ასტროფიზიკის ლაიბნიცის ინსტიტუტი (გერმანია);\nპროფ. რობერტო ტუროლა\, პადოვის უნივერსიტეტი (იტალია);\nპროფ. ნინო ჩხეიძე\, პროფ. ანდრია როგავა\, ილიას სახელმწიფო უნივერსიტეტი;\nპროფ. ზაზა ოსმანოვი\, თავისუფალი უნივერსიტეტი.\n\nდოქტორი ადრიანა პირესი ერთ-ერთი წამყვანი დამკვირვებელია მაღალი ენერგიების მიმართულებით. მისი აღმოჩენილია იზოლირებული პულსარების ყველაზე უცნაური და გამორჩეული კლასის\, ე.წ. შესანიშნავი შვიდეულის\, რამდენიმე წყარო. \nპროფესორი რობერტო ტუროლა იკვლევს ნეიტრონულ ვარსკვლავებსა და შავ ხვრელებს და ამ დარგის ერთ-ერთი ყველაზე გამოჩენილი მეცნიერია მსოფლიოში. \nქართველი პროფესორები – ზაზა ოსმანოვი\, ანდრია როგავა და ნინო ჩხეიძე – აწარმოებენ ნეიტრონული ვარსკვლავებისა და გიგანტური შავი ხვრელების კვლევებს. \nლექციებზე დასწრება თავისუფალია. \nვორკშოპის პრაქტიკულ ნაწილებში მონაწილეობისთვის აუცილებელია რეგისტრაცია. პრაქტიკულ ნაწილში მონაწილეობა შეუძლიათ მე-9 და უფრო მაღალი კლასების მოსწავლეებს. \nღონისძიების დეტალური განრიგი იხ: https://events.iliauni.edu.ge/wp-content/uploads/2024/04/83239.pdf \nგთხოვთ\, 10 მაისის 24:00 საათამდე რეგისტრაცია გაიაროთ ბმულზე https://forms.gle/DgHgaKSGE3iCgypu9 \nშერჩეული კანდიდატები მიიღებენ დასტურის მეილს. \nსამუშაო ენები: ინგლისური და ქართული \nვორკშოპი დაფინანსებულია შოთა რუსთაველის საქართველოს ეროვნული სამეცნიერო ფონდის მეცნიერების პოპულარიზაციის გრანტის ფარგლებში.
URL:https://events.iliauni.edu.ge/event/astrolabi-astrophizikis-pirveli-praqtikuli-vorkshopi-saqarthveloshi-mostsavleebisthvis/
CATEGORIES:საბუნებისმეტყველო მეცნიერებებისა და მედიცინის ფაკულტეტი,სემინარები
ATTACH;FMTTYPE=image/png:https://events.iliauni.edu.ge/wp-content/uploads/2024/04/1084807295cd275bb010537ea3b0a31e_83238.png
END:VEVENT
BEGIN:VEVENT
DTSTART;TZID=Asia/Dubai:20240518T140000
DTEND;TZID=Asia/Dubai:20240518T170000
DTSTAMP:20260423T030636
CREATED:20240513T100147Z
LAST-MODIFIED:20240513T100147Z
UID:10005440-1716040800-1716051600@events.iliauni.edu.ge
SUMMARY:\,\,გარემო და ადამიანის ჯანმრთელობა" - დალი კეკელიძის საჯარო ლექცია
DESCRIPTION:18 მაისს\, 14:00 საათზე\, ილიას სახელმწიფო უნივერსიტეტის T302 აუდიტორიაში ილიაუნის საბუნებისმეტყველო მეცნიერებებისა და მედიცინის ფაკულტეტის გარემოს ჯანმრთელობის კურსის მოწვეული ლექტორი დალი კეკელიძე წაიკითხავს საჯარო ლექციას \,\,გარემო და ადამიანის ჯანმრთელობა”. \nშეხვედრის მიზანია სტუდენტებისა და ყველა დაინტერესებული მხარის ცნობიერების ამაღლება გარემოსა და ადამიანის ჯანმრთელობას შორის ურთიერთობის შესახებ. \nლექციაზე განხილული იქნება\, როგორ მოქმედებს გარემო ფაქტორები – ჰაერის დაბინძურება\, წყლის ხარისხი\, კლიმატის ცვლილება – ადამიანის ჯანმრთელობაზე ინდივიდუალურ\, საზოგადოებრივ და გლობალურ დონეზე. \nსამუშაო ენა: ინგლისური \nდრო: 18 მაისი\, 14:00 საათი \nადგილმდებარეობა: ილიას სახელმწიფო უნივერსიტეტის T302 აუდიტორია\, ქ. ჩოლოყაშვილის გამზ. N3/5 \nდასწრება თავისუფალია.
URL:https://events.iliauni.edu.ge/event/garemo-da-adamianis-janmrtheloba-dali-kekelidzis-sajaro-leqtsia/
CATEGORIES:საბუნებისმეტყველო მეცნიერებებისა და მედიცინის ფაკულტეტი,საჯარო ლექციები
ATTACH;FMTTYPE=image/png:https://events.iliauni.edu.ge/wp-content/uploads/2024/05/836323f8c0f58de5b2b228c50b90d6ec_83346.png
END:VEVENT
END:VCALENDAR