BEGIN:VCALENDAR
VERSION:2.0
PRODID:-//უნივერსიტეტის ღონისძიებების პორტალი - ECPv6.2.8.2//NONSGML v1.0//EN
CALSCALE:GREGORIAN
METHOD:PUBLISH
X-WR-CALNAME:უნივერსიტეტის ღონისძიებების პორტალი
X-ORIGINAL-URL:https://events.iliauni.edu.ge
X-WR-CALDESC:Events for უნივერსიტეტის ღონისძიებების პორტალი
REFRESH-INTERVAL;VALUE=DURATION:PT1H
X-Robots-Tag:noindex
X-PUBLISHED-TTL:PT1H
BEGIN:VTIMEZONE
TZID:Asia/Dubai
BEGIN:STANDARD
TZOFFSETFROM:+0400
TZOFFSETTO:+0400
TZNAME:+04
DTSTART:20240101T000000
END:STANDARD
END:VTIMEZONE
BEGIN:VEVENT
DTSTART;TZID=Asia/Dubai:20240913T160000
DTEND;TZID=Asia/Dubai:20240913T170000
DTSTAMP:20260422T051551
CREATED:20240912T105452Z
LAST-MODIFIED:20240912T105452Z
UID:10005521-1726243200-1726246800@events.iliauni.edu.ge
SUMMARY:„სტრუქტურული ცვალებადობა: ნაირგვარი ბიოლოგიური სისტემების კვლევის უნივერსალური ლოგიკური მეთოდი“ – პროფესორ ევსეი კოსმანის საჯარო ლექცია
DESCRIPTION:13 სექტემბერს\, 16:00 საათზე\, ილიას სახელმწიფო უნივერსიტეტის E325 აუდიტორიაში მათემატიკოსი\, ისრაელის თელ-ავივის უნივერსიტეტის პროფესორი ევსეი კოსმანი წაიკითხავს საჯარო ლექციას „სტრუქტურული ცვალებადობა: ნაირგვარი ბიოლოგიური სისტემების კვლევის უნივერსალური ლოგიკური მეთოდი“. \nპროფ. ევსეი კოსმანი ეხმარება ბიოლოგებს მონაცემების ანალიზში\, წაიკითხავს ლექციას მეთოდოლოგიის შესახებ\, რომელსაც  იყენებს. წლების განმავლობაში კოსმანი იკვლევს რთულ ბიოლოგიურ სისტემებს\, როგორებიცაა: სქესობრივი და უსქესო გამრავლება\, პლოიდურობის გავლენა გენეტიკური მონაცემების ანალიზზე\, \nეკოსისტემების ფუნქციური ჯგუფების გამოყოფა\, ვირულენტობისა და რეზისტენტობის ანალიზი\, მცენარეების ადაპტაციები და სხვ. \nლექცია განკუთვნილია ბიოლოგებისთვის –  მეცნიერებისა და სტუდენტებისთვის\, ასევე მათემატიკოსებისთვის\, რომლებიც მუშაობენ გამოყენებით სფეროში. \nსამუშაო ენა: ინგლისური \nდრო: 13 სექტემბერი\, 16:00 საათი \nადგილმდებარეობა: ილიას სახელმწიფო უნივერსიტეტის E325 აუდიტორია\, ქ. ჩოლოყაშვილის გამზ. N3/5 \nდასწრება თავისუფალია. \n2024
URL:https://events.iliauni.edu.ge/event/struqturuli-tsvalebadoba-nairgvari-biologiuri-sistemebis-kvlevis-universaluri-logikuri-methodi-prophesor-evsei-kosmanis-sajaro-leqtsia/
CATEGORIES:საბუნებისმეტყველო მეცნიერებებისა და მედიცინის ფაკულტეტი
ATTACH;FMTTYPE=image/png:https://events.iliauni.edu.ge/wp-content/uploads/2024/09/kosman_web_new_geo.png
END:VEVENT
END:VCALENDAR