BEGIN:VCALENDAR
VERSION:2.0
PRODID:-//უნივერსიტეტის ღონისძიებების პორტალი - ECPv6.2.8.2//NONSGML v1.0//EN
CALSCALE:GREGORIAN
METHOD:PUBLISH
X-WR-CALNAME:უნივერსიტეტის ღონისძიებების პორტალი
X-ORIGINAL-URL:https://events.iliauni.edu.ge
X-WR-CALDESC:Events for უნივერსიტეტის ღონისძიებების პორტალი
REFRESH-INTERVAL;VALUE=DURATION:PT1H
X-Robots-Tag:noindex
X-PUBLISHED-TTL:PT1H
BEGIN:VTIMEZONE
TZID:Asia/Dubai
BEGIN:STANDARD
TZOFFSETFROM:+0400
TZOFFSETTO:+0400
TZNAME:+04
DTSTART:20240101T000000
END:STANDARD
END:VTIMEZONE
BEGIN:VEVENT
DTSTART;TZID=Asia/Dubai:20240719T130000
DTEND;TZID=Asia/Dubai:20240719T140000
DTSTAMP:20260423T043927
CREATED:20240718T101949Z
LAST-MODIFIED:20240718T101949Z
UID:10005510-1721394000-1721397600@events.iliauni.edu.ge
SUMMARY:დოქტორანტ ლევან ნაცვლიშვილის სადისერტაციო ნაშრომის დაცვა
DESCRIPTION:19 ივლისს\, 13:00 საათზე\, ილიას სახელმწიფო უნივერსიტეტის T102 აუდიტორიაში გაიმართება ილიას სახელმწიფო უნივერსიტეტის საბუნებისმეტყველო მეცნიერებებისა და მედიცინის ფაკულტეტის დედამიწის შემსწავლელი მეცნიერებების სადოქტორო პროგრამის დოქტორანტ ლევან ნაცვლიშვილის სადისერტაციო ნაშრომის „სივრცული მონაცემების ინფრასტრუქტურის (SDI) შექმნა სამეცნიერო-აკადემიური მიზნებისთვის და მისი გამოყენება დედამიწის შემსწავლელ მეცნიერებებში” დაცვა. \nსამეცნიერო ხელმძღვანელი – ილიას სახელმწიფო უნივერსიტეტის ასოცირებული პროფესორი ნატო ჯორჯიაშვილი \nსამუშაო ენა: ქართული \nდრო: 19 ივლისი\, 13:00 საათი \nადგილი: ილიას სახელმწიფო უნივერსიტეტის T102 აუდიტორია \nდასწრება თავისუფალია.
URL:https://events.iliauni.edu.ge/event/doqtorant-levan-natsvlishvilis-sadisertatsio-nashromis-datsva-2/
CATEGORIES:საბუნებისმეტყველო მეცნიერებებისა და მედიცინის ფაკულტეტი
ATTACH;FMTTYPE=image/png:https://events.iliauni.edu.ge/wp-content/uploads/2024/07/web-sabun-sadisertatsio-1-1.png
END:VEVENT
END:VCALENDAR