BEGIN:VCALENDAR
VERSION:2.0
PRODID:-//უნივერსიტეტის ღონისძიებების პორტალი - ECPv6.2.8.2//NONSGML v1.0//EN
CALSCALE:GREGORIAN
METHOD:PUBLISH
X-ORIGINAL-URL:https://events.iliauni.edu.ge
X-WR-CALDESC:Events for უნივერსიტეტის ღონისძიებების პორტალი
REFRESH-INTERVAL;VALUE=DURATION:PT1H
X-Robots-Tag:noindex
X-PUBLISHED-TTL:PT1H
BEGIN:VTIMEZONE
TZID:Asia/Dubai
BEGIN:STANDARD
TZOFFSETFROM:+0400
TZOFFSETTO:+0400
TZNAME:+04
DTSTART:20240101T000000
END:STANDARD
END:VTIMEZONE
BEGIN:VEVENT
DTSTART;TZID=Asia/Dubai:20241003T170000
DTEND;TZID=Asia/Dubai:20241003T180000
DTSTAMP:20260421T133910
CREATED:20240923T072632Z
LAST-MODIFIED:20240923T072632Z
UID:10005532-1727974800-1727978400@events.iliauni.edu.ge
SUMMARY:პროფესორ ლევან ტიელიძის საჯარო ლექცია
DESCRIPTION:3 ოქტომბერს\, 17:00 საათზე\, ილიას სახელმწიფო უნივერსიტეტის T102 აუდიტორიაში ილიაუნის ასოცირებული პროფესორი\, ავსტრალიის მონაშის უნივერსიტეტის მკვლევარი ლევან ტიელიძე წაიკითხავს ორნაწილიან საჯარო ლექციას. \nმომხსენებელი ისაუბრებს 2023-2024 წლების ანტარქტიდულ ექსპედიციაზე\, რომლის დროსაც უშუალოდ მისი მონაწილეობით კომპლექსურად იქნა შესწავლილი  აღმოსავლეთ ანტარქტიდის დენმენის მყინვარი. \nმეორე ნაწილში განიხილავს კავკასიონის მყინვარების დღევანდელ მდგომარეობასა და ძველი გამყინვარება-კლიმატის რეკონსტრუქციის მცდელობებს. \nმომხსენებლის შესახებ \nლევან ტიელიძემ 2016 წელს საქართველოში დაიცვა სადოქტორო დისერტაცია\, 2022 წელს კი – მეორე სადოქტორო დისერტაცია ახალი ზელანდიის ანტარქტიკის კვლევით ცენტრში. ამჟამად ილიას სახელმწიფო უნივერსიტეტის ასოცირებული პროფესორია გლაციოლოგიის მიმართულებით და ავსტრალიის მონაშის უნივერსიტეტის მკვლევარი. \nსამუშაო ენა: ქართული \nდრო: 3 ოქტომბერი\, 17:00 საათი \nადგილმდებარეობა: ილიას სახელმწიფო უნივერსიტეტის T102 აუდიტორია\, ქ. ჩოლოყაშვილის გამზ N3/5 \nდასწრება თავისუფალია. \n 
URL:https://events.iliauni.edu.ge/event/prophesor-levan-tielidzis-sajaro-leqtsia/
CATEGORIES:საბუნებისმეტყველო მეცნიერებებისა და მედიცინის ფაკულტეტი
ATTACH;FMTTYPE=image/png:https://events.iliauni.edu.ge/wp-content/uploads/2024/09/f0203bba7aa01af0d43877459418fec6_85392.png
END:VEVENT
BEGIN:VEVENT
DTSTART;TZID=Asia/Dubai:20241008T160000
DTEND;TZID=Asia/Dubai:20241008T170000
DTSTAMP:20260421T133911
CREATED:20241003T082707Z
LAST-MODIFIED:20241004T092055Z
UID:10005545-1728403200-1728406800@events.iliauni.edu.ge
SUMMARY:„ასტროციტების მიერ გლუტამატის რეგულირებადი გამოყოფა ჯანმრთელობისა და დაავადებების დროს“ – დოქტორ ვლადიმირ პარპურას საჯარო ლექცია
DESCRIPTION:8 ოქტომბერს\, 14:00 საათზე\, ილიას სახელმწიფო უნივერსიტეტის G106 საკონფერენციო დარბაზში ჯეჯანის ჩინური მედიცინის უნივერსიტეტის ტრანსლაციური ნეირომეცნიერების საერთაშორისო კვლევითი ინსტიტუტის დირექტორი\, დოქტორი ვლადიმირ პარპურა წაიკითხავს საჯარო ლექციას „ასტროციტების მიერ გლუტამატის რეგულირებადი გამოყოფა ჯანმრთელობისა და დაავადებების დროს“. \nმომხსენებელი ლექციაზე მოიყვანს მონაცემებს ტვინის გლიური უჯრედების ერთ-ერთი სუბტიპის\, ასტროციტების\, მიერ გამოყოფილი ნეიროტრანსმიტერ გლუტამატის შესახებ\, ისაუბრებს\, როგორ რეგულირდება გამოყოფა. განიხილავს ასტროციტებში გლუტამატის გამოყოფის განმაპირობებელი ვეზიკულური შერწყმის სივრცობრივ-დროებით მახასიათებლებს\, ასევე წარმოადგენს ტრანსლაციურ პროექტს\, როგორ შეიძლება გლუტამატის გამოყოფის ამ გზის რეგულაცია გამოყენებულ იქნეს ასტროციტომა IV-ის (სხვა სახელწოდება გლიობლასტომა მულტიფორმა IV)\, ტვინის ყველაზე მძიმე სიმსივნის\, სამკურნალოდ. \nმომხსენებლის შესახებ \nვლადიმირ პარპურა მედიცინის (ზაგრები\, 1989) და ნეირომეცნიერებებისა და ზოოლოგიის ფილოსოფიის დოქტორია (აიოვას უნივერსიტეტი\, აშშ\, 1993). მუშაობდა აიოვას\, ალაბამის\, კალიფორნიისა და ხორვატიის რიეკის უნივერსიტეტების სხვადასხვა ფაკულტეტზე. ამჟამად ჯეჯანის ჩინური მედიცინის უნივერსიტეტის ტრანსლაციური ნეირომეცნიერების საერთაშორისო კვლევითი ინსტიტუტის (ჰანგჯოუ\, ჩინეთი) დირექტორია. \nიგი არის არაერთი პრესტიჟული სამეცნიერო პრემიის ლაურეატი. 2021 წელს მის პატივსაცემად გამოიცა Journal Neurochemical Research-ის სპეციალური ნომერი. \nდოქტორმა პარპურამ აღმოაჩინა ასტროციტებიდან ნეირონებზე გლუტამატის მოქმედების სასიგნალო გზა\, ე.წ. გლიოტრანსმისია\, ჩამოაყალიბა სამკომპონენტიანი სინაფსის ინოვაციური კონცეფცია. მისი კვლევები ნანომეცნიერების/ნანოტექნოლოგიების\, ნეიროქიმიის\, სინთეზური ბიოლოგიისა და ბიოსამედიცინო ინჟინერიის მიჯნაზეა. \nსამუშაო ენა: ინგლისური \nდრო: 8 ოქტომბერი\, 14:00 საათი \nადგილმდებარეობა: ილიას სახელმწიფო უნივერსიტეტის G106 საკონფერენციო დარბაზი\, გ. წერეთლის ქ. N1 \nდასწრება თავისუფალია.
URL:https://events.iliauni.edu.ge/event/astrotsitebis-mier-glutamatis-regulirebadi-gamoqhopha-janmrthelobisa-da-daavadebebis-dros-doqtor-vladimir-parpuras-sajaro-leqtsia/
CATEGORIES:საბუნებისმეტყველო მეცნიერებებისა და მედიცინის ფაკულტეტი,საჯარო ლექციები
ATTACH;FMTTYPE=image/png:https://events.iliauni.edu.ge/wp-content/uploads/2024/10/web-sabun1111.png
END:VEVENT
BEGIN:VEVENT
DTSTART;TZID=Asia/Dubai:20241015T170000
DTEND;TZID=Asia/Dubai:20241015T180000
DTSTAMP:20260421T133911
CREATED:20240925T100603Z
LAST-MODIFIED:20241009T061411Z
UID:10005535-1729011600-1729015200@events.iliauni.edu.ge
SUMMARY:„გრავიტაციულ ტალღებში დანახული ადრეული სამყარო“ – პროფესორ თინათინ კახნიაშვილის მოხსენება
DESCRIPTION:15 ოქტომბერს\, 17:00 საათზე\, ილიას სახელმწიფო უნივერსიტეტის G106 აუდიტორიაში ილიაუნის პროფესორი თინათინ კახნიაშვილი წაიკითხავს მოხსენებას „გრავიტაციულ ტალღებში დანახული ადრეული სამყარო“. \nთემის მოკლე მიმოხილვა \nგრავიტაციული ტალღები საშუალებას იძლევა\, დავაკვირდეთ ადრეული სამყაროს ისეთ მაღალ ენერგიებზე\, რომელთა მიღწევა დედამიწის პირობებში შეუძლებელია (რამდენიმე თანრიგით აღემატება დიდ ჰადრონულ ამაჩქარებელზე CERN მიღწეულ ენერგიებს)\, დროის იმ პერიოდში\, როდესაც სამყაროს შესწავლა შეუძლებელია ელექტრომაგნიტური გამოსხივების დიაპაზონში (რადიო\, ინფრაწითელი\, ხილული\, მიკროტალღოვანი\, რენტგენის\, ულტრაიისფერი და გამა გამოსხივებები). მომხსენებელი ისაუბრებს გრავიტაციული ტალღების შესაძლებლობასა და ფუნდამენტური ფიზიკის კანონების შემოწმების შესახებ. \nმომხსენებლის შესახებ \nთინათინ კახნიაშვილი ილიას სახელმწიფო უნივერსიტეტის სრული პროფესორია ასტროფიზიკის მიმართულებით\, მონაწილეობს საერთაშორისო სამეცნიერო ცენტრების (McWilliams Center for Cosmology\, აშშ; NORDITA\, შვედეთი; Pitt-PACC აშშ) სამეცნიერო პროექტებში. იგი არის კარნეგი მელონის უნივერსიტეტის (აშშ) ასოცირებული მკვლევარი პროფესორი. ამჟამად ხელმძღვანელობს NASA-ს და ამერიკის ეროვნული სამეცნიერო ფონდის მიერ დაფინანსებულ 3 პროექტს\, მათ შორის 2024 წელს NSF-ს დაფინანსებულ Collaborative Research: Gravitational Waves as Messengers from the Early Universe-ს. \nთინათინ კახნიაშვილი მუშაობდა საერთაშორისო ცენტრების (ICTP & SISSA\, Italy\, CCPP\, NYU) მეცნიერ-მკვლევრად და აშშ-ის\, კანადისა და ევროპის უნივერსიტეტების (Rutgers\, Kansas State University\, Carnegie Mellon University\, Geneva University\, Laurentian University) მოწვეულ პროფესორად. \nვრცლად: https://shorturl.at/Rt6vB \nლექციის შემდეგ გაიმართება დისკუსია. \nსამუშაო ენა: ქართული \nდრო: 15 ოქტომბერი\, 17:00 საათი \nადგილმდებარეობა: ილიას სახელმწიფო უნივერსიტეტის G106 აუდიტორია\, გ. წერეთლის ქ. N1 \nდასწრება თავისუფალია.
URL:https://events.iliauni.edu.ge/event/gravitatsiul-talghebshi-danakhuli-adreuli-samqharo-prophesor-thinathin-kakhniashvilis-mokhseneba/
CATEGORIES:საბუნებისმეტყველო მეცნიერებებისა და მედიცინის ფაკულტეტი,ღონისძიებები
ATTACH;FMTTYPE=image/png:https://events.iliauni.edu.ge/wp-content/uploads/2024/09/WEB-BANNER-kakhniashvili.png
END:VEVENT
BEGIN:VEVENT
DTSTART;TZID=Asia/Dubai:20241018T150000
DTEND;TZID=Asia/Dubai:20241018T170000
DTSTAMP:20260421T133911
CREATED:20241011T110606Z
LAST-MODIFIED:20241011T110606Z
UID:10005559-1729263600-1729270800@events.iliauni.edu.ge
SUMMARY:შეხვედრა სტუდენტებთან დეფიციტური გარემოსდაცვითი პროფესიების შესახებ
DESCRIPTION:18 ოქტომბერს\, 15:00 საათზე\, ილიას სახელმწიფო უნივერსიტეტის G106 აუდიტორიაში საქართველოს გარემოს დაცვისა და სოფლის მეურნეობის სამინისტროსა და გარემოს ეროვნული სააგენტოს წარმომადგენლები შეხვდებიან სტუდენტებს და  გააცნობენ ინფორმაციას დეფიციტური გარემოსდაცვითი პროფესიებისა (ეკოლოგია\, გეოლოგია\, ჰიდროლოგია და სხვ.) და დასაქმების შესახებ. \nშეხვედრას დაესწრება სსიპ გარემოსდაცვითი ინფორმაციისა და განათლების ცენტრის დირექტორის მოადგილე ეკატერინე ბენდელიანი\, სსიპ გარემოს ეროვნული სააგენტოს უფროსი ვასილ გედევანიშვილი\, უფროსის მოადგილე მაია ბერაძე და გარემოსდაცვითი შეფასების დეპარტამენტის უფროსი ვიკა მეტრეველი. \nსამუშაო ენა: ქართული \nდრო: 18 ოქტომბერი\, 15:00 საათი \nადგილმდებარეობა: ილიას სახელმწიფო უნივერსიტეტის G106 აუდიტორია\, გ. წერეთლის ქ. N1
URL:https://events.iliauni.edu.ge/event/shekhvedra-studentebthan-dephitsituri-garemosdatsvithi-prophesiebis-shesakheb/
CATEGORIES:საბუნებისმეტყველო მეცნიერებებისა და მედიცინის ფაკულტეტი,ღონისძიებები
ATTACH;FMTTYPE=image/png:https://events.iliauni.edu.ge/wp-content/uploads/2024/10/garemosdatsva_web-1.png
END:VEVENT
BEGIN:VEVENT
DTSTART;TZID=Asia/Dubai:20241021T080000
DTEND;TZID=Asia/Dubai:20241023T170000
DTSTAMP:20260421T133911
CREATED:20240325T085730Z
LAST-MODIFIED:20240325T112024Z
UID:10005392-1729497600-1729702800@events.iliauni.edu.ge
SUMMARY:„BRAIN AND NEUROPLASTICITY” – ახალგაზრდა ნეირომეცნიერთა I საერთაშორისო კონფერენცია
DESCRIPTION:საქართველოს ნეირომეცნიერთა ასოციაცია\, ილიას სახელმწიფო უნივერსიტეტი\, ივანე ბერიტაშვილის ექსპერიმენტული ბიომედიცინის ცენტრი და ივანე ბერიტაშვილის ახალგაზრდა მეცნიერთა კლუბი ქართველ და უცხოელ ახალგაზრდა ნეირომეცნიერებს\, მაგისტრებსა და დოქტორანტებს 21-23 ოქტომბერს იწვევს თბილისში პირველ საერთაშორისო კონფერენციაში მონაწილეობისთვის. \nმონაწილეები ჩაერთვებიან მოტივაციურ დისკუსიებში\, წარადგენენ საკუთარ მონაცემებს და განიხილავენ ექსპერიმენტული და კლინიკური ნეირომეცნიერების სფეროს განსაკუთრებით ინოვაციურ იდეებს\, \nკონფერენციის თავისუფალი ატმოსფერო მონაწილეებს ხელს შეუწყობს აკადემიური სამეცნიერ იდეების გაცვლასა და ახალ\, ნაყოფიერ პროფესიულ ურთიერთობათა ჩამოყალიბებაში. \nკონფერენციის შესახებ დეტალური ინფორმაცია იხილეთ ვებგვერდზე: https://icfyn2024.iliauni.edu.ge/
URL:https://events.iliauni.edu.ge/event/brain-and-neuroplasticity-akhalgazrda-neirometsniertha-i-saerthashoriso-konpherentsia/
CATEGORIES:კონფერენციები,საბუნებისმეტყველო მეცნიერებებისა და მედიცინის ფაკულტეტი,ღონისძიებები
ATTACH;FMTTYPE=image/png:https://events.iliauni.edu.ge/wp-content/uploads/2024/03/akhali-vebi-1.png
END:VEVENT
END:VCALENDAR