BEGIN:VCALENDAR
VERSION:2.0
PRODID:-//უნივერსიტეტის ღონისძიებების პორტალი - ECPv6.2.8.2//NONSGML v1.0//EN
CALSCALE:GREGORIAN
METHOD:PUBLISH
X-ORIGINAL-URL:https://events.iliauni.edu.ge
X-WR-CALDESC:Events for უნივერსიტეტის ღონისძიებების პორტალი
REFRESH-INTERVAL;VALUE=DURATION:PT1H
X-Robots-Tag:noindex
X-PUBLISHED-TTL:PT1H
BEGIN:VTIMEZONE
TZID:Asia/Dubai
BEGIN:STANDARD
TZOFFSETFROM:+0400
TZOFFSETTO:+0400
TZNAME:+04
DTSTART:20240101T000000
END:STANDARD
END:VTIMEZONE
BEGIN:VEVENT
DTSTART;TZID=Asia/Dubai:20240626T110000
DTEND;TZID=Asia/Dubai:20240626T120000
DTSTAMP:20260422T051535
CREATED:20240624T090858Z
LAST-MODIFIED:20240624T093215Z
UID:10005479-1719399600-1719403200@events.iliauni.edu.ge
SUMMARY:„შედარებითი ვებკორპუსები უცხო ენების სწავლებისა და შედარებითი კვლევებისათვის” - პროფესორ ვლადიმირ ბენკოს საჯარო ლექცია
DESCRIPTION:26 ივნისს\, 11:00 საათზე\, ილიას სახელმწიფო უნივერსიტეტის F303 აუდიტორიაში ლექსიკოგრაფიისა და ენობრივი ტექნოლოგიების ცენტრის ორგანიზებით სლოვაკეთის მეცნიერებათა აკადემიის წევრი\, პროფესორი ვლადიმირ ბენკო სამაგისტრო და სადოქტორო საფეხურების სტუდენტებისათვის წაიკითხავს ლექციას „შედარებითი ვებკორპუსები უცხო ენების სწავლებისა და შედარებითი კვლევებისათვის“. \nსამუშაო ენა: ინგლისური \nდრო: 26 ივნისი\, 11:00 საათი ადგილმდებარეობა: ილიას სახელმწიფო უნივერსიტეტის F303 აუდიტორია\, ქ. ჩოლოყაშვილის გამზ. N3/5 \nდასწრება თავისუფალია.
URL:https://events.iliauni.edu.ge/event/shedarebithi-vebkorpusebi-utskho-enebis-stsavlebisa-da-shedarebithi-kvlevebisathvis-prophesor-vladimir-benkos-sajaro-leqtsia/
CATEGORIES:კონფერენციები,მეცნიერებათა და ხელოვნების ფაკულტეტი
ATTACH;FMTTYPE=image/jpeg:https://events.iliauni.edu.ge/wp-content/uploads/2024/06/web-metsn-khel-vladimir-benko-akhali.jpg
END:VEVENT
BEGIN:VEVENT
DTSTART;TZID=Asia/Dubai:20240627T150000
DTEND;TZID=Asia/Dubai:20240628T173000
DTSTAMP:20260422T051535
CREATED:20240624T080135Z
LAST-MODIFIED:20240624T080135Z
UID:10005478-1719500400-1719595800@events.iliauni.edu.ge
SUMMARY:მეცნიერებათა და ხელოვნების ფაკულტეტის სტუდენტურ კონფერენციათა სერია ჰუმანიტარულ და სოციალურ მეცნიერებებში
DESCRIPTION:27-28 ივნისს\, 15:00 საათზე\, ილიას სახელმწიფო უნივერსიტეტის წიგნის სახლში „ლიგამუსი“ მეცნიერებათა და ხელოვნების ფაკულტეტი გამართავს სტუდენტურ კონფერენციას ჰუმანიტარულ და სოციალურ მეცნიერებებში. \nკონფერენციაზე იმუშავებს შემდეგი სექციები: \n\nსოციალურ მეცნიერებათა სექცია – რეგისტრაცია დაიწყება 14:30 საათზე\, კონფერენცია – 15:00 საათზე.\nჰუმანიტარულ მეცნიერებათა სექცია – რეგისტრაცია დაიწყება 14:30 საათზე\, კონფერენცია – 15:00 საათზე.\n\nკონფერენციაზე მოხსენებით გამოვლენ ილიას სახელმწიფო უნივერსიტეტის საბაკალავრო პროგრამების სტუდენტები\, რომელთაც გამოგზავნილი აქვთ შესაბამისი თემატური რეზიუმეები. \nკონფერენციას დაესწრებიან და მომხსენებლებს შეაფასებენ ილიას სახელმწიფო უნივერსიტეტის შესაბამისი მიმართულების პროფესორები. \nკონფერენციაზე დასასწრებად გთხოვთ\, შეავსოთ მოკლე სარეგისტრაციო ფორმა: \n\nhttps://forms.gle/B43ZvhxrSvSWQXLJA\n\nდრო: 27-28 ივნისი\, 15:00 საათი \nადგილმდებარეობა: წიგნის სახლი „ლიგამუსი“ (ი. ჭავჭავაძის გამზ. N32)\, ილიას სახელმწიფო უნივერსიტეტი \nდასწრება თავისუფალია.
URL:https://events.iliauni.edu.ge/event/metsnierebatha-da-khelovnebis-phakultetis-studentur-konpherentsiatha-seria-humanitarul-da-sotsialur-metsnierebebshi/
CATEGORIES:კონფერენციები,მეცნიერებათა და ხელოვნების ფაკულტეტი
ATTACH;FMTTYPE=image/png:https://events.iliauni.edu.ge/wp-content/uploads/2024/06/konph2_web.png
END:VEVENT
END:VCALENDAR