BEGIN:VCALENDAR
VERSION:2.0
PRODID:-//უნივერსიტეტის ღონისძიებების პორტალი - ECPv6.2.8.2//NONSGML v1.0//EN
CALSCALE:GREGORIAN
METHOD:PUBLISH
X-WR-CALNAME:უნივერსიტეტის ღონისძიებების პორტალი
X-ORIGINAL-URL:https://events.iliauni.edu.ge
X-WR-CALDESC:Events for უნივერსიტეტის ღონისძიებების პორტალი
REFRESH-INTERVAL;VALUE=DURATION:PT1H
X-Robots-Tag:noindex
X-PUBLISHED-TTL:PT1H
BEGIN:VTIMEZONE
TZID:Asia/Dubai
BEGIN:STANDARD
TZOFFSETFROM:+0400
TZOFFSETTO:+0400
TZNAME:+04
DTSTART:20240101T000000
END:STANDARD
END:VTIMEZONE
BEGIN:VEVENT
DTSTART;TZID=Asia/Dubai:20240527T180000
DTEND;TZID=Asia/Dubai:20240527T190000
DTSTAMP:20260421T231611
CREATED:20240410T091138Z
LAST-MODIFIED:20240411T073436Z
UID:10005416-1716832800-1716836400@events.iliauni.edu.ge
SUMMARY:„საქართველოს დემოკრატიული რესპუბლიკა ფორმისა და შინაარსის ძიებაში“ – სტატიების კრებულის პრეზენტაცია
DESCRIPTION:27 მაისს\, 18:00 საათზე\, წიგნის სახლში „ლიგამუსი“ სოციალური და კულტურის კვლევების ინსტიტუტის ორგანიზებით გაიმართება სტატიების კრებულის „საქართველოს დემოკრატიული რესპუბლიკა ფორმისა და შინაარსის ძიებაში“ პრეზენტაცია. წიგნი ინსტიტუტის მრავალწლიანი პროექტის ფარგლებში მომზადდა ილიაუნის ასოცირებული პროფესორის\, ლუკა ნახუცრიშვილის სამეცნიერო ხელმძღვანელობით და უნივერსიტეტთან გაფორმებული მემორანდუმის საფუძველზე გამოსცა გამომცემლობა „ზიარმა“. \nპრეზენტაციაში მონაწილეობას მიიღებენ:  \n\nნატალია ალხაზიშვილი\, „ზიარის“ ხელმძღვანელი\nლუკა ნახუცრიშვილი\, კრებულის სამეცნიერო რედაქტორი\nგიორგი მაისურაძე\, სოციალური და კულტურის კვლევების ინსტიტუტის დირექტორი\nია ერაძე\, კრებულის თანაავტორი\,ინსტიტუტის მეცნიერ-თანამშრომელი\nთამთა ხალვაში\, კრებულის თანაავტორი\, ილიაუნის პროფესორი\n\nკრებულის შესახებ \nკრებული საქართველოს დემოკრატიული რესპუბლიკის შესახებ\, ისტორიოგრაფიული ტიპის გამოკვლევებისაგან განსხვავებით\, პირველია როგორც ქართულ\, ისე უცხოენოვან აკადემიურ სივრცეში\, რომელიც პირველ რესპუბლიკას ჰუმანიტარული და სოციალური მეცნიერებების მრავალი სხვა დარგის გადმოსახედიდან აშუქებს\, ესენია: ანთროპოლოგია\, კულტურის კვლევები\, კრიტიკული სამართლის თეორია\, ცნებათა ისტორია\, პოლიტიკური თეორია\, რელიგიის სოციოლოგია\, ხელოვნების ისტორია\, კინომცოდნეობა\, პოლიტიკური ეკონომია\, ლიტერატურათმცოდნეობა\, ლინგვისტიკა თუ იკონოლოგია. \nაქამდე ნაკლებად განხილული მოვლენების\, დოკუმენტების\, ნაწარმოებებისა თუ ინსტიტუციების ანალიზის საფუძველზე პირველი რესპუბლიკის მოკლე სამი წელი წარმოჩინდება არა როგორც რაღაც „არარადან“ აღმოცენებული და უკვალოდ გამქრალი\, არამედ როგორც სამჭედლო\, სადაც იმპერიული პერიოდიდან ნამემკვიდრევი ფორმებისა და შინაარსის გადადნობა\, ახალ ყალიბში გადასხმა მოხდა\, რომელთა ნაწილმა 1921 წლის მერეც განაგრძო გარდაქმნილი სახით არსებობა. \nკრებული დარგობრივი და თემატური მრავალფეროვნების წყალობით პირველი რესპუბლიკით დაინტერესებულ ფართო საზოგადოებასაც და სამეცნიერო წრეებსაც ახალი კუთხით დაანახებს დამოუკიდებლობის ხანმოკლე\, მაგრამ უაღრესად დატვირთულ\, პერიოდს. \nსამუშაო ენა: ქართული \nდრო: 27 მაისი\, 18:00 საათი \nადგილმდებარეობა: წიგნის სახლი „ლიგამუსი“\, ი. ჭავჭავაძის გამზ. N32 \nდასწრება თავისუფალია.
URL:https://events.iliauni.edu.ge/event/saqarthvelos-demokratiuli-respublika-phormisa-da-shinaarsis-dziebashi-statiebis-krebulis-prezentatsia/
CATEGORIES:მეცნიერებათა და ხელოვნების ფაკულტეტი,ღონისძიებები
ATTACH;FMTTYPE=image/png:https://events.iliauni.edu.ge/wp-content/uploads/2024/04/krebuli_web-1.png
END:VEVENT
BEGIN:VEVENT
DTSTART;TZID=Asia/Dubai:20240527T190000
DTEND;TZID=Asia/Dubai:20240527T200000
DTSTAMP:20260421T231611
CREATED:20240526T113020Z
LAST-MODIFIED:20240607T113140Z
UID:10005467-1716836400-1716840000@events.iliauni.edu.ge
SUMMARY:ილიაუნის ავსტრიულ ბიბლიოთეკაში პროფესორ მარკ-გეორგ დერმანის საჯარო სემინარები გაიმართება
DESCRIPTION:27 და 29 მაისს ილიას სახელმწიფო უნივერსიტეტის ავსტრიულ ბიბლიოთეკაში Erasmus+-ის აკადემიური მობილობის ფარგლებში გაიმართება ჰუმბოლტის უნივერსიტეტის  პროფესორის მარკ-გეორგ დერმანის საჯარო სემინარები. \nსემინარზე დასწრება საინტერესო იქნება ლიტერატურათმცოდნეობის მიმართულების სტუდენტებისა და მკვლევრებისთვის\, ასევე ლიტერატურის თეორიით დაინტერესებული ნებისმიერი პირისთვის. \n\n27 მაისი\, 19:00 საათი – “Roman Jakobson’s Linguistics and Poetics“ („რომან იაკობსონის ლინგვისტიკა და პოეტიკა“)\n\nმნიშვნელოვანია\, რომ დამსწრეებს წინასწარ ჰქონდეთ წაკითხული რომან იაკობსონის ტექსტი: \n\nhttps://drive.google.com/file/d/1MLNjDdFvUsivAIviCULJxLFBPMKbqc3x/view?usp=sharing\n\nსამუშაო ენა: ინგლისური \n\n29 მაისი\, 19:00 საათი – „Werther in aller Welt. Goethes Roman als Modell für eine transnationale Perspektive auf Literatur“ („ვერთერი მთელს მსოფლიოში. გოეთეს რომანი ტრანსნაციონალური პერსპექტივიდან“)\n\nსამუშაო ენა: გერმანული \n\nმარკ-გეორგ დერმანი გერმანული ლიტერატურის ინსტიტუტის პროფესორი და დირექტორია ჰუმბოლტის უნივერსიტეტში (ბერლინი). მისი კვლევის სფეროებია ეპოსის ისტორია\, ლიტერატურისა და ჰუმანიტარულ მეცნიერებათა ურთიერთმიმართებები\, ლიტერატურა და ისტორია\, ანტიკურობის რეცეფცია ლიტერატურაში\, კულტურის ტრანსფერი ინგლისსა და გერმანიას შორის. \nმომხსენებლის შესახებ ინფორმაცია შეგიძლიათ იხილოთ აქ: Prof. Dr. Mark-Georg Dehrmann — Institut für deutsche Literatur (hu-berlin.de) \nსამუშაო ენები: ინგლისური\, გერმანული \nდრო: 27 მაისი\, 29 მაისი\, 19:00 საათი \nადგილმდებარეობა: ილიას სახელმწიფო უნივერსიტეტის ავსტრიული ბიბლიოთეკა (S507)\,  გ. წერეთლის ქ. N3 \nდასწრება თავისუფალია.
URL:https://events.iliauni.edu.ge/event/iliaunis-avstriul-bibliothekashi-prophesor-mark-georg-dermanis-sajaro-seminarebi-gaimartheba-2/
CATEGORIES:მეცნიერებათა და ხელოვნების ფაკულტეტი,ღონისძიებები
ATTACH;FMTTYPE=image/png:https://events.iliauni.edu.ge/wp-content/uploads/2024/06/8b433b9f27c97abe2296934ab1499642_83459.png
END:VEVENT
BEGIN:VEVENT
DTSTART;TZID=Asia/Dubai:20240528T150000
DTEND;TZID=Asia/Dubai:20240528T170000
DTSTAMP:20260421T231611
CREATED:20240524T091310Z
LAST-MODIFIED:20240524T091310Z
UID:10005454-1716908400-1716915600@events.iliauni.edu.ge
SUMMARY:„წარმატებული ადამიანების 8 ჩვევა“ - საჯარო ლექცია
DESCRIPTION:28 მაისს\, 15:00 საათზე\, ილიას სახელმწიფო უნივერსიტეტის ავსტრიული ბიბლიოთეკაში პროფესორ ფილიპ კიმის ორგანიზებით გაიმართება აქცია „წარმატებული ადამიანების 8 ჩვევა“. \nლექციაზე ამერიკელი პროფესორები სხვადასხვა უნივერსიტეტიდან დამსწრე საზოგადოებას გაუზიარებენ ჩვევებსა და ფილოსოფიას\, რაც მათ წარმატების მიღწევაში ეხმარება. \nდისკუსია გაიმართება „მრგვალი მაგიდის/მუსიკალური სკამების“ ფორმატში\, სადაც სპიკერები განლაგდებიან 4 მაგიდასთან (თითოეულ მაგიდასთან – 2 სპიკერი). დისკუსიის მონაწილეები კი შეიკრიბებიან თითოეული მაგიდის ირგვლივ და მომდევნო 15 წუთის განმავლობაში მოუსმენენ სპიკერების საინტერესო პრეზენტაციებს\, დაუსვამენ მათ კითხვებს ან გაუზიარებენ კომენტარებს. ამის შემდეგ დისკუსიის მონაწილეები გადაინაცვლებენ მომდევნო მაგიდასთან. მრგვალი “მაგიდის/მუსიკალური სკამების” დისკუსიისთვის განკუთვნილი იქნება 60-90 წუთი\, ხოლო დარჩენილი 30 წუთი კითხვა-პასუხის ნაწილს დაეთმობა. \nსპიკერები: \n\nანჰუა ჩენი ბოსტონი დოქტორობის კანდიდატი\, ჰარვარდის უნივერსიტეტი\nენი შენ ჰუანგი ბოსტონი დოქტორობის კანდიდატი\, მასაჩუსეტსის ტექნოლოგიური ინსტიტუტი; ფულბრაიტის სტიპენდიანტი\nბამჯუნ პარკი ვაშინგტონი მერილენდის უნივერსიტეტი\, სტომატოლოგია\nჩერისა შანგი ბოსტონი ჰარვარდის უნივერსიტეტი\nჯეი ჰონგ ჩუ ბოსტონი ჰარვარდის უნივერსიტეტი\nჯეს ჩი ფილადელფია ჰარვარდის უნივერსიტეტი\, ბოსტონის უნივერსიტეტის მედიცინის დოქტორი\nჯონ ვუ ვაშინგტონი დოქტორი\, ჯონს ჰოპკინზის უნივერსიტეტი\nლიდია ჰე ვაშინგტონი დოქტორი\, მერილენდის უნივერსიტეტი\nფილიპ კიმი ფილადელფია ჰარვარდი\, ოქსფორდი\, პენსილვანიის უნივერსიტეტის დოქტორობის კანდიდატი\n\nსამუშაო ენა: ინგლისური \nდრო: 28 მაისი\, 15:00 საათიდან 17:00 საათამდე \nადგილმდებარეობა: ილიას სახელმწიფო უნივერსიტეტის ავსტრიული ბიბლიოთეკა (S507)\, გ. წერეთლის ქუჩა N3 \nდასწრება თავისუფალია.
URL:https://events.iliauni.edu.ge/event/tsarmatebuli-adamianebis-8-chveva-sajaro-leqtsia/
CATEGORIES:მეცნიერებათა და ხელოვნების ფაკულტეტი,საჯარო ლექციები
ATTACH;FMTTYPE=image/png:https://events.iliauni.edu.ge/wp-content/uploads/2024/05/web-8-rcheva.png
END:VEVENT
END:VCALENDAR