BEGIN:VCALENDAR
VERSION:2.0
PRODID:-//უნივერსიტეტის ღონისძიებების პორტალი - ECPv6.2.8.2//NONSGML v1.0//EN
CALSCALE:GREGORIAN
METHOD:PUBLISH
X-ORIGINAL-URL:https://events.iliauni.edu.ge
X-WR-CALDESC:Events for უნივერსიტეტის ღონისძიებების პორტალი
REFRESH-INTERVAL;VALUE=DURATION:PT1H
X-Robots-Tag:noindex
X-PUBLISHED-TTL:PT1H
BEGIN:VTIMEZONE
TZID:Asia/Dubai
BEGIN:STANDARD
TZOFFSETFROM:+0400
TZOFFSETTO:+0400
TZNAME:+04
DTSTART:20240101T000000
END:STANDARD
END:VTIMEZONE
BEGIN:VEVENT
DTSTART;TZID=Asia/Dubai:20240520T110000
DTEND;TZID=Asia/Dubai:20240520T120000
DTSTAMP:20260422T061747
CREATED:20240514T084225Z
LAST-MODIFIED:20240514T084225Z
UID:10005446-1716202800-1716206400@events.iliauni.edu.ge
SUMMARY:დოქტორანტ ნინო იმედაშვილის სადისერტაციო ნაშრომის დაცვა
DESCRIPTION:20 მაისს\, 11:00 საათზე\, ილიას სახელმწიფო უნივერსიტეტის G 106 აუდიტორიაში მეცნიერებათა და ხელოვნების ფაკულტეტის სადოქტორო პროგრამის პოლიტიკის მეცნიერება დოქტორანტი ნინო იმედაშვილი დაიცავს სადისერტაციო ნაშრომს „თვალი-თვალის წილ“ ნატო-რუსეთის ურთიერთქმედების და რუსეთის არაერთგვაროვანი ინტერვენციების ახსნა აღმოსავლეთ ევროპის ქვეყნებში. \nსამეცნიერო ხელმძღვანელი – სერგი კაპანაძე\, ილიას სახელმწიფო უნივერსიტეტის პროფესორი \nსამუშაო ენა: ქართული \nდრო: 20 მაისი\, 11:00 საათი \nადგილმდებარეობა: ილიას სახელმწიფო უნივერსიტეტის G106 აუდიტორია\, გ. წერეთლის ქ. №1 \nდასწრება თავისუფალია. \n2024
URL:https://events.iliauni.edu.ge/event/doqtorant-nino-imedashvilis-sadisertatsio-nashromis-datsva/
CATEGORIES:მეცნიერებათა და ხელოვნების ფაკულტეტი
ATTACH;FMTTYPE=image/png:https://events.iliauni.edu.ge/wp-content/uploads/2024/05/web-sadisertatsio-metsn-nino-imedashvili.png
END:VEVENT
BEGIN:VEVENT
DTSTART;TZID=Asia/Dubai:20240523T120000
DTEND;TZID=Asia/Dubai:20240523T140000
DTSTAMP:20260422T061747
CREATED:20240520T080730Z
LAST-MODIFIED:20240520T080730Z
UID:10005448-1716465600-1716472800@events.iliauni.edu.ge
SUMMARY:შემოქმედებითი ტური საბაკალავრო პროგრამაზე „მუსიკა“
DESCRIPTION:მეცნიერებათა და ხელოვნების ფაკულტეტის საბაკალავრო პროგრამაზე \,\,მუსიკა (ძირითადი და დამატებითი სპეციალობა)” ჩარიცხვის მსურველ აბიტურიენტთათვის შემოქმედებითი ტური ჩატარდება 23 მაისს\, 12 საათზე. \nუნივერსიტეტის კორპუსების განლაგება გთხოვთ\,იხილოთ აქ. \nტურის შესახებ დამატებითი ინფორმაციისთვის\, გთხოვთ\, ეწვიოთ შემდეგ ბმულს ან\, მოგვმართოთ ელ. ფოსტის საშუალებით: tour.music@iliauni.edu.ge \n\n\nდრო: 23 მაისი\, 12:00 საათი \nტურის ჩატარების ადგილი: ილიას სახელმწიფო უნივერსიტეტი\, D 404 აუდიტორია
URL:https://events.iliauni.edu.ge/event/shemoqmedebithi-turi-sabakalavro-programaze-musika/
CATEGORIES:მეცნიერებათა და ხელოვნების ფაკულტეტი
ATTACH;FMTTYPE=image/png:https://events.iliauni.edu.ge/wp-content/uploads/2024/05/WEB-BANNER-MUSIC-1.png
END:VEVENT
END:VCALENDAR