BEGIN:VCALENDAR
VERSION:2.0
PRODID:-//უნივერსიტეტის ღონისძიებების პორტალი - ECPv6.2.8.2//NONSGML v1.0//EN
CALSCALE:GREGORIAN
METHOD:PUBLISH
X-WR-CALNAME:უნივერსიტეტის ღონისძიებების პორტალი
X-ORIGINAL-URL:https://events.iliauni.edu.ge
X-WR-CALDESC:Events for უნივერსიტეტის ღონისძიებების პორტალი
REFRESH-INTERVAL;VALUE=DURATION:PT1H
X-Robots-Tag:noindex
X-PUBLISHED-TTL:PT1H
BEGIN:VTIMEZONE
TZID:Asia/Dubai
BEGIN:STANDARD
TZOFFSETFROM:+0400
TZOFFSETTO:+0400
TZNAME:+04
DTSTART:20240101T000000
END:STANDARD
END:VTIMEZONE
BEGIN:VEVENT
DTSTART;TZID=Asia/Dubai:20240424T190000
DTEND;TZID=Asia/Dubai:20240424T200000
DTSTAMP:20260422T030827
CREATED:20240419T072535Z
LAST-MODIFIED:20240419T072535Z
UID:10005428-1713985200-1713988800@events.iliauni.edu.ge
SUMMARY:რაფაელ როგინსკის კონცერტი
DESCRIPTION:24 აპრილს\, 19:00 საათზე\, ილიაუნის თეატრში მუსიკის ცენტრის ორგანიზებით გაიმართება პოლონელი კომპოზიტორის\, ეთნომუსიკოლოგისა და შემსრულებლის\, რაფაელ როგინსკის კონცერტი. \nკონცერტზე შესრულდება საიათნოვას მოტივებით შთაგონებული პიესები\, ასევე სხვა სოლო ნაწარმოებები გიტარაზე. \nდრო: 24 აპრილი\, 19:00 საათი \nადგილმდებარეობა: ილიაუნის თეატრი\, A კორპუსი (ეზო)\, ი. ჭავჭავაძის გამზ. N32 \nდასწრება თავისუფალია.
URL:https://events.iliauni.edu.ge/event/raphael-roginskis-kontserti/
CATEGORIES:მეცნიერებათა და ხელოვნების ფაკულტეტი,ღონისძიებები
ATTACH;FMTTYPE=image/png:https://events.iliauni.edu.ge/wp-content/uploads/2024/04/web-musikis-tsentri-raphael-1.png
END:VEVENT
BEGIN:VEVENT
DTSTART;TZID=Asia/Dubai:20240426T123000
DTEND;TZID=Asia/Dubai:20240426T133000
DTSTAMP:20260422T030827
CREATED:20240425T113025Z
LAST-MODIFIED:20240429T113132Z
UID:10005431-1714134600-1714138200@events.iliauni.edu.ge
SUMMARY:\,\,APRILE-IL MESE DELL’AMORE’’ - იტალიური ენის კურსის სტუდენტების ღონისძიება
DESCRIPTION:26 აპრილს\, 12:30 საათზე\, ილიას სახელმწიფო უნივერსიტეტის S501 აუდიტორიაში უნივერსიტეტის იტალიური კულტურის ცენტრი გამართავს ღონისძიებას “Aprile-il mese dell’amore’’ („აპრილი – სიყვარულის თვე“). \nღონისძიებაში მონაწილეობას მიიღებენ ილიას სახელმწიფო უნივერსიტეტის იტალიური ენის კურსის სტუდენტები\, რომლებიც წაიკითხავენ ცნობილი იტალიელი პოეტების (ჯაკომო ლეოპარდის\, დანტე ალიგიერის) ლექსებსა და პოემების ნაწყვეტებს სიყვარულზე\, იტალიური პოეზიის ნაწილის პარალელურად – ქართველ პოეტთა ციტატებს სიყვარულზე (ასევე ცნობილ ფრაზებს ქართული ფილმებიდან). \nღონისძიების სტუმრებს შესაძლებლობა ექნებათ\, ჩაერთონ მინიდისკუსიაში. \nფინალურ ნაწილში სტუდენტები შეასრულებენ მუსიკალურ ნომრებს. \nღონისძიების ორგანიზატორია იტალიური ენის პედაგოგი მანანა სიფრაშვილი. \nსამუშაო ენები: ქართული\, იტალიური \nდრო: 26 აპრილი\, 12:30 საათი \nადგილმდებარეობა: ილიას სახელმწიფო უნივერსიტეტის S501 აუდიტორია\, გ. წერეთლის ქ. N3 \nდასწრება თავისუფალია.
URL:https://events.iliauni.edu.ge/event/aprile-il-mese-dell-amore-italiuri-enis-kursis-studentebis-ghonisdzieba/
CATEGORIES:მეცნიერებათა და ხელოვნების ფაკულტეტი
ATTACH;FMTTYPE=image/png:https://events.iliauni.edu.ge/wp-content/uploads/2024/04/6218a59b97001b77c6bc7b5e8e4e8c0a_83215.png
END:VEVENT
BEGIN:VEVENT
DTSTART;TZID=Asia/Dubai:20240427T190000
DTEND;TZID=Asia/Dubai:20240427T200000
DTSTAMP:20260422T030827
CREATED:20240425T111835Z
LAST-MODIFIED:20240429T111944Z
UID:10005430-1714244400-1714248000@events.iliauni.edu.ge
SUMMARY:„ივირონი და მისი მხატვრული მემკვიდრეობა“ – პროფესორ ნინო ჭიჭინაძის ონლაინლექცია
DESCRIPTION:27 აპრილს\, 18:00 საათზე\, საერთაშორისო სამეცნიერო ქსელის The Caucasus Through Time Network-ის ორგანიზებით ილიას სახელმწიფო უნივერსიტეტის პროფესორი ნინო ჭიჭინაძე ონლაინ წაიკითხავს ლექციას ”Iviron and its Artistic Legacy”. \nმომხსენებელი შეეხება ივირონის ათონის ქართველთა მონასტერსა და მის ხელოვნებას. ივირონის რელიგიური და პოლიტიკურ-კულტურული განზომილება\, რომელიც სცილდება საკუთრივ ათონის მთას\, გაცხადებულია სამონასტრო ხელოვნებითა და რელიკვიებით. საუკუნეთა განმავლობაში  ათონსა და საქართველოს შორის  კავშირ-ურთიერთობების თავისებურებები განხილული იქნება ხელოვნების პერსპექტივიდან. \nფორმატი: ონლაინ (შეხვედრა ზუმში) \nრეგისტრაცია: \n\nhttps://ucl.zoom.us/meeting/register/tJYtc-uqqD4rGtE3_jMhKdWq-jZJyfyJKY6c#/registration\n\nსამუშაო ენა: ინგლისური \nდრო: 27 აპრილი\, 18:00 საათი \nდასწრება თავისუფალია.
URL:https://events.iliauni.edu.ge/event/ivironi-da-misi-mkhatvruli-memkvidreoba-prophesor-nino-tchitchinadzis-onlainleqtsia/
CATEGORIES:მეცნიერებათა და ხელოვნების ფაკულტეტი,ღონისძიებები
ATTACH;FMTTYPE=image/png:https://events.iliauni.edu.ge/wp-content/uploads/2024/04/82d10112daa197801266b62363e1465b_83199.png
END:VEVENT
END:VCALENDAR