BEGIN:VCALENDAR
VERSION:2.0
PRODID:-//უნივერსიტეტის ღონისძიებების პორტალი - ECPv6.2.8.2//NONSGML v1.0//EN
CALSCALE:GREGORIAN
METHOD:PUBLISH
X-ORIGINAL-URL:https://events.iliauni.edu.ge
X-WR-CALDESC:Events for უნივერსიტეტის ღონისძიებების პორტალი
REFRESH-INTERVAL;VALUE=DURATION:PT1H
X-Robots-Tag:noindex
X-PUBLISHED-TTL:PT1H
BEGIN:VTIMEZONE
TZID:Asia/Dubai
BEGIN:STANDARD
TZOFFSETFROM:+0400
TZOFFSETTO:+0400
TZNAME:+04
DTSTART:20240101T000000
END:STANDARD
END:VTIMEZONE
BEGIN:VEVENT
DTSTART;TZID=Asia/Dubai:20240722T170000
DTEND;TZID=Asia/Dubai:20240722T180000
DTSTAMP:20260421T135148
CREATED:20240722T064712Z
LAST-MODIFIED:20240722T065126Z
UID:10005511-1721667600-1721671200@events.iliauni.edu.ge
SUMMARY:რელიგიურ-საგანმანათლებლო ჟურნალის „ზღვარი − მართლმადიდებლობა და თანამედროვეობა“ პრეზენტაცია
DESCRIPTION:22 ივლისს\, 17:00 საათზე\, ილიაუნის წიგნის სახლში „ლიგამუსი“ ილიას სახელმწიფო უნივერსიტეტის სამაგისტრო პროგრამის „რელიგიის კვლევები“ ფარგლებში გაიმართება რელიგიურ-საგანმანათლებლო ჟურნალის „ზღვარი − მართლმადიდებლობა და თანამედროვეობა“ პრეზენტაცია. ჟურნალს წარადგენს და განხილვას გაუძღვება გამოცემის მთავარი რედაქტორი\, დეკანოზი გიორგი წეროძე. \nჟურნალის წარდგენისა და განხილვის ორგანიზატორია ლიტერატურული კლუბი USAID-ის პროგრამის „ერთიანობა მრავალფეროვნებაშია“ ფარგლებში\, რომელსაც ახორციელებს საქართველოს გაეროს ასოციაცია აშშ-ის საერთაშორისო განვითარების სააგენტოს ფინანსური მხარდაჭერით. \nსამუშაო ენა: ქართული \nდრო: 22 ივლისი\, 17:00 საათი \nადგილმდებარეობა: წიგნის სახლი „ლიგამუსი”\, ი. ჭავჭავაძის გამზ. N32 \nდასწრება თავისუფალია.
URL:https://events.iliauni.edu.ge/event/religiur-saganmanathleblo-zhurnalis-zghvari-marthlmadidebloba-da-thanamedroveoba-prezentatsia/
CATEGORIES:მეცნიერებათა და ხელოვნების ფაკულტეტი,ღონისძიებები
ATTACH;FMTTYPE=image/png:https://events.iliauni.edu.ge/wp-content/uploads/2024/07/ZGVARI-WEB.png
END:VEVENT
END:VCALENDAR