BEGIN:VCALENDAR
VERSION:2.0
PRODID:-//უნივერსიტეტის ღონისძიებების პორტალი - ECPv6.2.8.2//NONSGML v1.0//EN
CALSCALE:GREGORIAN
METHOD:PUBLISH
X-ORIGINAL-URL:https://events.iliauni.edu.ge
X-WR-CALDESC:Events for უნივერსიტეტის ღონისძიებების პორტალი
REFRESH-INTERVAL;VALUE=DURATION:PT1H
X-Robots-Tag:noindex
X-PUBLISHED-TTL:PT1H
BEGIN:VTIMEZONE
TZID:Asia/Dubai
BEGIN:STANDARD
TZOFFSETFROM:+0400
TZOFFSETTO:+0400
TZNAME:+04
DTSTART:20240101T000000
END:STANDARD
END:VTIMEZONE
BEGIN:VEVENT
DTSTART;TZID=Asia/Dubai:20240718T160000
DTEND;TZID=Asia/Dubai:20240718T180000
DTSTAMP:20260421T135150
CREATED:20240712T095603Z
LAST-MODIFIED:20240712T095603Z
UID:10005507-1721318400-1721325600@events.iliauni.edu.ge
SUMMARY:ადიქციის კვლევების სამაგისტრო პროგრამა – ღია კარის დღე
DESCRIPTION:18 ივლისს\, 16:00 საათზე\, წიგნის სახლში „ლიგამუსი“ გაიმართება ღია კარის დღე ილიას სახელმწიფო უნივერსიტეტის ადიქციის კვლევების სამაგისტრო პროგრამის შესახებ. \nშეხვედრას გაუძღვებიან ილიაუნის ადიქციის კვლევების სამაგისტრო პროგრამის პროფესორები : ჯანა ჯავახიშვილი\, დავით ოთიაშვილი და ირმა კირთაძე. მონაწილეობას მიიღებენ პროგრამის კურსდამთავრებულები და დამსაქმებლები. \nდამსწრე საზოგადოება გაეცნობა ინფორმაციას ადიქციის კვლევების სამაგისტრო პროგრამაზე მიღება-სწავლების\, დასაქმების შესაძლებლობებისა და სფეროების შესახებ\, გაიგებს\, რას სძენს პროგრამა სტუდენტს/კურსდამთავრებულს როგორც პროფესიული\, ასევე პიროვნული ზრდის თვალსაზრისით. \nადიქციის კვლევების სამაგისტრო პროგრამა ინტერდისციპლინურია. მასზე სწავლა შეუძლიათ საბაკალავრო ან მისი ტოლფასი საფეხურის განათლების მქონე ფსიქოლოგებს\, სამედიცინო სფეროს წარმომადგენლებს\, სოციალურ მუშაკებს\, პედაგოგებს\, განათლების მენეჯერებს\, ჟურნალისტებს\, იურისტებს და ა. შ. \nფორმატი: ჰიბრიდული. შესაძლებელია დასწრება ონლაინ მითითებული ბმულით: https://www.facebook.com/events/440665688810682 \nსამუშაო ენა: ქართული \nდრო: 18 ივლისი\, 16:00 საათი \nადგილმდებარეობა: წიგნის სახლი „ლიგამუსი“\, ი. ჭავჭავაძის გამზ. N32 \nდასწრება თავისუფალია.
URL:https://events.iliauni.edu.ge/event/adiqtsiis-kvlevebis-samagistro-programa-ghia-karis-dghe/
CATEGORIES:მეცნიერებათა და ხელოვნების ფაკულტეტი
ATTACH;FMTTYPE=image/png:https://events.iliauni.edu.ge/wp-content/uploads/2024/07/a1a10934cd20b33bdf704393b6a75a13_84209.png
END:VEVENT
END:VCALENDAR