BEGIN:VCALENDAR
VERSION:2.0
PRODID:-//უნივერსიტეტის ღონისძიებების პორტალი - ECPv6.2.8.2//NONSGML v1.0//EN
CALSCALE:GREGORIAN
METHOD:PUBLISH
X-WR-CALNAME:უნივერსიტეტის ღონისძიებების პორტალი
X-ORIGINAL-URL:https://events.iliauni.edu.ge
X-WR-CALDESC:Events for უნივერსიტეტის ღონისძიებების პორტალი
REFRESH-INTERVAL;VALUE=DURATION:PT1H
X-Robots-Tag:noindex
X-PUBLISHED-TTL:PT1H
BEGIN:VTIMEZONE
TZID:Asia/Dubai
BEGIN:STANDARD
TZOFFSETFROM:+0400
TZOFFSETTO:+0400
TZNAME:+04
DTSTART:20240101T000000
END:STANDARD
END:VTIMEZONE
BEGIN:VEVENT
DTSTART;TZID=Asia/Dubai:20240710T153000
DTEND;TZID=Asia/Dubai:20240710T163000
DTSTAMP:20260421T133830
CREATED:20240705T100446Z
LAST-MODIFIED:20240705T100446Z
UID:10005493-1720625400-1720629000@events.iliauni.edu.ge
SUMMARY:დოქტორანტ ლილი გლურჯიძის სადისერტაციო ნაშრომის დაცვა
DESCRIPTION:10 ივლისს\, 15:30 საათზე\, ილიას სახელმწიფოუნივერსიტეტის წიგნის სახლში „ლიგამუსი“ მეცნიერებათა და ხელოვნების ფაკულტეტის სადოქტორო პროგრამის „კულტურის კვლევები“ დოქტორანტი ლილი გლურჯიძე დაიცავს სადისერტაციო ნაშრომს „გზის ადამიანები\, მოხეტიალე ავტორები და პერსონაჟები კინოში: იონას მეკასი\, ვიმ ვენდერსი\, ანიეს ვარდა\, შანტალ აკერმანი (კინო\, როგორც ვიზუალური არქივი და ამბოხის ტერიტორია)“. \nსამეცნიერო ხელმძღვანელი – ნინო მხეიძე\, ილიასსახელმწიფო უნივერსიტეტის ასოცირებული პროფესორი \nდრო: 10 ივლისი\, 15:30 საათი \nადგილმდებარეობა: წიგნის სახლი „ლიგამუსი“\, ი.ჭავჭავაძის გამზ. N32 \nდასწრება თავისუფალია.
URL:https://events.iliauni.edu.ge/event/doqtorant-lili-glurjidzis-sadisertatsio-nashromis-datsva/
CATEGORIES:მეცნიერებათა და ხელოვნების ფაკულტეტი,ღონისძიებები
ATTACH;FMTTYPE=image/png:https://events.iliauni.edu.ge/wp-content/uploads/2024/07/WEB-sadisertatsio.png
END:VEVENT
END:VCALENDAR