BEGIN:VCALENDAR
VERSION:2.0
PRODID:-//უნივერსიტეტის ღონისძიებების პორტალი - ECPv6.2.8.2//NONSGML v1.0//EN
CALSCALE:GREGORIAN
METHOD:PUBLISH
X-WR-CALNAME:უნივერსიტეტის ღონისძიებების პორტალი
X-ORIGINAL-URL:https://events.iliauni.edu.ge
X-WR-CALDESC:Events for უნივერსიტეტის ღონისძიებების პორტალი
REFRESH-INTERVAL;VALUE=DURATION:PT1H
X-Robots-Tag:noindex
X-PUBLISHED-TTL:PT1H
BEGIN:VTIMEZONE
TZID:Asia/Dubai
BEGIN:STANDARD
TZOFFSETFROM:+0400
TZOFFSETTO:+0400
TZNAME:+04
DTSTART:20240101T000000
END:STANDARD
END:VTIMEZONE
BEGIN:VEVENT
DTSTART;TZID=Asia/Dubai:20240427T190000
DTEND;TZID=Asia/Dubai:20240427T200000
DTSTAMP:20260422T014952
CREATED:20240425T111835Z
LAST-MODIFIED:20240429T111944Z
UID:10005430-1714244400-1714248000@events.iliauni.edu.ge
SUMMARY:„ივირონი და მისი მხატვრული მემკვიდრეობა“ – პროფესორ ნინო ჭიჭინაძის ონლაინლექცია
DESCRIPTION:27 აპრილს\, 18:00 საათზე\, საერთაშორისო სამეცნიერო ქსელის The Caucasus Through Time Network-ის ორგანიზებით ილიას სახელმწიფო უნივერსიტეტის პროფესორი ნინო ჭიჭინაძე ონლაინ წაიკითხავს ლექციას ”Iviron and its Artistic Legacy”. \nმომხსენებელი შეეხება ივირონის ათონის ქართველთა მონასტერსა და მის ხელოვნებას. ივირონის რელიგიური და პოლიტიკურ-კულტურული განზომილება\, რომელიც სცილდება საკუთრივ ათონის მთას\, გაცხადებულია სამონასტრო ხელოვნებითა და რელიკვიებით. საუკუნეთა განმავლობაში  ათონსა და საქართველოს შორის  კავშირ-ურთიერთობების თავისებურებები განხილული იქნება ხელოვნების პერსპექტივიდან. \nფორმატი: ონლაინ (შეხვედრა ზუმში) \nრეგისტრაცია: \n\nhttps://ucl.zoom.us/meeting/register/tJYtc-uqqD4rGtE3_jMhKdWq-jZJyfyJKY6c#/registration\n\nსამუშაო ენა: ინგლისური \nდრო: 27 აპრილი\, 18:00 საათი \nდასწრება თავისუფალია.
URL:https://events.iliauni.edu.ge/event/ivironi-da-misi-mkhatvruli-memkvidreoba-prophesor-nino-tchitchinadzis-onlainleqtsia/
CATEGORIES:მეცნიერებათა და ხელოვნების ფაკულტეტი,ღონისძიებები
ATTACH;FMTTYPE=image/png:https://events.iliauni.edu.ge/wp-content/uploads/2024/04/82d10112daa197801266b62363e1465b_83199.png
END:VEVENT
END:VCALENDAR