BEGIN:VCALENDAR
VERSION:2.0
PRODID:-//უნივერსიტეტის ღონისძიებების პორტალი - ECPv6.2.8.2//NONSGML v1.0//EN
CALSCALE:GREGORIAN
METHOD:PUBLISH
X-WR-CALNAME:უნივერსიტეტის ღონისძიებების პორტალი
X-ORIGINAL-URL:https://events.iliauni.edu.ge
X-WR-CALDESC:Events for უნივერსიტეტის ღონისძიებების პორტალი
REFRESH-INTERVAL;VALUE=DURATION:PT1H
X-Robots-Tag:noindex
X-PUBLISHED-TTL:PT1H
BEGIN:VTIMEZONE
TZID:Asia/Dubai
BEGIN:STANDARD
TZOFFSETFROM:+0400
TZOFFSETTO:+0400
TZNAME:+04
DTSTART:20240101T000000
END:STANDARD
END:VTIMEZONE
BEGIN:VEVENT
DTSTART;TZID=Asia/Dubai:20240311T170000
DTEND;TZID=Asia/Dubai:20240311T170000
DTSTAMP:20260422T031137
CREATED:20240308T100228Z
LAST-MODIFIED:20240313T100415Z
UID:10005382-1710176400-1710176400@events.iliauni.edu.ge
SUMMARY:დოქტორანტ ნინო ბუწაშვილის სადისერტაციო ნაშრომის დაცვა
DESCRIPTION:11 მარტს\, 17:00 საათზე\, ილიას სახელმწიფო უნივერსიტეტის G106 აუდიტორიაში მეცნიერებათა და ხელოვნების ფაკულტეტის სადოქტორო პროგრამა „ფსიქოლოგიის“ დოქტორანტი ნინო ბუწაშვილი დაიცავს სადისერტაციო ნაშრომს „სოციალური დომინანტობის ორიენტაცია და კოგნიტური სიცხადის მოთხოვნილება\, როგორც BIAS map-ის მოდერატორები“. \nსამეცნიერო ხელმძღვანელი – ნინო ჯავახიშვილი\, ილიას სახელმწიფო უნივერსიტეტის პროფესორი \nსამუშაო ენა: ქართული \nდრო: 11 მარტი\, 17:00 საათი \nადგილმდებარეობა: ილიას სახელმწიფო უნივერსიტეტის G106 აუდიტორია\, გ. წერეთლის ქ.N1 \nდასწრება თავისუფალია.
URL:https://events.iliauni.edu.ge/event/doqtorant-nino-butsashvilis-sadisertatsio-nashromis-datsva/
CATEGORIES:მეცნიერებათა და ხელოვნების ფაკულტეტი,ღონისძიებები
ATTACH;FMTTYPE=image/png:https://events.iliauni.edu.ge/wp-content/uploads/2024/03/273c1a97782e34d75f96db7ffe43af79_82774.png
END:VEVENT
BEGIN:VEVENT
DTSTART;TZID=Asia/Dubai:20240315T190000
DTEND;TZID=Asia/Dubai:20240315T200000
DTSTAMP:20260422T031137
CREATED:20240313T095824Z
LAST-MODIFIED:20240313T095824Z
UID:10005380-1710529200-1710532800@events.iliauni.edu.ge
SUMMARY:„არ დამივიწყო“ – ნანი მანველიშვილის წიგნის პრეზენტაცია
DESCRIPTION:15 მარტს\, 19:00 საათზე\, წიგნის სახლში „ლიგამუსი“ ილიას სახელმწიფო უნივერსიტეტის მეცნიერებათა და ხელოვნების ფაკულტეტის მოწვეული ლექტორი ნანი მანველიშვილი გამართავს თავისი რომანის „არ დამივიწყო“ პრეზენტაციას. \nწიგნის შესახებ \nრა მოხდება\, თუ ერთ დღეს ადამიანებს ასეთი უცნაურობა დაემართებათ – დაავიწყდებათ ყველა და ყველაფერი\, საკუთარი იდენტობაც კი. თუმცა ემახსომებათ მხოლოდ და მხოლოდ ერთი ადამიანი: ვიღაცას – დედა\, ვიღაცას – შვილი\, ზოგს – მამა და ზოგსაც – სულაც მეზობელი? „არ დამივიწყო“ – პასუხია ამ კითხვაზე. \nრომანში ორი ძირითადი ხაზია: პირველი თანამედროვე საქართველოში ვითარდება\, მთავარი გმირი კი ლენეა\, სტუდენტი გოგონა\, რომელიც ბებიის ბურუსით მოცული თავგადასავლის გაგებას ცდილობს\, ბებიისა\, რომელიც საბჭოთა კავშირში ცხოვრობდა და მისი ამბავი თვალსა და ხელს შუა გაქრა. \nმეორე ხაზი წარსულია – საბჭოთა კავშირი\, ქართველების როლი და ადგილი ამ სივრცეში\, ადამიანის ბედი ტოტალიტარულ სახელმწიფოში\, ომი და… სიყვარული. \nეს არის ამბავი დავიწყებულებზე. ზოგჯერ ჩვენ ვივიწყებთ\, უფრო ხშირად კი გვივიწყებენ. როგორია იყო დავიწყებული? რას ნიშნავს მარტოობა\, როგორ უნდა ებრძოლო საკუთარ თავს თუ არ გახსოვს\, ვინ ხარ? რა იყო საბჭოთა ტერორი და რა გავლენა ჰქონდა ადამიანებზე? როგორია სიყვარული\, მართლა აძლევს ძალას ადამიანს ბრძოლისთვის? როგორ უნდა იყო ძლიერი ქალი? რატომ მაინდამაინც სენი – დავიწყება? – ეს და სხვა კითხვები გაუჩნდება მკითხველს და პასუხების ძიებას წიგნში ან მის გარეთ დაიწყებს. \nწიგნი 2023 წელს „პალიტრა L-მა“ გამოსცა. \nსამუშაო ენა: ქართული \nდრო: 15 მარტი\, 19:00 საათი \nადგილმდებარეობა: წიგნის სახლი „ლიგამუსი“\, ი. ჭავჭავაძის გამზ. N32 \nდასწრება თავისუფალია.
URL:https://events.iliauni.edu.ge/event/ar-damivitsqho-nani-manvelishvilis-tsignis-prezentatsia/
CATEGORIES:მეცნიერებათა და ხელოვნების ფაკულტეტი,ღონისძიებები
ATTACH;FMTTYPE=image/png:https://events.iliauni.edu.ge/wp-content/uploads/2024/03/e34174e36768ccf243c5165bde06d19d_82782-1.png
END:VEVENT
BEGIN:VEVENT
DTSTART;TZID=Asia/Dubai:20240319T093000
DTEND;TZID=Asia/Dubai:20240319T103000
DTSTAMP:20260422T031137
CREATED:20240318T101208Z
LAST-MODIFIED:20240318T101208Z
UID:10005389-1710840600-1710844200@events.iliauni.edu.ge
SUMMARY:საერთაშორისო სამეცნიერო-პრაქტიკული კონფერენცია „ცვლილებები ბავშვთა და ოჯახთა საკეთილდღეოდ“
DESCRIPTION:19 მარტს\, 09:30 საათზე\, სოციალურ მუშაკთა მსოფლიო დღესთან დაკავშირებით\, გაიმართება მაია მგელიაშვილის სახელობის  სოციალური მუშაობის საერთაშორისო სამეცნიერო-პრაქტიკული კონფერენცია „ცვლილებები ბავშვთა და ოჯახთა საკეთილდღეოდ“. \nკონფერენცია ეძღვნება მაია მგელიაშვილის\, ილიას სახელმწიფო უნივერსიტეტის სოციალური მუშაობის სამაგისტრო პროგრამის მოწვეული ლექტორის ხსოვნას\,  რომლის ღვაწლი სოციალური მუშაობის განვითარებასა და ბავშვთა კეთილდღეობის უზრუნველყოფაში განსაკუთრებით აღსანიშნავია. \nკონფერენციის თემაა სოციალური მუშაობის პრაქტიკა და განათლება ბავშვთა და ოჯახთა საკეთილდღეოდ. \nსოციალურ მუშაკთა მსოფლიო დღე წელს 19 მარტს აღინიშნება. ამ დღის მიზანია სოციალური მუშაკებისა და მათი წვლილის შესახებ საზოგადოების ცნობიერების გაზრდა. \nკონფერენციაში მონაწილეობას მიიღებენ ქართველი და უცხოელი  პრაქტიკოსი სოციალური მუშაკები\, ასევე პროფესორები და სტუდენები. \nკონფერენციის ერთ-ერთი ინიციატორია ილიას სახელმწიფო უნივერსიტეტი\, სოციალური მუშაობის სამაგისტრო და სადოქტორო პროგრამა\, სოციალური მომსახურებებისა და ინტერვენციების მეცნიერული განვითარების კვლევითი ცენტრი. \nკონფერენცია ტარდება საქართველოს სოციალურ მუშაკთა ასოციაციის ინიციატივით World Vision საქართველოსთან\, საქართველოს საზოგადოებრივი ჯანდაცვის ფონდთან\, ივანე ჯავახიშვილის სახელობის თბილისის სახელმწიფო უნივერსიტეტსა და ილიას სახელმწიფო უნივერსიტეტთან თანამშრომლობით. \nსამუშაო ენები: ქართული\,ინგლისური \nდრო: 19 მარტი\, 09:30 საათი \nადგილმდებარეობა: ივანე ჯავახიშვილის სახელობის თბილისის სახელმწიფო უნივერსიტეტი\, ი. ჭავჭავაძის გამზ. N1\, I კორპუსი\, სააქტო დარბაზის ფოიე \nდასწრება თავისუფალია.
URL:https://events.iliauni.edu.ge/event/saerthashoriso-sametsniero-praqtikuli-konpherentsia-tsvlilebebi-bavshvtha-da-ojakhtha-sakethildgheod/
CATEGORIES:კონფერენციები,მეცნიერებათა და ხელოვნების ფაკულტეტი
ATTACH;FMTTYPE=image/png:https://events.iliauni.edu.ge/wp-content/uploads/2024/03/New-New-web-web-2.png
END:VEVENT
BEGIN:VEVENT
DTSTART;TZID=Asia/Dubai:20240320T103000
DTEND;TZID=Asia/Dubai:20240321T173000
DTSTAMP:20260422T031137
CREATED:20240313T100031Z
LAST-MODIFIED:20240313T100145Z
UID:10005381-1710930600-1711042200@events.iliauni.edu.ge
SUMMARY:ვორკშოპი „ძველი ქართული მწერლობა ეროვნულ და გლობალურ კონტექსტში (ტრადიცია\, ინოვაცია\, ტენდენციები)“
DESCRIPTION:20-21 მარტს\, 10:30 საათზე\, ილიას სახელმწიფო უნივერსიტეტის S507 აუდიტორიაში  შოთა რუსთაველის საქართველოს ეროვნული სამეცნიერო ფონდის მიერ დაფინანსებული კვლევითი პროექტის „FR-2 1-660 ძველი ქართული ლიტერატურის ისტორია: ახალი მეთოდოლოგიური და კონცეპტუალური მიდგომები საუნივერსიტეტო სახელმძღვანელო ცნობარისათვის“ ფარგლებში ჩატარდება ვორკშოპი „ძველი ქართული მწერლობა ეროვნულ და გლობალურ კონტექსტში (ტრადიცია\, ინოვაცია\, ტენდენციები)“. \nვორკშოპის მიზანია სხვადასხვა უნივერსიტეტში ძველი ქართული ლიტერატურის სწავლების პროცესში ჩართული პროფესორებისა და დოქტორანტების დისკუსიის ორგანიზება სასწავლო ფორმატში თანამედროვე ინტერ\, კროს და ტრანსდისციპლინური მიდგომებისა და მეთოდების გამოყენების შესახებ ინფორმაციისა და გამოცდილების გაცვლის მიზნით. \nვორკშოპში მონაწილეობას მიიღებენ აგრეთვე ქართული ფილოლოგიის სპეციალობის ის დაინტერესებული მაგისტრანტები\, რომლებსაც ძველი ქართული მწერლობის შემსწავლელი პროგრამული საგნები დახურული აქვთ მაღალი შეფასებით – A . \nვორკშოპზე იგეგმება \n\nპროექტის  მიგნებებისა და შუალედური შედეგების აპრობაცია სამიზნე ჯგუფთან;\nახალი პრობლემების გამოკვეთა და უკუკავშირის ანალიზი.\n\nსამიზნე ჯგუფი: \nფილოლოგიური მიმართულებისა და ფართო პროფილის ჰუმანიტარი სპეციალისტები\, აგრეთვე დოქტორანტები და მაგისტრანტები. \nვორკშოპზე მოწვეული სპეციალისტები/მომხსენებლები: \n1. ფათი ჰატაიბი\, რაბატის მუჰამედ მეხუთის უნივერსიტეტი\, მაროკო\n2. მზია სურგულაძე\, კორნელი კეკელიძის სახელობის ხელნაწერთა ეროვნული ცენტრი\n3. მაკა ელბაქიძე\, შოთა რუსთაველის ქართული ლიტერატურის ინსტიტუტი\n4. ექვთიმე კოჭლამაზაშვილი\, ილიას სახელმწიფო უნივერსიტეტი და კორნელი კეკელიძის სახელობის ხელნაწერთა ეროვნული ცენტრი\n5. ივანე ამირხანაშვილი\,  შოთა რუსთაველის ქართული ლიტერატურის ინსტიტუტი\n6. ნესტან სულავა\, ივანე ჯავახიშვილის სახელობის თბილისის სახელმწიფო უნივერსიტეტი და ახალციხის უნივერსიტეტი\n7. მარიამ ნანობაშვილი\, ივანე ჯავახიშვილის სახელობის თბილისის სახელმწიფო უნივერსიტეტი\n8. თამთა ფარულავა\, გიორგი წერეთლის აღმოსავლეთმცოდნეობის ინსტიტუტი\n9. ელენე გოგიაშვილი\, ივანე ჯავახიშვილის თბილისის სახელმწიფო უნივერსიტეტი\n10. ალექსანდრე შებორნი\, ოქსფორდის უნივერსიტეტის ისტორიის ფაკულტეტი \nვორკშოპში მონაწილეობას მიიღებენ აგრეთვე ილიას სახელმწიფო უნივერსიტეტის ქართული ფილოლოგიის პროგრამის საბაკალავრო საფეხურის სტუდენტები\, რომელთაც 2020-2023 წლის განმავლობაში A შეფასებით დაასრულეს კურსები „ძველი ქართული საეკლესიო მწერლობა (ჰაგიოგრაფია)“ და „ქართული ლიტერატურა XII-XVIII საუკუნეებში.“ ისინი გვესაუბრებიან იმ ძირითად გამოწვევებსა და პრობლემებზე\, რომელთა გადალახვაც მოუწიათ ძველი ქართული ლიტერატურის ისტორიის შესწავლის პროცესში. \nპროექტში ჩართული სპეციალისტები: \n\nირმა ყარაულაშვილი\, პროექტის ხელმძღვანელი\,  ილიას სახელმწიფო უნივერსიტეტი\nთამარ ლომიძე\, პროექტის კოორდინატორი\, ილიას სახელმწიფო უნივერსიტეტი და შოთა რუსთაველის ქართული ლიტერატურის ინსტიტუტი\nდარეჯან გარდავაძე\, ივანე ჯავახიშვილის სახელობის თბილისის სახელმწიფო უნივერსიტეტი\nთეა შურღაია\, ივანე ჯავახიშვილის სახელობის თბილისის სახელმწიფო უნივერსიტეტი და გიორგი წერეთლის აღმოსავლეთმცოდნეობის ინსტიტუტი\nთამთა სურმავა\, ილიას სახელმწიფო უნივერსიტეტი\n\nფორმატი: \nორდღიანი სასესიო სხდომები – დღეში ორი სესია \nდასწრებით და/ან დისტანციურად \nბმული:https://iliauni-edu-ge.zoom.us/j/82027541366 \nსამუშაო ენა: ქართული \nდრო: 20 და 21 მარტი\, 10:30 საათი \nადგილმდებარეობა: ილიას სახელმწიფო უნივერსიტეტის S507 აუდიტორია\, გ. წერეთლის ქუჩა N3 \nდღის წესრიგი \nდღე I \n10:30-13:00  სხდომა 1– ძველი ქართული ნარატიული წყაროები: \nა) ქართული ჰაგიოგრაფია – სტერეოტიპი\, რეცეფცია\, თვითრეფლექსია\nბ)  ძველი ქართული მწერლობა\, როგორც ისტორიული წყარო და იდენტობის ინდიკატორი \n14:00-17:00  სხდომა 2 – ძველი ქართული (საერო)მწერლობის რეალური და გამოგონილი გეოგრაფია \nა) ქართული ლექსი vis-a-vis  აღმოსავლური ექსპანსია\nბ) „სულ ორი-სამი ქარგა აქვს ეპოსს“ (დ. წერედიანი) \nდღე II \n10:30-13:00  სხდომა 3 – „ვეფხისტყაოსანი“  –  მარადი ტექსტი\,  სინთეზური ესთეტიკა\, თანამედროვე კონცეფცია. \n14:00-17:00  სხდომა 4 – ძველი ქართული მწერლობის სწავლების მეთოდოლოგია და თანამედროვე გამოწვევები. \n17:00-17:30  შემაჯამებელი სხდომა: \nპროექტის ხელმძღვანელი და მონაწილეები შეაჯამებენ გამოთქმულ მოსაზრებებს\, ახლებურ კონცეპტუალურ მიდგომებსა და მეთოდოლოგიას\, მიმოიხილავენ დოქტორანტების მიერ გამოთქმულ სურვილებსა და დასმულ პრობლემებს.
URL:https://events.iliauni.edu.ge/event/vorkshopi-dzveli-qarthuli-mtserloba-erovnul-da-globalur-konteqstshi-traditsia-inovatsia-tendentsiebi/
CATEGORIES:მეცნიერებათა და ხელოვნების ფაკულტეტი,ღონისძიებები
ATTACH;FMTTYPE=image/png:https://events.iliauni.edu.ge/wp-content/uploads/2024/03/9385ff8bc9815d9adde237bdaaf5694f_82776.png
END:VEVENT
BEGIN:VEVENT
DTSTART;TZID=Asia/Dubai:20240327T160000
DTEND;TZID=Asia/Dubai:20240327T180000
DTSTAMP:20260422T031137
CREATED:20240319T105148Z
LAST-MODIFIED:20240326T112454Z
UID:10005390-1711555200-1711562400@events.iliauni.edu.ge
SUMMARY:„მე და ევროპა“ ფილმის ჩვენება-დისკუსია
DESCRIPTION:27 მარტს\, 16:00 საათზე\, ილიას სახელმწიფო უნივერსიტეტის G106 აუდიტორიაში მედიის განვითარების ფონდი (MDF) ევროკავშირის ფინანსური მხარდაჭერითა და ილიას სახელმწიფო  უნივერსიტეტთან პარტნიორობით იწყებს დოკუმენტური ფილმის „მე და ევროპა” ჩვენებისა და დისკუსიების ციკლს – ეს არის ოთხი ამბავი საქართველოდან\, რომელიც აერთიანებს მრავალფეროვნებას\, თავისუფლებას\, თანასწორობას\, დემოკრატიას. \nღონისძიებას გახსნიან ილიას უნივერსიტეტის რექტორი ნინო დობორჯგინიძე და საქართველოს ევროკავშირის ელჩის მოადგილე\, პოლიტიკის\, პრესისა და ინფორმაციის განყოფილების ხელმძღვანელი ასუნსიონ სანჩეს რუისი. დისკუსიაში მონაწილეობას მიიღებენ პოეტი რატი ამაღლობელი\, ფილმის რეჟისორი გიორგი ქველიძე და პროდიუსერი თამარ ქველიძე. \nგიორგი ქველიძის დოკუმენტური ფილმი\, რომელიც ევროკავშირის მხარდაჭერით შეიქმნა\, საქართველოს რეგიონებში: კახეთში\, რაჭა-ლეჩხუმში\, გურიასა და იმერეთში გადაღებულ ოთხ ამბავს აერთიანებს და ევროპასთან საქართველოს საერთო ღირებულებებზე – მრავალფეროვნებაზე\, თანასწორობაზე\, თავისუფლებასა და დემოკრატიაზე – ოთხი ადამიანის პერსპექტივიდან მოგვითხრობს. \nსაინფორმაციო კამპანიის „მე და ევროპა“ ფარგლებში მედიის განვითარების ფონდი გამოაცხადებს ბლოგების/ვლოგების კონკურსს\, რომლის გამარჯვებულები 11 ივლისს მედიაწიგნიერების საზაფხულო ბანაკში გაემგზავრებიან. \nბანაკის მონაწილეებს შეარჩევენ დისკუსიაში მონაწილეთა ყველაზე აქტიურ ახალგაზრდებს შორისაც. \n4-დღიანი საზაფხულო ბანაკის მონაწილეები გაივლიან ესპანური და ქართული ფაქტების გადამოწმების ორგანიზაციების – „მალდიტასა” და „მითების დეტექტორის“ – ერთობლივ\, ინტენსიურ მედია და ინფორმაციული წიგნიერების ტრენინგს და გაეცნობიან დეზინფორმაციასთან ბრძოლაში ევროკავშირის აღმოსავლეთ პარტნიორობის ქვეყნების სტრატეგიული კომუნიკაციის სამსახურისა და მათი ფლაგმანური პროექტის EUvsDisinformation-ის გამოცდილებას. \nგანრიგი იხილეთ ბმულზე. \n\nსამუშაო ენა: ქართული \nდრო: 27 მარტი\, 16:00 საათი \nადგილმდებარეობა: ილიას სახელმწიფო უნივერსიტეტის G106 აუდიტორია\, გ. წერეთლის ქ. N1 \nდასწრება თავისუფალია. \n2024
URL:https://events.iliauni.edu.ge/event/me-da-evropa-philmis-chveneba-diskusia/
CATEGORIES:დისკუსიები,მეცნიერებათა და ხელოვნების ფაკულტეტი
ATTACH;FMTTYPE=image/png:https://events.iliauni.edu.ge/wp-content/uploads/2024/03/web-metsn-khel-philmis-chveneba2-1.png
END:VEVENT
BEGIN:VEVENT
DTSTART;TZID=Asia/Dubai:20240329T100000
DTEND;TZID=Asia/Dubai:20240329T120000
DTSTAMP:20260422T031137
CREATED:20240328T083150Z
LAST-MODIFIED:20240328T083237Z
UID:10005405-1711706400-1711713600@events.iliauni.edu.ge
SUMMARY:„ინდური ტაბლა და მისი ენა“ – ანუკა კონტრიძის ვორკშოპი
DESCRIPTION:29 მარტს\, 19:00 საათზე\, ილიაუნის თეატრში ილიაუნის მუსიკის ცენტრის ინიციატივით ანუკა კონტრიძე გამართავს ვორკშოპს/პრეზენტაციას. \nანუკა კონტრიძე 1982 წელს დაიბადა თბილისში. არის აღმოსავლეთმცოდნე\, სინოლოგი. \nინდურ ტაბლას ეუფლება 21 წლიდან. სწავლობდა ინდოეთში\, შრი ლანკაში\, გერმანიასა და შვეიცარიაში ტაბლის ოსტატებთან – ს.ვ. რანდუვასთან\, შანკარ ლალ ჩატერჯსა და სვაპან ჩაუდჰურთან. თანამშრომლობდა და თანამშრომლობს ბენდებთან საქართველოში და მის ფარგლებს გარეთ. ამჟამად ცხოვრობს ქ. მიუნხენში. უკრავს რამდენიმე ბენდთან სხვადასხვა მიმართულებით. წლების განმავლობაში რუმინული ემბიენთ ჯგუფის “Thy Veils” მოწვეული წევრია\, ასევე “Metachronic Rashomon” დისტანციური ტრიოს წევრი რეზო კიკნაძესა და ნიკა დავითაშვილთან ერთად. ბოლო რამდენიმე წელია ესწრება ტაბლის დიდოსტატ პანდიტ სვაპან ჩაუდჰურის ყოველწლიურ სემინარებს ბაზელში. დროდადრო მართავს ვორკშოპებს ტაბლის შესახებ თბილისსა და მიუნხენში. \nსამუშაო ენა: ქართული \nდრო: 29 მარტი\, 19:00 საათი \nადგილმდებარეობა: ილიას სახელმწიფო უნივერსიტეტი\, A კორპუსი (შიდა ეზო)\, ი. ჭავჭავაძის გამზ. N32 \nდასწრება თავისუფალია.
URL:https://events.iliauni.edu.ge/event/induri-tabla-da-misi-ena-anuka-kontridzis-vorkshopi/
CATEGORIES:მეცნიერებათა და ხელოვნების ფაკულტეტი,ღონისძიებები
ATTACH;FMTTYPE=image/png:https://events.iliauni.edu.ge/wp-content/uploads/2024/03/MUS-CENTRE-WEBBB.png
END:VEVENT
END:VCALENDAR