BEGIN:VCALENDAR
VERSION:2.0
PRODID:-//უნივერსიტეტის ღონისძიებების პორტალი - ECPv6.2.8.2//NONSGML v1.0//EN
CALSCALE:GREGORIAN
METHOD:PUBLISH
X-WR-CALNAME:უნივერსიტეტის ღონისძიებების პორტალი
X-ORIGINAL-URL:https://events.iliauni.edu.ge
X-WR-CALDESC:Events for უნივერსიტეტის ღონისძიებების პორტალი
REFRESH-INTERVAL;VALUE=DURATION:PT1H
X-Robots-Tag:noindex
X-PUBLISHED-TTL:PT1H
BEGIN:VTIMEZONE
TZID:Asia/Dubai
BEGIN:STANDARD
TZOFFSETFROM:+0400
TZOFFSETTO:+0400
TZNAME:+04
DTSTART:20100101T000000
END:STANDARD
END:VTIMEZONE
BEGIN:VEVENT
DTSTART;TZID=Asia/Dubai:20100527T114000
DTEND;TZID=Asia/Dubai:20100527T114000
DTSTAMP:20260425T065330
CREATED:20100527T074020Z
LAST-MODIFIED:20240201T113000Z
UID:10000313-1274960400-1274960400@events.iliauni.edu.ge
SUMMARY:საჯარო ლექცია: „კოსმოსი დღეს”
DESCRIPTION:27 მაისს\, 18.00 საათზე ლიგამუსი გიწვევთ გია ჯავახიშვილის საჯარო ლექციაზე „კოსმოსი დღეს” \n\n[wpai_display_imported_files_here]
URL:https://events.iliauni.edu.ge/event/sajaro-leqtsia-kosmosi-dghes/
CATEGORIES:ლიგამუსის კალენდარი
ATTACH;FMTTYPE=image/png:https://events.iliauni.edu.ge/wp-content/uploads/2025/09/cover_default.png
END:VEVENT
BEGIN:VEVENT
DTSTART;TZID=Asia/Dubai:20100525T100800
DTEND;TZID=Asia/Dubai:20100525T100800
DTSTAMP:20260425T065330
CREATED:20100525T060806Z
LAST-MODIFIED:20240201T112854Z
UID:10000295-1274782080-1274782080@events.iliauni.edu.ge
SUMMARY:საჯარო ლექცია: „თანამედროვე ტერორიზმი”
DESCRIPTION:სამშაბათს\, 25 მაისს\, 18.30 საათზე ”ლიგამუსის” კაფეში გაიმართება საჯარო ლექცია თემაზე “La Revanche de Dieu – თანამედროვე ტერორიზმი”. მომხსენებელი: დავით ჭოჭუა. \n\n[wpai_display_imported_files_here]
URL:https://events.iliauni.edu.ge/event/sajaro-leqtsia-thanamedrove-terorizmi/
CATEGORIES:ლიგამუსის კალენდარი
ATTACH;FMTTYPE=image/png:https://events.iliauni.edu.ge/wp-content/uploads/2025/09/cover_default.png
END:VEVENT
BEGIN:VEVENT
DTSTART;TZID=Asia/Dubai:20100513T112300
DTEND;TZID=Asia/Dubai:20100513T112300
DTSTAMP:20260425T065330
CREATED:20100513T072330Z
LAST-MODIFIED:20240201T113125Z
UID:10000358-1273749780-1273749780@events.iliauni.edu.ge
SUMMARY:ჟურნალ ”ლიბერალის” პრეზენტაცია
DESCRIPTION:13 მაისს 17.00 საათზე წიგნის მაღაზია ”ლიგამუსში” გაიმართება ჟურნალ ”ლიბერალის” პრეზენტაცია სტუდენტებისათვის. \n\n[wpai_display_imported_files_here]
URL:https://events.iliauni.edu.ge/event/zhurnal-liberalis-prezentatsia/
CATEGORIES:ლიგამუსის კალენდარი
ATTACH;FMTTYPE=image/png:https://events.iliauni.edu.ge/wp-content/uploads/2025/09/cover_default.png
END:VEVENT
BEGIN:VEVENT
DTSTART;TZID=Asia/Dubai:20100505T000000
DTEND;TZID=Asia/Dubai:20100505T000000
DTSTAMP:20260425T065330
CREATED:20100504T200000Z
LAST-MODIFIED:20240201T113354Z
UID:10000439-1273017600-1273017600@events.iliauni.edu.ge
SUMMARY:სამაგისტრო პროგრამის - ”ინფორმაციის მენეჯმენტი”- პრეზენტაცია
DESCRIPTION:პარასკევს\, 7 მაისს\, 17 საათზე A კორპუსის 101 – ე აუდიტორიაში გაიმართება სამაგისტრო პროგრამის “ინფორმაციის მენეჯმენტი” საკონსულტაციო შეხვედრა. მომხსენებელი ნათია გაბრიჩიძე. \n\n\n[wpai_display_imported_files_here]
URL:https://events.iliauni.edu.ge/event/samagistro-programis-inphormatsiis-menejmenti-prezentatsia/
CATEGORIES:ლიგამუსის კალენდარი
ATTACH;FMTTYPE=image/png:https://events.iliauni.edu.ge/wp-content/uploads/2025/09/cover_default.png
END:VEVENT
BEGIN:VEVENT
DTSTART;TZID=Asia/Dubai:20100503T200000
DTEND;TZID=Asia/Dubai:20100503T200000
DTSTAMP:20260425T065330
CREATED:20100503T160000Z
LAST-MODIFIED:20240201T113409Z
UID:10000462-1272916800-1272916800@events.iliauni.edu.ge
SUMMARY:დავით ჭოჭუას საჯარო ლექცია
DESCRIPTION:4 მაისს\, სამშაბათს\, 6 საათზე ლიგამუსი გიწვევთ საჯარო ლექციაზე. დავით ჭოჭუა ისაუბრებს თემაზე “La Revanche de Dieu – თანამედროვე ტერორიზმი”. \nლიგამუსის შესახებ სრული ინფორმაცია იხილეთ ბმულზე: საუნივერსიტეტო ცხოვრება/ლიგამუსი. \n  \n\n[wpai_display_imported_files_here]
URL:https://events.iliauni.edu.ge/event/davith-tchotchuas-sajaro-leqtsia/
CATEGORIES:ლიგამუსის კალენდარი
ATTACH;FMTTYPE=image/png:https://events.iliauni.edu.ge/wp-content/uploads/2025/09/cover_default.png
END:VEVENT
BEGIN:VEVENT
DTSTART;TZID=Asia/Dubai:20100503T121100
DTEND;TZID=Asia/Dubai:20100503T121100
DTSTAMP:20260425T065330
CREATED:20100503T081129Z
LAST-MODIFIED:20240201T113533Z
UID:10000491-1272888660-1272888660@events.iliauni.edu.ge
SUMMARY:წიგნის კლუბის მორიგი შეხვედრა
DESCRIPTION:ორშაბათს\, 3 მაისს\, 18 საათზე ”ლიგამუსის” კაფეში ”წიგნის კლუბის” მორიგი შეხვედრაა. \nლიგამუსის შესახებ სრული ინფორმაცია იხილეთ ბმულზე: საუნივერსიტეტო ცხოვრება/ლიგამუსი. \n  \n  \n\n[wpai_display_imported_files_here]
URL:https://events.iliauni.edu.ge/event/tsignis-klubis-morigi-shekhvedra/
CATEGORIES:ლიგამუსის კალენდარი
ATTACH;FMTTYPE=image/png:https://events.iliauni.edu.ge/wp-content/uploads/2025/09/cover_default.png
END:VEVENT
BEGIN:VEVENT
DTSTART;TZID=Asia/Dubai:20100428T120900
DTEND;TZID=Asia/Dubai:20100428T120900
DTSTAMP:20260425T065330
CREATED:20100428T080932Z
LAST-MODIFIED:20240201T113546Z
UID:10000494-1272456540-1272456540@events.iliauni.edu.ge
SUMMARY:ლაშა ბუღაძის ახალი რომანის პრეზენტაცია
DESCRIPTION:ხუთშაბათს\, 29 აპრილს\, 6 საათზე ”ლიგამუსში” გაიმართება ლაშა ბუღაძის ახალი რომანის -”ლიტერატურული ექსპრესი” – პრეზენტაცია. ავტორი წაიკითხავს ნაწყვეტებს წიგნიდან და უპასუხებს აუდიტორიის მიერ დასმულ შეკითხვებს. \n“ლიგამუსის” მისამართია: ჭავჭავაძის 32\, ილიას სახელმწიფო უნივერსიტეტის A კორპუსი. \nლიგამუსის შესახებ სრული ინფორმაცია იხილეთ ბმულზე: საუნივერსიტეტო ცხოვრება/ლიგამუსი. \n  \n  \n\n\n[wpai_display_imported_files_here]
URL:https://events.iliauni.edu.ge/event/lasha-bughadzis-akhali-romanis-prezentatsia/
CATEGORIES:ლიგამუსის კალენდარი
ATTACH;FMTTYPE=image/png:https://events.iliauni.edu.ge/wp-content/uploads/2025/09/cover_default.png
END:VEVENT
END:VCALENDAR