BEGIN:VCALENDAR
VERSION:2.0
PRODID:-//უნივერსიტეტის ღონისძიებების პორტალი - ECPv6.2.8.2//NONSGML v1.0//EN
CALSCALE:GREGORIAN
METHOD:PUBLISH
X-WR-CALNAME:უნივერსიტეტის ღონისძიებების პორტალი
X-ORIGINAL-URL:https://events.iliauni.edu.ge
X-WR-CALDESC:Events for უნივერსიტეტის ღონისძიებების პორტალი
REFRESH-INTERVAL;VALUE=DURATION:PT1H
X-Robots-Tag:noindex
X-PUBLISHED-TTL:PT1H
BEGIN:VTIMEZONE
TZID:Asia/Dubai
BEGIN:STANDARD
TZOFFSETFROM:+0400
TZOFFSETTO:+0400
TZNAME:+04
DTSTART:20100101T000000
END:STANDARD
END:VTIMEZONE
BEGIN:VEVENT
DTSTART;TZID=Asia/Dubai:20110309T105000
DTEND;TZID=Asia/Dubai:20110309T105000
DTSTAMP:20260425T020751
CREATED:20110309T065017Z
LAST-MODIFIED:20240202T072205Z
UID:10003191-1299667800-1299667800@events.iliauni.edu.ge
SUMMARY:პროფესორ ნესტან რატიანის მოხსენება
DESCRIPTION:ოთხშაბათს\, 9 მარტს\, 18.00 საათზე\, კაფე LIGAMUS-ში\, (ი. ჭავჭავაძის  გამზ.32)\, პროფესორი ნესტან რატიანი წაიკითხავს მოხსენებას “ერთი უზუსტობის  შედეგი: კირკეს როლის არასწორი გააზრებისათვის ანტიკურ და შემდგომ  ტრადიციებში?”. \n\n[wpai_display_imported_files_here]
URL:https://events.iliauni.edu.ge/event/prophesor-nestan-ratianis-mokhseneba-2/
CATEGORIES:ლიგამუსის კალენდარი
ATTACH;FMTTYPE=image/png:https://events.iliauni.edu.ge/wp-content/uploads/2025/09/cover_default.png
END:VEVENT
BEGIN:VEVENT
DTSTART;TZID=Asia/Dubai:20110307T161300
DTEND;TZID=Asia/Dubai:20110307T161300
DTSTAMP:20260425T020751
CREATED:20110307T121347Z
LAST-MODIFIED:20240202T072004Z
UID:10003174-1299514380-1299514380@events.iliauni.edu.ge
SUMMARY:ილიაუნის პოეზიის კლუბის შეხვედრა
DESCRIPTION:14 მარტს\, ორშაბათს\, 18.00 საათზე\, ილიას სახელმწიფო უნივერსიტეტის წიგნის მაღაზია ”ლიგამუსში” (ჭავჭავაძის #32)\, შედგება ილიაუნის პოეზიის კლუბის შეხვედრა მწერალ ბესიკ ხარანაულთან. \nდასწრება თავისუფალია. \n\n[wpai_display_imported_files_here]
URL:https://events.iliauni.edu.ge/event/iliaunis-poeziis-klubis-shekhvedra/
CATEGORIES:ლიგამუსის კალენდარი
ATTACH;FMTTYPE=image/png:https://events.iliauni.edu.ge/wp-content/uploads/2025/09/cover_default.png
END:VEVENT
BEGIN:VEVENT
DTSTART;TZID=Asia/Dubai:20110131T163900
DTEND;TZID=Asia/Dubai:20110131T163900
DTSTAMP:20260425T020751
CREATED:20110131T123937Z
LAST-MODIFIED:20240202T071707Z
UID:10003128-1296491940-1296491940@events.iliauni.edu.ge
SUMMARY:”ამბერის ცხრა პრინცი” ქართულად
DESCRIPTION:1 თებერვალს\, 18:00 საათზე ილიას სახელმწიფო უნივერსიტეტის წიგნის მაღაზია „ლიგამუსში“ გაიმართება როჯერ ზელაზნის წიგნის „ამბერის ცხრა პრინცი“ პრეზენტაცია. „ამბერის ცხრა პრინცი“ პირველია „ამბერის ქრონიკების“ სერიის ათი რომანიდან.   \nწიგნი ითარგმნა და გამოიცა ილიას სახელმწიფო უნივერსიტეტის გამომცემლობის მიერ. მისი შეძენა შესაძლებელი იქნება მაღაზია „ლიგამუსში“. \nდასწრება თავისუფალია. \n\n[wpai_display_imported_files_here]
URL:https://events.iliauni.edu.ge/event/amberis-tskhra-printsi-qarthulad/
CATEGORIES:ლიგამუსის კალენდარი
ATTACH;FMTTYPE=image/png:https://events.iliauni.edu.ge/wp-content/uploads/2025/09/cover_default.png
END:VEVENT
BEGIN:VEVENT
DTSTART;TZID=Asia/Dubai:20110117T163400
DTEND;TZID=Asia/Dubai:20110117T163400
DTSTAMP:20260425T020751
CREATED:20110117T123447Z
LAST-MODIFIED:20240202T070740Z
UID:10003016-1295282040-1295282040@events.iliauni.edu.ge
SUMMARY:რატი ამაღლობელი სტუმრად პოეზიის კლუბში
DESCRIPTION:18 იანვარს\, 18.00 საათზე\, წიგნის მაღაზია ”ლიგამუსში” ილიაუნის პოეზიის კლუბის სტუმარია პოეტი რატი ამაღლობელი; შეხვედრის თემა: „პოეზიის მუსიკა“. დამსწრე საზოგადოებას ექნება საშუალება\, მოისმინონ რატი ამაღლობელის ახალი ლექსები და მიიღონ პასუხები მათთვის საინტერესო შეკითხვებზე. \n\n[wpai_display_imported_files_here]
URL:https://events.iliauni.edu.ge/event/rati-amaghlobeli-stumrad-poeziis-klubshi/
CATEGORIES:ლიგამუსის კალენდარი
ATTACH;FMTTYPE=image/png:https://events.iliauni.edu.ge/wp-content/uploads/2025/09/cover_default.png
END:VEVENT
BEGIN:VEVENT
DTSTART;TZID=Asia/Dubai:20110114T171300
DTEND;TZID=Asia/Dubai:20110114T171300
DTSTAMP:20260425T020751
CREATED:20110114T131347Z
LAST-MODIFIED:20240202T070751Z
UID:10003021-1295025180-1295025180@events.iliauni.edu.ge
SUMMARY:დისკუსია წიგნის კითხვის კლუბში
DESCRIPTION:17 იანვარს\, 18:00 საათზე ილიას სახელმწიფო უნივერსიტეტის ლიტ. კაფე ლიგამუსში გაიმართება დისკუსია მწერალ მიხეილ ჯავახიშვილის შემოქმედებაზე. შეხვედრის ინიციატორია ”წიგნის კითხვის კლუბი”. დისკუსიის მოდერატორად მოწვეულია ფილოლოგი და ჟურნალისტი ვაჟა დანელია. \n\n[wpai_display_imported_files_here]
URL:https://events.iliauni.edu.ge/event/diskusia-tsignis-kithkhvis-klubshi/
CATEGORIES:ლიგამუსის კალენდარი
ATTACH;FMTTYPE=image/png:https://events.iliauni.edu.ge/wp-content/uploads/2025/09/cover_default.png
END:VEVENT
BEGIN:VEVENT
DTSTART;TZID=Asia/Dubai:20110110T171700
DTEND;TZID=Asia/Dubai:20110110T171700
DTSTAMP:20260425T020751
CREATED:20110110T131759Z
LAST-MODIFIED:20240202T070448Z
UID:10002954-1294679820-1294679820@events.iliauni.edu.ge
SUMMARY:პოეზიის კლუბის სტუმარია გიორგი კეკელიძე
DESCRIPTION:11 იანვარს\, 18.00 საათზე\, წიგნის მაღაზია ”ლიგამუსში” პოეზიის კლუბის სტუმარი იქნება პოეტი გიორგი კეკელიძე. საუბრის თემა: “ფრაზეოლოგიზმები და მათი ახალი სემანტიკა პოეზიაში”. დასასრულს\, გიორგი კეკელიძე წაიკითხავს ახალ ლექსებს. \n\n[wpai_display_imported_files_here]
URL:https://events.iliauni.edu.ge/event/poeziis-klubis-stumaria-giorgi-kekelidze/
CATEGORIES:ლიგამუსის კალენდარი
ATTACH;FMTTYPE=image/png:https://events.iliauni.edu.ge/wp-content/uploads/2025/09/cover_default.png
END:VEVENT
BEGIN:VEVENT
DTSTART;TZID=Asia/Dubai:20101230T131000
DTEND;TZID=Asia/Dubai:20101230T131000
DTSTAMP:20260425T020751
CREATED:20101230T091019Z
LAST-MODIFIED:20240202T070456Z
UID:10002960-1293714600-1293714600@events.iliauni.edu.ge
SUMMARY:ყველაზე დიდი ლიტერატურული პრემია
DESCRIPTION:ილიას სახელმწიფო უნივერსიტეტის პრემიის – ”საუკეთესო ქართული რომანი 2009-2010” – გამარჯვებული 30 დეკემბერს\, 18:00 საათზე\, ილიაუნის წიგნის მაღაზია ”ლიგამუსში” გამოვლინდება. გამარჯვებული საქართველოში ყველაზე დიდ ლიტერატურულ პრემიას – 10 000 ლარს მიიღებს. \n დაჯილდოების საზეიმო ცერემონიალი 18:00 საათზე წიგნის მაღაზია ”ლიგამუსში” გაიმართება (მის.: ი. ჭავჭავაძის გამზ. 32). \nქართული ლიტერატურის განვითარების ხელშეწყობის მიზნით 29 ოქტომბერს ილიას სახელმწიფო უნივერსიტეტმა კონკურსი გამოაცხადა 2009-2010 წლებში ქართულ ენაზე გამოქვეყნებული საუკეთესო რომანის გამოსავლენად. \nკონკურსში მონაწილეობს სულ 20 რომანი\, მათ შორისაა ლაშა ბუღაძის ”ლიტერატურული ექსპრესი” (ბაკურ სულაკაურის გამომცემლობა)\, ბასა ჯანიკაშვილის ”აბსურდისტანი” (ბაკურ სულაკაურის გამომცემლობა)\, დავით დეფი გოგიბედაშვილის ”ბაღები” (გამომცემლობა ”სიესტა”)\, დათო ტურაშვილის ”ამერიკული ზღაპრები” (ბაკურ სულაკაურის გამომცემლობა)\, ზაზა ბურჭულაძის ”ადიბასი” (ბაკურ სულაკაურის გამომცემლობა) და სხვა. \nკონკურსის ჟიურის შემადგენლობა კონფიდენციალურია\, ჟიურის წევრები ინდივიდუალურად აფასებენ ნაწარმოებს საერთო შკალის მიხედვით. კოლეგიალური გადაწყვეტილების მიღება არ არის გათვალისწინებული. გაიმარჯვებს ის რომანი\, რომელიც ყველაზე მეტ ქულას მიიღებს. \n\n[wpai_display_imported_files_here]
URL:https://events.iliauni.edu.ge/event/qhvelaze-didi-literaturuli-premia/
CATEGORIES:ლიგამუსის კალენდარი
ATTACH;FMTTYPE=image/png:https://events.iliauni.edu.ge/wp-content/uploads/2025/09/cover_default.png
END:VEVENT
BEGIN:VEVENT
DTSTART;TZID=Asia/Dubai:20101227T144900
DTEND;TZID=Asia/Dubai:20101227T144900
DTSTAMP:20260425T020751
CREATED:20101227T104930Z
LAST-MODIFIED:20240202T070047Z
UID:10002889-1293461340-1293461340@events.iliauni.edu.ge
SUMMARY:სამი ახალი თარგმანი ილიაუნის გამომცემლობისგან
DESCRIPTION:27 დეკემბერს\, 18:00 საათზე\, წიგნის მაღაზია ”ლიგამუსი” (მის.: ი. ჭავჭავაძის 32) გიწვევთ ქართულ ენაზე თარგმნილი სამი ახალი გამოცემის პრეზენტაციაზე.  \nრეი ბრედბერის ”ბაბუაწვერას ღვინო”\, დიკ ფრენსისის ”სისხლიანი სპორტი” და ტერი პრატჩერის ”მაგიის ფერი” – ილიას სახელმწიფო უნივერსიტეტის გამომცემლობამ 2010 წლის დასასრულს გამოსცა. თარგმანზე მუშაობდნენ თამარ რეკკ-კოტრიკაძე\, ქეთევან ქანთარია და ნინო მეუნარგია\, რედაქტირება ეკუთვნით ნოდარ მანჩხაშვილს\, ლალი ქადაგიძესა და ანდრო ბუაჩიძეს. \n\n[wpai_display_imported_files_here]
URL:https://events.iliauni.edu.ge/event/sami-akhali-thargmani-iliaunis-gamomtsemlobisgan/
CATEGORIES:ლიგამუსის კალენდარი
ATTACH;FMTTYPE=image/png:https://events.iliauni.edu.ge/wp-content/uploads/2025/09/cover_default.png
END:VEVENT
BEGIN:VEVENT
DTSTART;TZID=Asia/Dubai:20101215T000000
DTEND;TZID=Asia/Dubai:20101215T000000
DTSTAMP:20260425T020751
CREATED:20101214T200000Z
LAST-MODIFIED:20240202T070109Z
UID:10002892-1292371200-1292371200@events.iliauni.edu.ge
SUMMARY:შეხვედრა პოეტ პაატა შამუგიასთან
DESCRIPTION:16 დეკემბერს\, 18:00 საათზე\, წიგნის მაღაზია ”ლიგამუსში” გაიმართება   ილიაუნის პოეზიის კლუბის შეხვედრა\, რომლის სტუმარია პოეტი პაატა შამუგია. \n შეხვედრის თემა: თანამედროვე პოეზიის ტენდენციები. დასასრულს\, პაატა შამუგია წაიკითხავს ახალ ლექსებს. \n\n[wpai_display_imported_files_here]
URL:https://events.iliauni.edu.ge/event/shekhvedra-poet-paata-shamugiasthan/
CATEGORIES:ლიგამუსის კალენდარი
ATTACH;FMTTYPE=image/png:https://events.iliauni.edu.ge/wp-content/uploads/2025/09/cover_default.png
END:VEVENT
BEGIN:VEVENT
DTSTART;TZID=Asia/Dubai:20101208T170200
DTEND;TZID=Asia/Dubai:20101208T170200
DTSTAMP:20260425T020751
CREATED:20101208T130204Z
LAST-MODIFIED:20240202T065844Z
UID:10002878-1291827720-1291827720@events.iliauni.edu.ge
SUMMARY:”+5\,0” -ს პრეზენტაცია ”ლიგამუსში”
DESCRIPTION:9 დეკემბერს\, 19:00 საათზე\, ილიაუნის წიგნის მაღაზია ”ლიგამუსში” (მის.: ი. ჭავჭავაძის 32) ნათია მეგრელიშვილის რომანის\, ”+5\,0” პრეზენტაცია გაიმართება. წიგნი წელს გამოიცა და მისი რედაქტორია როსტომ ჩხეიძე. \n\n[wpai_display_imported_files_here]
URL:https://events.iliauni.edu.ge/event/5-0-s-prezentatsia-ligamusshi/
CATEGORIES:ლიგამუსის კალენდარი
ATTACH;FMTTYPE=image/png:https://events.iliauni.edu.ge/wp-content/uploads/2025/09/cover_default.png
END:VEVENT
BEGIN:VEVENT
DTSTART;TZID=Asia/Dubai:20101206T191500
DTEND;TZID=Asia/Dubai:20101206T191500
DTSTAMP:20260425T020751
CREATED:20101206T151538Z
LAST-MODIFIED:20240202T065854Z
UID:10002880-1291662900-1291662900@events.iliauni.edu.ge
SUMMARY:პროფესორ მალხაზ თორიას მოხსენება
DESCRIPTION:ოთხშაბათს\, 8 დეკემბერს\, 18.00 საათზე\, გიწვევთ შედარებითი ლიტერატურის  საღამოზე\, კაფე ”ლიგამუსი”-ში\, (მის.: ი. ჭავჭავაძის გამზ. 32). პროფესორი მალხაზ  თორია წაიკითხავს მოხსენებას: ”წარსულის პრეზენტაცია და მეხსიერების  პოლიტიკა შუა საუკუნეების ქართულ კულტურაში (”ქართლის ცხოვრების”  მიხედვით)”.  \nდასწრება თავისუფალია. \n\n[wpai_display_imported_files_here]
URL:https://events.iliauni.edu.ge/event/prophesor-malkhaz-thorias-mokhseneba-2/
CATEGORIES:ლიგამუსის კალენდარი
ATTACH;FMTTYPE=image/png:https://events.iliauni.edu.ge/wp-content/uploads/2025/09/cover_default.png
END:VEVENT
BEGIN:VEVENT
DTSTART;TZID=Asia/Dubai:20101205T204900
DTEND;TZID=Asia/Dubai:20101205T204900
DTSTAMP:20260425T020751
CREATED:20101205T164904Z
LAST-MODIFIED:20240202T065725Z
UID:10002873-1291582140-1291582140@events.iliauni.edu.ge
SUMMARY:ახალი თარგმანის პრეზენტაცია
DESCRIPTION:6 დეკემბერს\, 18:00 საათზე ილიას სახელმწიფო უნივერსიტეტის წიგნის მაღაზია „ლიგამუსში“ გაიმართება პოლონელი ჟურნალისტის რიშარდ კაპუჩინის წიგნის  „რეპორტაჟის იმპერატორი“ ქართული თარგმანის პრეზენტაცია. \nრიშარდ კაპუჩინიმ საბჭოთა პერიოდში იმოგზაურა პოსტ – საბჭოთა ქვეყნებში\, გაეცნო ამ ქვეყნების პოლიტიკას\, ხალხს\, ისტორიასა და კულტურას. საბჭოთა კავშირის დაშლის შემდეგ რიშარდ კაპუჩინიმ  ხელმეორეთ  იმოგზაურა იმავე ქვეყნებში და სწორედ ამ მეორე მოგზაურობიდან დაბრუნების შემდეგ დაწერა  წიგნი „რეპორტაჟის იმპერატორი“  სადაც ასახულია საბჭოთა კავშირში შემავალი ქვეყნების პოლიტიკა\, კულტურა და ისტორია  საბჭოთა კავშირის დროს და მისი დაშლის შემდეგ. \nპრეზენტაციას დაესწრება წიგნის მთარგმნელი ამბროს გრიზიკაშვილი\, ასევე წარმოდგენილი იქნება სპექტაკლი რიშარდ კაპუჩინის შესახებ ილიას უნივერსტიტეტის სტუდენტების მონაწილეობით\, რომლის ავტორიც გახლავთ დომინიკა მალჩევსკა. \n\n[wpai_display_imported_files_here]
URL:https://events.iliauni.edu.ge/event/akhali-thargmanis-prezentatsia/
CATEGORIES:ლიგამუსის კალენდარი
ATTACH;FMTTYPE=image/png:https://events.iliauni.edu.ge/wp-content/uploads/2025/09/cover_default.png
END:VEVENT
BEGIN:VEVENT
DTSTART;TZID=Asia/Dubai:20101122T161000
DTEND;TZID=Asia/Dubai:20101122T161000
DTSTAMP:20260425T020751
CREATED:20101122T121053Z
LAST-MODIFIED:20240202T065404Z
UID:10002808-1290442200-1290442200@events.iliauni.edu.ge
SUMMARY:პროფესორ მერაბ ღაღანიძის მოხსენება
DESCRIPTION:ოთხშაბათს\, 24 ნოემბერს\, 18:00 საათზე\, წიგნის მაღაზია ”ლიგამუსი”  (მის.: ი. ჭავჭავაძის გამზ. 32) გიწვევთ შედარებითი ლიტერატურის საღამოზე.  პროფესორი მერაბ ღაღანიძე წაიკითხავს მოხსენებას თემაზე: ”ლუიშ დი  კამოინსი: ზღვის უწყების პოეტური ძეგლი”. \nდასწრება თავისუფალია. გთხოვთ\, მობრძანდეთ. \n\n[wpai_display_imported_files_here]
URL:https://events.iliauni.edu.ge/event/prophesor-merab-ghaghanidzis-mokhseneba/
CATEGORIES:ლიგამუსის კალენდარი
ATTACH;FMTTYPE=image/png:https://events.iliauni.edu.ge/wp-content/uploads/2025/09/cover_default.png
END:VEVENT
BEGIN:VEVENT
DTSTART;TZID=Asia/Dubai:20101116T163200
DTEND;TZID=Asia/Dubai:20101116T163200
DTSTAMP:20260425T020751
CREATED:20101116T123208Z
LAST-MODIFIED:20240202T065243Z
UID:10002799-1289925120-1289925120@events.iliauni.edu.ge
SUMMARY:”ლიტერატურული ალმანახის” პრეზენტაცია
DESCRIPTION:18 ნოემბერს\, 17:00 საათზე\, წიგნის მაღაზია ”ლიგამუსში” (მის.: ი. ჭავჭავაძის გამზ. 32) გაიმართება ილიას სახელმწიფო უნივერსიტეტის სტუდენტთა ლიტერატურული ალმანახის\, ”აწყვეტილი ღილების” (#1) პრეზენტაცია. \n\n[wpai_display_imported_files_here]
URL:https://events.iliauni.edu.ge/event/literaturuli-almanakhis-prezentatsia/
CATEGORIES:ლიგამუსის კალენდარი
ATTACH;FMTTYPE=image/png:https://events.iliauni.edu.ge/wp-content/uploads/2025/09/cover_default.png
END:VEVENT
BEGIN:VEVENT
DTSTART;TZID=Asia/Dubai:20101115T164800
DTEND;TZID=Asia/Dubai:20101115T164800
DTSTAMP:20260425T020751
CREATED:20101115T124841Z
LAST-MODIFIED:20240202T065249Z
UID:10002801-1289839680-1289839680@events.iliauni.edu.ge
SUMMARY:”ილიას ბიბლიოთეკა”-ს პრეზენტაცია
DESCRIPTION:”კითხვის გამავრცელებელი საზოგადოება” გეპატიჟებათ 16 ნოემბერს\, 18:00-ზე ილიას სახელმწიფო უნივერსიტეტში (წიგნის მაღაზია ”ლიგამუსი” ი. ჭავჭავაძის 32) წიგნების სერიის ”ილიას ბიბლიოთეკა”-ს პრეზენტაციაზე.  \nწიგნების შესახებ ისაუბრებს ილიას სახელმწიფო უნივერსიტეტის რექტორი\, ბატონი გიგი თევზაძე\, რომელიც ერთ-ერთი წიგნის შესავლის ავტორია. \nდასწრება თავისუფალია. \n\n[wpai_display_imported_files_here]
URL:https://events.iliauni.edu.ge/event/ilias-bibliotheka-s-prezentatsia/
CATEGORIES:ლიგამუსის კალენდარი
ATTACH;FMTTYPE=image/png:https://events.iliauni.edu.ge/wp-content/uploads/2025/09/cover_default.png
END:VEVENT
BEGIN:VEVENT
DTSTART;TZID=Asia/Dubai:20101112T161100
DTEND;TZID=Asia/Dubai:20101112T161100
DTSTAMP:20260425T020751
CREATED:20101112T121146Z
LAST-MODIFIED:20240202T065253Z
UID:10002803-1289578260-1289578260@events.iliauni.edu.ge
SUMMARY:”პოლონურ-ქართული სასაუბროს” პირველი გამოცემა
DESCRIPTION:12 ნოემბერს\, 18:00 საათზე\, წიგნის მაღაზია ”ლიგამუსში” (მის.: ი. ჭავჭავაძის 32) პირველი ”პოლონურ-ქართული სასაუბროს” პრეზენტაცია გაიმართება. \nლექსიკონი\, რომელიც გამოსცა ილიას სახელმწიფო უნივერსიტეტის გამომცემლობამ\, შემუშავებულია სტუდენტების მიერ პოლონური ენის სპეციალისტის – დომინიკა მალჩევსკას ხელმძღვანელობით.   \nპოლონურ-ქართული სასაუბროს მიზანია\, პოლონელ და ქართველ ხალხს შორის ურთიერთობების გამარტივება და გარკვეული წვლილის შეტანა ამ ორი ქვეყნის მეგობრობაში. \nწიგნის პრეზენტაციის შემდეგ სტუდენტები ითამაშებენ პოლონურენოვან სპექტაკლს ”Happy End“. \n\n[wpai_display_imported_files_here]
URL:https://events.iliauni.edu.ge/event/polonur-qarthuli-sasaubros-pirveli-gamotsema/
CATEGORIES:ლიგამუსის კალენდარი
ATTACH;FMTTYPE=image/png:https://events.iliauni.edu.ge/wp-content/uploads/2025/09/cover_default.png
END:VEVENT
BEGIN:VEVENT
DTSTART;TZID=Asia/Dubai:20101108T163900
DTEND;TZID=Asia/Dubai:20101108T163900
DTSTAMP:20260425T020751
CREATED:20101108T123950Z
LAST-MODIFIED:20240202T064947Z
UID:10002734-1289234340-1289234340@events.iliauni.edu.ge
SUMMARY:შედარებითი ლიტერატურის საღამო
DESCRIPTION:ოთხშაბათს\, 10 ნოემბერს\, 18:00 საათზე\, კაფე “ლიგამუსში”\, (მის.: ი.  ჭავჭავაძის გამზ. #32) გიწვევთ შედარებითი ლიტერატურის საღამოზე.  პროფესორი ნინო ფირცხალავა წაიკითხავს მოხსენებას: ”ედვარდ საიდის  ”ორიენტალიზმი” – შედარებითი ლიტერატურათმცოდნეობის საეტაპო წიგნი”. \n\n[wpai_display_imported_files_here]
URL:https://events.iliauni.edu.ge/event/shedarebithi-literaturis-saghamo-3/
CATEGORIES:ლიგამუსის კალენდარი
ATTACH;FMTTYPE=image/png:https://events.iliauni.edu.ge/wp-content/uploads/2025/09/cover_default.png
END:VEVENT
BEGIN:VEVENT
DTSTART;TZID=Asia/Dubai:20101105T130800
DTEND;TZID=Asia/Dubai:20101105T130800
DTSTAMP:20260425T020751
CREATED:20101105T090801Z
LAST-MODIFIED:20240202T065007Z
UID:10002741-1288962480-1288962480@events.iliauni.edu.ge
SUMMARY:ემერიტუსის წოდების მინიჭების საზეიმო ცერემონიალი
DESCRIPTION:5 ნოემბერს\, 18:00 საათზე\, ილიას სახელმწიფო უნივერსიტეტი ემერიტუსის საპატიო წოდებას სამ პროფესორს მიანიჭებს. \nსაზეიმო დაჯილდოების ცერემონიალი გაიმართება კაფე ”ლიგამუსში” (მის.: ი. ჭავჭავაძის გამზ. #32). \nილიას სახელმწიფო უნივერსიტეტის პროფესორებს\, ლია ლორიას\, მანანა ნემსაძესა და გია მაჩაბელს ემერიტუსის წოდება\, საქართველოს კანონმდებლობით დადგენილი წესით\, განსაკუთრებული დამსახურების გამო ენიჭებათ. \nუმაღლესი განათლების შესახებ საქართველოს კანონის მიხედვით (თავი 5\, მუხლი 39) უმაღლესი საგანმანათლებლო დაწესებულება 65 წლის ასაკს მიღწეულ ყველა სრულ პროფესორს ანიჭებს ემერიტუსის წოდებას. ამავე კანონის საფუძველზე\, ემერიტუსის წოდების მქონე პირს ამ წოდების მინიჭებამდე არსებული ხელფასისა და სახელმწიფო პენსიის ოდენობებს შორის განსხვავებას დაფარავს უმაღლესი საგანმანათლებლო დაწესებულება. განსხვავებით სხვა წოდებებისგან\, ემერიტუსის წოდების მქონე პირი ისარგებლებს დამატებითი სოციალური გარანტიებით ამავე დაწესებულების ბიუჯეტიდან. \n\n[wpai_display_imported_files_here]
URL:https://events.iliauni.edu.ge/event/emeritusis-tsodebis-minitchebis-sazeimo-tseremoniali/
CATEGORIES:ლიგამუსის კალენდარი
ATTACH;FMTTYPE=image/png:https://events.iliauni.edu.ge/wp-content/uploads/2025/09/cover_default.png
END:VEVENT
BEGIN:VEVENT
DTSTART;TZID=Asia/Dubai:20101103T174700
DTEND;TZID=Asia/Dubai:20101103T174700
DTSTAMP:20260425T020751
CREATED:20101103T134704Z
LAST-MODIFIED:20240202T065015Z
UID:10002745-1288806420-1288806420@events.iliauni.edu.ge
SUMMARY:ჟან რაულის ნამუშევრების გამოფენა
DESCRIPTION:4 ნოემბერს\, 18:00 საათზე\, ილიაუნის წიგნის მაღაზია ”ლიგამუსში” (მის.: ი. ჭავჭავაძის გამზ. #32) გაიხსნება მე-19 საუკუნის ერთ-ერთი ყველაზე ცნობილი ფრანგი ფოტოხელოვანის\, ჟან რაულის ნამუშევრების გამოფენა; წარმოდგენილი იქნება 28 სურათი. ჟან რაულის მიერ საქართველოში გადაღებულ ამ ფოტოებს არაერთი საერთაშორისო პრიზი აქვს მიღებული. \nფოტოები\, რომლებიც ”ლიგამუსში” გამოიფინება\, წარმოადგენს ირანში\, ”გოლესთანის” სამეფო სასახლის მუზეუმში დაცული ნამუშევრების ასლებს. ალბომს  მიაკვლია ირანის ისლამურ რესპუბლიკაში საქართველოს საელჩოს მრჩეველმა ნიკოლოზ ნახუცრიშვილმა\, რომელიც შემდგომ დაუკავშირდა ილიას სახელმწიფო უნივერსიტეტის აღმოსავლეთმცოდნეობის ინსტიტუტს. ირანულ მხარესთან მოლაპარაკების შემდეგ ფონდ ”ღია საზოგადოება-საქართველოს” მხარდაჭერით მოხერხდა აღნიშნული ფოტოების უმაღლესი ხარისხით დამზადებული ასლების მოპოვება. გამოფენა ერთ თვეს გასტანს. \n\n[wpai_display_imported_files_here]
URL:https://events.iliauni.edu.ge/event/zhan-raulis-namushevrebis-gamophena/
CATEGORIES:ლიგამუსის კალენდარი
ATTACH;FMTTYPE=image/png:https://events.iliauni.edu.ge/wp-content/uploads/2025/09/cover_default.png
END:VEVENT
BEGIN:VEVENT
DTSTART;TZID=Asia/Dubai:20101025T165000
DTEND;TZID=Asia/Dubai:20101025T165000
DTSTAMP:20260425T020751
CREATED:20101025T125000Z
LAST-MODIFIED:20240202T064355Z
UID:10002677-1288025400-1288025400@events.iliauni.edu.ge
SUMMARY:შედარებითი ლიტერატურის საღამო 27 ოქტომბერს
DESCRIPTION:ოთხშაბათს\, 27 ოქტომბერს\, 18:00 საათზე\, კაფე “ლიგამუსში”\, (მის.: ი.  ჭავჭავაძის გამზ. #32) გიორგი ლეონიძის ქართული ლიტერატურის სახელმწიფო  მუზეუმის დირექტორი\, დოქტორი ლაშა ბაქრაძე წაიკითხავს მოხსენებას:  ”ტოტალიტარული ხელოვნება (საბჭოთა და გერმანული ხელოვნების შედარების  მცდელობა და პარალელები იტალიურ და ამერიკულ ხელოვნებაში)”. \n\n[wpai_display_imported_files_here]
URL:https://events.iliauni.edu.ge/event/shedarebithi-literaturis-saghamo-27-oqtombers-2/
CATEGORIES:ლიგამუსის კალენდარი
ATTACH;FMTTYPE=image/png:https://events.iliauni.edu.ge/wp-content/uploads/2025/09/cover_default.png
END:VEVENT
BEGIN:VEVENT
DTSTART;TZID=Asia/Dubai:20101012T182000
DTEND;TZID=Asia/Dubai:20101012T182000
DTSTAMP:20260425T020751
CREATED:20101012T142031Z
LAST-MODIFIED:20240202T063843Z
UID:10002588-1286907600-1286907600@events.iliauni.edu.ge
SUMMARY:ბიძინა ჩოლოყაშვილის მოხსენება
DESCRIPTION:13 ოქტომბერს\, 18:00 საათზე კაფე ”ლიგამუსში”\, (მის.: ი. ჭავჭავაძის გამზ.  #32) საფრანგეთში მოღვაწე ქართველი ისტორიკოსი\, ბიძინა ჩოლოყაშვილი  წაიკითხავს მოხსენებას თემაზე ”ქართული ანბანური დამწერლობის შემოღების  თარიღისათვის”. \nამიერიდან\, შედარებითი ლიტერატურის საღამოები ყოველი  თვის მეორე და მეოთხე ოთხშაბათს\, 18:00 საათზე\, კაფე ”ლიგამუსში” (მის.:  ი. ჭავჭავაძის გამზ. #32) გაიმართება. \n\n[wpai_display_imported_files_here]
URL:https://events.iliauni.edu.ge/event/bidzina-choloqhashvilis-mokhseneba-2/
CATEGORIES:ლიგამუსის კალენდარი
ATTACH;FMTTYPE=image/png:https://events.iliauni.edu.ge/wp-content/uploads/2025/09/cover_default.png
END:VEVENT
BEGIN:VEVENT
DTSTART;TZID=Asia/Dubai:20100922T121500
DTEND;TZID=Asia/Dubai:20100922T121500
DTSTAMP:20260425T020751
CREATED:20100922T081507Z
LAST-MODIFIED:20240202T062638Z
UID:10002421-1285157700-1285157700@events.iliauni.edu.ge
SUMMARY:ანასტასია ინასარიძის წიგნის პრეზენტაცია
DESCRIPTION:ხუთშაბათს\, 23 სექტემბერს\, 18:00 საათზე ”ლიგამუსში” გაიმართება ანასტასია ინასარიძის წიგნის – ”ლიტერატურული სამართლის” პრეზენტაცია. \n\n[wpai_display_imported_files_here]
URL:https://events.iliauni.edu.ge/event/anastasia-inasaridzis-tsignis-prezentatsia/
CATEGORIES:ლიგამუსის კალენდარი
ATTACH;FMTTYPE=image/png:https://events.iliauni.edu.ge/wp-content/uploads/2025/09/cover_default.png
END:VEVENT
BEGIN:VEVENT
DTSTART;TZID=Asia/Dubai:20100908T124400
DTEND;TZID=Asia/Dubai:20100908T124400
DTSTAMP:20260425T020751
CREATED:20100908T084426Z
LAST-MODIFIED:20240202T062343Z
UID:10002367-1283949840-1283949840@events.iliauni.edu.ge
SUMMARY:ახალი წიგნის - ”წმინდა წყვდიადის” პრეზენტაცია
DESCRIPTION:9 სექტემბერს\, 18:00 საათზე ”ლიგამუსი” (მის.: ი. ჭავჭავაძის 32) გიწვევთ ლევან ბერძენიშვილის ახალი წიგნის – ”წმინდა წყვდიადის” პრეზენტაციაზე (ბაკურ სულაკაურის გამომცემლობა). ავტორი წაიკითხავს ნაწყვეტებს წიგნიდან და უპასუხებს აუდიტორიის შეკითხვებს. \n\n[wpai_display_imported_files_here]
URL:https://events.iliauni.edu.ge/event/akhali-tsignis-tsminda-tsqhvdiadis-prezentatsia/
CATEGORIES:ლიგამუსის კალენდარი
ATTACH;FMTTYPE=image/png:https://events.iliauni.edu.ge/wp-content/uploads/2025/09/cover_default.png
END:VEVENT
BEGIN:VEVENT
DTSTART;TZID=Asia/Dubai:20100802T224400
DTEND;TZID=Asia/Dubai:20100802T224400
DTSTAMP:20260425T020751
CREATED:20100802T184440Z
LAST-MODIFIED:20240202T062134Z
UID:10002344-1280789040-1280789040@events.iliauni.edu.ge
SUMMARY:ახალი თარგმანი: ”მცირე ომი\, რომელმაც მსოფლიო შეძრა”
DESCRIPTION:7 აგვისტოს\, 15:00 საათზე ილიას სახელმწიფო უნივერსიტეტის წიგნის მაღაზია „ლიგამუსში“ გაიმართება რონალდ ასმუსის გახმაურებული წიგნის „მცირე ომი\, რომელმაც მსოფლიო შეძრა“ ქართული თარგმანის პრეზენტაცია. წიგნი ეხება 2008 წლის რუსეთ-საქართველოს ომს. \nაშშ-ის სენატორის მაკ კეინის განცხადებით: წიგნის წაკითხვა სავალდებულოა მათთვის\, ვისაც სურს გაიგოს რა მოხდა რუსეთ-საქართველოს ომის კულისებს მიღმა და როგორ დატოვა დასავლეთმა თბილისი რუსეთის აგრესიის პირისპირ. \nჩეხეთის რესპუბლიკის ყოფილი პრეზიდენტი\, ვაცლავ ჰაველი აცხადებს – „ წიგნი გვახსენებს არა მხოლოდ სტრატეგიულ შეცდომებს\, არამედ იმ ბრძოლებს\, რომელიც ახლდა საქართველოს სურვილს გამხდარიყო დასავლური\, დემოკრატიული საზოგადოების ნაწილი. ეს არის საფუძვლიანი განაცხადი იმაზე\, თუ როგორ ვერ შეძლო ევროპის უსაფრთხოების სისტემამ ომის პრევენცია\, ომისა\, რომელიც შეიძლებოდა და უნდა შეჩერებულიყო“. \n\n[wpai_display_imported_files_here]
URL:https://events.iliauni.edu.ge/event/akhali-thargmani-mtsire-omi-romelmats-msophlio-shedzra/
CATEGORIES:ლიგამუსის კალენდარი
ATTACH;FMTTYPE=image/png:https://events.iliauni.edu.ge/wp-content/uploads/2025/09/cover_default.png
END:VEVENT
BEGIN:VEVENT
DTSTART;TZID=Asia/Dubai:20100622T092200
DTEND;TZID=Asia/Dubai:20100622T092200
DTSTAMP:20260425T020751
CREATED:20100622T052255Z
LAST-MODIFIED:20240202T061633Z
UID:10002295-1277198520-1277198520@events.iliauni.edu.ge
SUMMARY:შედარებითი ლიტერატურის საღამო
DESCRIPTION:ოთხშაბათს\, 23 ივნისს\, 18:00 საათზე\, ილიას სახელმწიფო უნივერსიტეტის წიგნის კაფე ”ლიგამუსში” (მის.: ი. ჭავჭავაძის 32) პროფესორი კონსტანტინე ბრეგაძე წაიკითხავს მოხსენებას “ნოვალისი და სოფია – სიყვარული\, როგორც ცხოვრების ხელოვნების უმაღლესი განსწავლის წლები”. \n\n[wpai_display_imported_files_here]
URL:https://events.iliauni.edu.ge/event/shedarebithi-literaturis-saghamo/
CATEGORIES:ლიგამუსის კალენდარი
ATTACH;FMTTYPE=image/png:https://events.iliauni.edu.ge/wp-content/uploads/2025/09/cover_default.png
END:VEVENT
BEGIN:VEVENT
DTSTART;TZID=Asia/Dubai:20100616T153400
DTEND;TZID=Asia/Dubai:20100616T153400
DTSTAMP:20260425T020751
CREATED:20100616T113443Z
LAST-MODIFIED:20240202T061253Z
UID:10002228-1276702440-1276702440@events.iliauni.edu.ge
SUMMARY:ქეთევან კინწურაშვილის სემინარი
DESCRIPTION:დღეს\, 18.00 საათზე ”ლიგამუსში” გაიმართება სემინარი თემაზე ”დავით კაკაბაძე – დიდი ქართველი მოდერნისტი”. მომხსენებელი – ქეთევან კინწურაშვილი. \n\n[wpai_display_imported_files_here]
URL:https://events.iliauni.edu.ge/event/qethevan-kintsurashvilis-seminari/
CATEGORIES:ლიგამუსის კალენდარი
ATTACH;FMTTYPE=image/png:https://events.iliauni.edu.ge/wp-content/uploads/2025/09/cover_default.png
END:VEVENT
BEGIN:VEVENT
DTSTART;TZID=Asia/Dubai:20100616T124200
DTEND;TZID=Asia/Dubai:20100616T124200
DTSTAMP:20260425T020752
CREATED:20100616T084226Z
LAST-MODIFIED:20240202T061300Z
UID:10002229-1276692120-1276692120@events.iliauni.edu.ge
SUMMARY:”მასშტაბები და მანძილები ასტრონომიაში"
DESCRIPTION:”ლიგამუსი” ხუთშაბათს\, 17 ივნისს\, 17.00 საათზე გიწვევთ საჯარო ლექციაზე ”მასშტაბები და მანძილები ასტრონომიაში.” მომხსენებელი პროფესორი – გია ჯავახიშვილი. \n\n[wpai_display_imported_files_here]
URL:https://events.iliauni.edu.ge/event/masshtabebi-da-mandzilebi-astronomiashi/
CATEGORIES:ლიგამუსის კალენდარი
ATTACH;FMTTYPE=image/png:https://events.iliauni.edu.ge/wp-content/uploads/2025/09/cover_default.png
END:VEVENT
BEGIN:VEVENT
DTSTART;TZID=Asia/Dubai:20100607T163200
DTEND;TZID=Asia/Dubai:20100607T163200
DTSTAMP:20260425T020752
CREATED:20100607T123249Z
LAST-MODIFIED:20240202T061118Z
UID:10002212-1275928320-1275928320@events.iliauni.edu.ge
SUMMARY:9 ივნისს\, შედარებითი ლიტერატურის საღამო
DESCRIPTION:ოთხშაბათს\, 9 ივნისს\, 6 საათზე\, გიწვევთ კაფე ლიგამუსში\, შედარებითი ლიტერატურის მორიგ საღამოზე. პროფესორი ეკა ჭყოიძე წაიკითხავს მოხსენებას ”ჰაგიოგრაფია\, როგორც შუა საუკუნეების ბიოგრაფიული პროზა (ქართული და ბიზანტიური ტექსტების მაგალითზე)”. \n\n[wpai_display_imported_files_here]
URL:https://events.iliauni.edu.ge/event/9-ivniss-shedarebithi-literaturis-saghamo-2/
CATEGORIES:ლიგამუსის კალენდარი
ATTACH;FMTTYPE=image/png:https://events.iliauni.edu.ge/wp-content/uploads/2025/09/cover_default.png
END:VEVENT
BEGIN:VEVENT
DTSTART;TZID=Asia/Dubai:20100603T110900
DTEND;TZID=Asia/Dubai:20100603T110900
DTSTAMP:20260425T020752
CREATED:20100603T070940Z
LAST-MODIFIED:20240202T060920Z
UID:10002181-1275563340-1275563340@events.iliauni.edu.ge
SUMMARY:ლიგამუსის ზღაპრის დღე
DESCRIPTION:ლიგამუსის ზღაპრის დღე 5 და 12 ივნისს არ ჩატარდება იმ საპატიო მიზეზის გამო\, რომ ჩვენი მეზღაპრე 2 კვირით სხვა საინტერესო ქვეყნებშია გაფრენილი\, ორი კვირის შემდეგ კი დაბრუნდება ძალიან ბევრი ახალი იდეით და ზღაპრით! \n\n[wpai_display_imported_files_here]
URL:https://events.iliauni.edu.ge/event/ligamusis-zghapris-dghe/
CATEGORIES:ლიგამუსის კალენდარი
ATTACH;FMTTYPE=image/png:https://events.iliauni.edu.ge/wp-content/uploads/2025/09/cover_default.png
END:VEVENT
BEGIN:VEVENT
DTSTART;TZID=Asia/Dubai:20100528T131300
DTEND;TZID=Asia/Dubai:20100528T131300
DTSTAMP:20260425T020752
CREATED:20100528T091319Z
LAST-MODIFIED:20240201T113005Z
UID:10000318-1275052380-1275052380@events.iliauni.edu.ge
SUMMARY:"ლიგამუსში" ბავშვები ჯადოსნურ სამყაროში იმოგზაურებენ
DESCRIPTION:29 მაისს\, 14.00 დან 16.00 საათამდე  “ლიგამუსის” ბავშვების ოთახში პატარები მეზღაპრესთან ერთად ილუზიების და ფოკუსების ჯადოსნურ სამყაროში იმოგზაურებენ! \n\n[wpai_display_imported_files_here]
URL:https://events.iliauni.edu.ge/event/ligamusshi-bavshvebi-jadosnur-samqharoshi-imogzaureben/
CATEGORIES:ლიგამუსის კალენდარი
ATTACH;FMTTYPE=image/png:https://events.iliauni.edu.ge/wp-content/uploads/2025/09/cover_default.png
END:VEVENT
END:VCALENDAR