BEGIN:VCALENDAR
VERSION:2.0
PRODID:-//უნივერსიტეტის ღონისძიებების პორტალი - ECPv6.2.8.2//NONSGML v1.0//EN
CALSCALE:GREGORIAN
METHOD:PUBLISH
X-WR-CALNAME:უნივერსიტეტის ღონისძიებების პორტალი
X-ORIGINAL-URL:https://events.iliauni.edu.ge
X-WR-CALDESC:Events for უნივერსიტეტის ღონისძიებების პორტალი
REFRESH-INTERVAL;VALUE=DURATION:PT1H
X-Robots-Tag:noindex
X-PUBLISHED-TTL:PT1H
BEGIN:VTIMEZONE
TZID:Asia/Dubai
BEGIN:STANDARD
TZOFFSETFROM:+0400
TZOFFSETTO:+0400
TZNAME:+04
DTSTART:20240101T000000
END:STANDARD
END:VTIMEZONE
BEGIN:VEVENT
DTSTART;TZID=Asia/Dubai:20240404T150000
DTEND;TZID=Asia/Dubai:20240404T150000
DTSTAMP:20260424T011652
CREATED:20240325T101227Z
LAST-MODIFIED:20240325T111822Z
UID:10005393-1712242800-1712242800@events.iliauni.edu.ge
SUMMARY:„იაპონური და ქართული კულტურის შედარებითი კვლევა“ - იაპონიის ელჩის\, იშიძუკა ჰიდეკის საჯარო ლექცია
DESCRIPTION:4 აპრილს\, 15:00 საათზე\, ილიას სახელმწიფო უნივერსიტეტის G106 აუდიტორიაში იაპონიის ელჩი საქართველოში იშიძუკა ჰიდეკი წაიკითხავს საჯარო ლექციას „იაპონური და ქართული კულტურის შედარებითი კვლევა“. \nლექცია მიეძღვნება იაპონიასა და საქართველოს შორის არსებულ კულტურულ პარალელებს\, ახსნის როგორც იაპონიის უნიკალურ თავისებურებეს\, ისე საერთო ღირებულებებს. შოთა რუსთაველის „ვეფხისტყაოსნის“ კვლევაზე დაყრდმობით დამსწრე საზოგადოება უფრო ღრმად შეიცნობს იმ კომპლექსურობისა და ნიუანსების შესახებ\, რომლებიც ახასიათებს როგორც იაპონურ\, ისევე ქართულ კულტურას. \nმომხსენებელიდეტალურად ისაუბრებს შოთა რუსთაველის ეპოსის მსგავსებაზე იაპონურ კლასიკურ ლექსებთან და შეადარებს იაპონელ ისტორიულ მოღვაწეებს „ვეფხისტყაოსნის“ გმირებს. \nსამუშაო ენა: ინგლისური \nდრო: 4 აპრილი\, 15:00 – 16:00 საათი \nადგილმდებარეობა: ილიას სახელმწიფო უნივერსიტეტის G106 აუდიტორია\, გ. წერეთლის ქ. N1 \nდასწრება თავისუფალია
URL:https://events.iliauni.edu.ge/event/iaponuri-da-qarthuli-kulturis-shedarebithi-kvleva-iaponiis-elchis-ishidzuka-hidekis-sajaro-leqtsia/
CATEGORIES:კონფერენციები,ღონისძიებები
ATTACH;FMTTYPE=image/png:https://events.iliauni.edu.ge/wp-content/uploads/2024/03/web-iaponiis-elchis-leqtsia-.png
END:VEVENT
BEGIN:VEVENT
DTSTART;TZID=Asia/Dubai:20240411T100000
DTEND;TZID=Asia/Dubai:20240412T180000
DTSTAMP:20260424T011652
CREATED:20240329T102005Z
LAST-MODIFIED:20240329T102005Z
UID:10005410-1712829600-1712944800@events.iliauni.edu.ge
SUMMARY:„ენის სენსორული და კულტურასთან შერწყმული სწავლება კონცეფციის მიხედვით –„დაუვიწყარი ადგილები“ გერმანულის ენის გაკვეთილზე საქართველოში“ – დარგობრივი სემინარი გერმანისტებისთვის
DESCRIPTION:11 აპრილს\, 10:00 საათზე\, ილიას სახელმწიფო უნივერსიტეტის G106 აუდიტორიაში DAAD: გერმანიის აკადემიური გაცვლითი სამსახურის (DAAD: German Academic Exchange Service) პარტნიორობით გერმანისტებისა და გერმანული ენის პედაგოგებისათვის გაიმართება ალუმნი სემინარი “Kulturbezogenes und sprachsensibles Lernen im DaF – Unterricht in Georgien nach dem Konzept “Erinnerungsorte” („ენის სენსორული და კულტურასთან შერწყმული სწავლება კონცეფციის მიხედვით – „დაუვიწყარი ადგილები“ გერმანულის ენის გაკვეთილზე საქართველოში“). \nსემინარს გაუძღვებიან ილიას სახელმწიფო უნივერსიტეტის გერმანისტი/ლექტორი\, გერმანული ენის მასწავლებელთა საერთაშორისო ასოციაციის თავმჯდომარეობის წევრი\, გერმანული ენის ცენტრის ხელმძღვანელი ბელა შალამბერიძე და კასელის უნივერსიტეტის სასწავლო საბჭოს ხელმძღვანელი\, გერმანისტი\, დოქტორი ტანია ფორი. \nსემინარი მოიცავს თეორიული საფუძვლებით გადამზადებას გერმანულის როგორც უცხო ენის თანამედროვე სწავლებაში. სემინარზე გადაამზადებენ უმაღლესი სასწავლებლების გერმანული ენის პროფესორ-მასწავლებლებს თბილისიდან და რეგიონებიდან\, ასევე DAAD-ის მოწვეულ ლექტორებს საქართველოში. \nთეორიულ ნაწილზე მოწვეული რეფერენტი\, ილიას სახელმწიფო უნივერსიტეტის პროფესორი კავკასიის კვლევების და ევროპისმცოდნეობის მიმართულებით\, დოქტორი ოლივერ რაისნერი თავის დოქტორანტთან ერთად გამართავს პრეზენტაციას კავკასიელი გერმანელების ისტორიისა და კულტურის შესახებ და დამსწრეთ გააცნობს ამ თემაზე დღევანდელ მონაცემთა ბაზას. \n12 აპრილს სემინარი გაგრძელდება ქალაქ ბოლნისსა (კატარინენფელდი) და ასურეთის რეგიონში (ელიზაბეტთალი) ჯგუფური პრაქტიკული ღონისძიებებით იმ ადგილებში\, საიდანაც იღებს სათავეს კავკასიელ გერმანელთა ისტორია\, კონკრეტულ სამახსოვრო ადგილებში საგაკვეთილო ჩართულობითა და სემინარის ხელმძღვანელთა მიერ შემუშავებული დიდაქტიზებული მასალით შეძლებენ ავთენტურ გარემოში მუშაობას. სემინარის მთავარი პრაქტიკული დიდაქტიზებული მასალა ეყრდნობა გერმანელი ხალხის ცხოვრების ეტაპებს\, მათ მიერ დანერგილ კულტურასა და ენობრივ გავლენას საქართველოში ქ. ბოლნისისა და სოფ. ასურეთის მაგალითებზე დაყრდნობით\, რის კვლევასაც გერმანულის როგორც მეორე ენის დარგში ახორციელებენ გერმანისტი ბელა შალამბერიძე და მისი გერმანელი კოლეგა ტანია ფორი მეცნიერული კუთხით წარმოსაჩენად საერთაშორისო მასშტაბით. სემინარზე შესწავლილი მასალებით კი მისი მონაწილე მოქმედი გერმანისტები შეძლებენ თანამედროვე სასწავლო სტრატეგიებით გაჯერებული მასალა გერმანული ენის გაკვეთილზე გამოიყენონ\, ენა არასასწავლო სივრცეში „დაუვიწყარი ადგილების” მეშვეობით ასწავლონ. \nსამუშაო ენა: გერმანული \nდრო: 11 აპრილი\, 10:00 -18:00 საათი\, 12 აპრილი \nადგილმდებარეობა: ილიას სახელმწიფო უნივერსიტეტის G106 აუდიტორია\, გ. წერეთლის ქ. N1 \nდასწრება თავისუფალია.
URL:https://events.iliauni.edu.ge/event/enis-sensoruli-da-kulturasthan-shertsqhmuli-stsavleba-kontsephtsiis-mikhedvith-dauvitsqhari-adgilebi-germanulis-enis-gakvethilze-saqarthveloshi-dargobrivi-seminari-germanistebisthvis/
CATEGORIES:კონფერენციები
ATTACH;FMTTYPE=image/png:https://events.iliauni.edu.ge/wp-content/uploads/2024/03/4e19ca3235750d8d5335cd1949863309_83035.png
END:VEVENT
END:VCALENDAR