BEGIN:VCALENDAR
VERSION:2.0
PRODID:-//უნივერსიტეტის ღონისძიებების პორტალი - ECPv6.2.8.2//NONSGML v1.0//EN
CALSCALE:GREGORIAN
METHOD:PUBLISH
X-ORIGINAL-URL:https://events.iliauni.edu.ge
X-WR-CALDESC:Events for უნივერსიტეტის ღონისძიებების პორტალი
REFRESH-INTERVAL;VALUE=DURATION:PT1H
X-Robots-Tag:noindex
X-PUBLISHED-TTL:PT1H
BEGIN:VTIMEZONE
TZID:Asia/Dubai
BEGIN:STANDARD
TZOFFSETFROM:+0400
TZOFFSETTO:+0400
TZNAME:+04
DTSTART:20240101T000000
END:STANDARD
END:VTIMEZONE
BEGIN:VEVENT
DTSTART;TZID=Asia/Dubai:20240306T133000
DTEND;TZID=Asia/Dubai:20240306T150000
DTSTAMP:20260424T054525
CREATED:20240227T124652Z
LAST-MODIFIED:20240228T073609Z
UID:10005372-1709731800-1709737200@events.iliauni.edu.ge
SUMMARY:კონფერენცია „ენისა და მეტყველების თერაპევტების თანამშრომლობა მომიჯნავე დარგების სპეციალისტებთან“
DESCRIPTION:6 მარტს\, 13:30 საათზე\, ილიას სახელმწიფო უნივერსიტეტის G106 აუდიტორიაში ილიას სახელმწიფო უნივერსიტეტისა და საქართველოს ენისა და მეტყველების თერაპევტთა ასოციაციის ორგანიზებით გაიმართება ენისა და მეტყველების საერთაშორისო დღისადმი მიძღვნილი კონფერენცია „ენისა და მეტყველების თერაპევტების თანამშრომლობა მომიჯნავე დარგების სპეციალისტებთან“. \nმოხსენებებს წაიკითხავენ ენისა და მეტყველების თერაპევტები\, ფსიქოლოგები\, ადრეული განვითარების სპეციალისტი\, ოკუპაციური\, სენსორული\, ქცევითი თერაპევტები\, დამსწრეთ გააცნობენ სხვადასხვა დარგის სპეციალისტებთან თანამშრომლობისა და ერთობლივად მუშაობის შედეგებს კომუნიკაციის\, ენისა და მეტყველების სხვადასხვა დარღვევის დროს. \n6 მარტს\, ენისა და მეტყველების თერაპიის დღეს\, ყოველწლიურად აღნიშნავს ენისა და მეტყველების თერაპიის ევროპის ასოციაცია EUROPEAN SPEECH AND LANGUAGE THERAPY ASSOCIATION (ESLA). \nამ დღის მიზანია კომუნიკაციის\, ენისა და მეტყველების თერაპევტის როლის შესახებ საზოგადოებისა და მომიჯნავე სპეციალისტების ცნობიერების ამაღლება. \n2024 წლის თემაა მომიჯნავე სპეციალისტებსა და მშობლებთან თანამშრომლობა. \nდამატებითი ინფორმაციისთვის დარეკეთ ნომერზე: 595 69 99 91 \nსამუშაო ენა: ქართული \nდრო: 6 მარტი\, 13:30 სთ. \nადგილმდებარეობა: ილიას სახელმწიფო უნივერსიტეტის G106 აუდიტორია\, გ. წერეთლის ქ.N1 \nდასწრება თავისუფალია.
URL:https://events.iliauni.edu.ge/event/konpherentsia-enisa-da-metqhvelebis-therapevtebis-thanamshromloba-momijnave-dargebis-spetsialistebthan/
CATEGORIES:კონფერენციები
ATTACH;FMTTYPE=image/png:https://events.iliauni.edu.ge/wp-content/uploads/2024/02/Web-bavshvtha-ganvitharebis-inst.-1-3.png
END:VEVENT
BEGIN:VEVENT
DTSTART;TZID=Asia/Dubai:20240319T093000
DTEND;TZID=Asia/Dubai:20240319T103000
DTSTAMP:20260424T054525
CREATED:20240318T101208Z
LAST-MODIFIED:20240318T101208Z
UID:10005389-1710840600-1710844200@events.iliauni.edu.ge
SUMMARY:საერთაშორისო სამეცნიერო-პრაქტიკული კონფერენცია „ცვლილებები ბავშვთა და ოჯახთა საკეთილდღეოდ“
DESCRIPTION:19 მარტს\, 09:30 საათზე\, სოციალურ მუშაკთა მსოფლიო დღესთან დაკავშირებით\, გაიმართება მაია მგელიაშვილის სახელობის  სოციალური მუშაობის საერთაშორისო სამეცნიერო-პრაქტიკული კონფერენცია „ცვლილებები ბავშვთა და ოჯახთა საკეთილდღეოდ“. \nკონფერენცია ეძღვნება მაია მგელიაშვილის\, ილიას სახელმწიფო უნივერსიტეტის სოციალური მუშაობის სამაგისტრო პროგრამის მოწვეული ლექტორის ხსოვნას\,  რომლის ღვაწლი სოციალური მუშაობის განვითარებასა და ბავშვთა კეთილდღეობის უზრუნველყოფაში განსაკუთრებით აღსანიშნავია. \nკონფერენციის თემაა სოციალური მუშაობის პრაქტიკა და განათლება ბავშვთა და ოჯახთა საკეთილდღეოდ. \nსოციალურ მუშაკთა მსოფლიო დღე წელს 19 მარტს აღინიშნება. ამ დღის მიზანია სოციალური მუშაკებისა და მათი წვლილის შესახებ საზოგადოების ცნობიერების გაზრდა. \nკონფერენციაში მონაწილეობას მიიღებენ ქართველი და უცხოელი  პრაქტიკოსი სოციალური მუშაკები\, ასევე პროფესორები და სტუდენები. \nკონფერენციის ერთ-ერთი ინიციატორია ილიას სახელმწიფო უნივერსიტეტი\, სოციალური მუშაობის სამაგისტრო და სადოქტორო პროგრამა\, სოციალური მომსახურებებისა და ინტერვენციების მეცნიერული განვითარების კვლევითი ცენტრი. \nკონფერენცია ტარდება საქართველოს სოციალურ მუშაკთა ასოციაციის ინიციატივით World Vision საქართველოსთან\, საქართველოს საზოგადოებრივი ჯანდაცვის ფონდთან\, ივანე ჯავახიშვილის სახელობის თბილისის სახელმწიფო უნივერსიტეტსა და ილიას სახელმწიფო უნივერსიტეტთან თანამშრომლობით. \nსამუშაო ენები: ქართული\,ინგლისური \nდრო: 19 მარტი\, 09:30 საათი \nადგილმდებარეობა: ივანე ჯავახიშვილის სახელობის თბილისის სახელმწიფო უნივერსიტეტი\, ი. ჭავჭავაძის გამზ. N1\, I კორპუსი\, სააქტო დარბაზის ფოიე \nდასწრება თავისუფალია.
URL:https://events.iliauni.edu.ge/event/saerthashoriso-sametsniero-praqtikuli-konpherentsia-tsvlilebebi-bavshvtha-da-ojakhtha-sakethildgheod/
CATEGORIES:კონფერენციები,მეცნიერებათა და ხელოვნების ფაკულტეტი
ATTACH;FMTTYPE=image/png:https://events.iliauni.edu.ge/wp-content/uploads/2024/03/New-New-web-web-2.png
END:VEVENT
BEGIN:VEVENT
DTSTART;TZID=Asia/Dubai:20240331T090000
DTEND;TZID=Asia/Dubai:20240331T110000
DTSTAMP:20260424T054526
CREATED:20240329T101801Z
LAST-MODIFIED:20240329T101801Z
UID:10005409-1711875600-1711882800@events.iliauni.edu.ge
SUMMARY:ქცევის ანალიზის პირველი კონფერენცია საქართველოში
DESCRIPTION:31 მარტს\, 09:00 საათზე\, ილიას სახელმწიფო უნივერსიტეტის G106 აუდიტორიაში გაიმართება  ილიას სახელმწიფო უნივერსიტეტის ბავშვის განვითარების ინსტიტუტისა და საქართველოს ქცევის ანალიტიკოსთა ასოციაციის ერთობლივი კონფერენცია. ეს არის პირველი კონფერენცია საქართველოში\, რომელიც ქცევის ანალიზის სფეროში ტარდება. \nკონფერენციის მიზანია\, ქცევის გამოყენებითი ანალიზის სფეროში არსებული მიღწევების\, გამოცდილებებისა და გამოწვევების  გაზიარება და ცნობადობის გაზრდა. \nკონფერენციაზე დასწრება შეუძლიათ როგორც ქცევის გამოყენებით ანალიზის სფეროში მომუშავე\, ასევე სფეროთი დაინტერესებულ ნებისმიერ პირს. \nკონფერენციის ძირითადი თემებია: \n\nსაქართველოში ქცევის ანალიზის გავრცელების ისტორია და ამჟამინდელი მდგომარეობის მიმოხილვა;\nფართო საზოგადოებისათვის საქართველოს ქცევის ანალიტიკოსთა ასოციაციის გაცნობა;\nქცევის გამოყენებითი ანალიზის სფეროში მოღვაწე სპეციალისტებისაგან მოხსენებები სფეროში არსებულ აქტუალურ საკითხებთან დაკავშირებით;\nპანელური დისკუსია.\n\nდღის წესრიგი იხილეთ ბმულზე: https://shorturl.at/lIPR8 \nფორმატი: კონფერენცია ჩატარდება ჰიბრიდული ფორმატით: \nპირისპირ ფორმატში დამსწრეთა რაოდენობა შეზღუდულია და წინასწარ რეგისტრაციის საშუალებითაა შესაძლებელი. \nკონფერენციაზე ონლაინ დასწრება შესაძლებელი იქნება ბავშვის განვითარების ინსტიტუტის ფეისბუქ გვერდის გვერდის საშუალებით. \nსამუშაო ენა: ინგლისური \nდრო: 31 მარტი\, 09:00 საათი \nადგილმდებარეობა: ილიას სახელმწიფო უნივერსიტეტის G106 აუდიტორია\, გ. წერეთლის ქ.N1
URL:https://events.iliauni.edu.ge/event/qtsevis-analizis-pirveli-konpherentsia-saqarthveloshi/
CATEGORIES:კონფერენციები
ATTACH;FMTTYPE=image/png:https://events.iliauni.edu.ge/wp-content/uploads/2024/03/c54254c85f7c4606a033cb003aa8655e_83044.png
END:VEVENT
END:VCALENDAR