BEGIN:VCALENDAR
VERSION:2.0
PRODID:-//უნივერსიტეტის ღონისძიებების პორტალი - ECPv6.2.8.2//NONSGML v1.0//EN
CALSCALE:GREGORIAN
METHOD:PUBLISH
X-WR-CALNAME:უნივერსიტეტის ღონისძიებების პორტალი
X-ORIGINAL-URL:https://events.iliauni.edu.ge
X-WR-CALDESC:Events for უნივერსიტეტის ღონისძიებების პორტალი
REFRESH-INTERVAL;VALUE=DURATION:PT1H
X-Robots-Tag:noindex
X-PUBLISHED-TTL:PT1H
BEGIN:VTIMEZONE
TZID:Asia/Dubai
BEGIN:STANDARD
TZOFFSETFROM:+0400
TZOFFSETTO:+0400
TZNAME:+04
DTSTART:20230101T000000
END:STANDARD
END:VTIMEZONE
BEGIN:VEVENT
DTSTART;TZID=Asia/Dubai:20230616T100000
DTEND;TZID=Asia/Dubai:20230616T100000
DTSTAMP:20260425T220147
CREATED:20230209T080019Z
LAST-MODIFIED:20240201T111506Z
UID:10000020-1686909600-1686909600@events.iliauni.edu.ge
SUMMARY:პირველი კავკასიური სიმპოზიუმი მღვიმეების ბიოლოგიის შესახებ
DESCRIPTION:16-17 ივნისს ილიას სახელმწიფო უნივერსიტეტის T102 აუდიტორიაში გაიმართება პირველი კავკასიური სიმპოზიუმი მღვიმეების ბიოლოგიის შესახებ. \nორგანიზატორები \nილიას სახელმწიფო უნივერსიტეტის უნივერსიტეტის ასოცირებული პროფესორები: \nშალვა ბარჯაძე\, ლევან მუმლაძე\, ასისტენტ-მკვლევარი ეთერ მაღრაძე\, ასისტენტ-ლაბორანტი ლადო შავაძე \nსიმპოზიუმის შესახებ \nმღვიმეების ბიოლოგების შეხვედრა იქნება პირველი მცდელობა კავკასიის ბიოლოგიის შესახებ სიმპოზიუმების სერიიის დაწყებისა მღვიმეების ბიოლოგიით დაინტერესებული მეცნიერების ქსელის შესაქმნელად. \nპრეზენტაციები შეეხება შემდეგ თემებს: ტაქსონომია\, სისტემატიკა\, ბიომრავალფეროვნება\, ეკოლოგია\, კონსერვაცია\, ბიოგეოგრაფია\, ევოლუცია და ა.შ. \nმონაწილეობა \nმონაწილეებს შეუძლიათ მოამზადონ ზეპირი პრეზენტაციები როგორც ადგილზე\, ასევე ონლაინ – Zoom-ის გამოყენებით. \nრეგისტრაციისა და აბსტრაქტის წარდგენის ბოლო ვადაა 2023 წლის 30 აპრილი. \nსიმპოზიუმის შესახებ დეტალური ინფორმაცია იხილეთ ბმულზე: https://cssb.iliauni.edu.ge/ \nზუმის ბმული : \n\n\nდღე 1\n\nhttps://iliauni-edu-ge.zoom.us/j/88969001913\nMeeting ID: 889 6900 1913 \n\nდღე 2\n\nhttps://iliauni-edu-ge.zoom.us/j/86491576406\nMeeting ID: 864 9157 6406 \n\nფორმატი: ჰიბრიდული \nსამუშაო ენა: ინგლისური \nადგილმდებარეობა: ილიას სახელმწიფო უნივერსიტეტი\, აუდიტორია T102\, ქაქუცა ჩოლოყაშვილის გამზირი 3/5 \nდასწრება თავისუფალია. \n2023 წელი \n\n			\n				\n			\n			\n				\n			\n		\n\n[wpai_display_imported_files_here]
URL:https://events.iliauni.edu.ge/event/pirveli-kavkasiuri-simpoziumi-mghvimeebis-biologiis-shesakheb/
CATEGORIES:კონფერენციები
ATTACH;FMTTYPE=image/png:https://events.iliauni.edu.ge/wp-content/uploads/2023/02/74456.png
END:VEVENT
BEGIN:VEVENT
DTSTART;TZID=Asia/Dubai:20230628T093000
DTEND;TZID=Asia/Dubai:20230628T093000
DTSTAMP:20260425T220147
CREATED:20230626T120222Z
LAST-MODIFIED:20241122T110930Z
UID:10000031-1687944600-1687944600@events.iliauni.edu.ge
SUMMARY:კონფერენცია „ცვლილებები შავი ზღვის რეგიონში: უსაფრთხოების\, სტრატეგიული კავშირისა და მდგრადობის გაძლიერება“
DESCRIPTION:28-29 ივნისს ილიას სახელმწიფო უნივერსიტეტის G 106 აუდიტორიაში გაიმართება ილიას სახელმწიფო უნივერსიტეტისა და საგარეო პოლიტიკის კვლევის ინსტიტუტის (Foreign Policy Research Institute\, USA) მიერ ორგანიზებული კონფერენცია: \nცვლილებები შავი ზღვის რეგიონში: უსაფრთხოების\, სტრატეგიული კავშირისა და მდგრადობის გაძლიერება \nკონფერენცია მიზნად ისახავს\, ხელი შეუწყოს შავი ზღვის რეგიონის წინაშე არსებული გამოწვევების და შესაძლებლობების შესახებ საექსპერტო და სამეცნიერო დიკუსიას და ცნობიერების ამაღლებას. ამავდროულად\, კონფერენცია მნიშნელოვნად იქნება ფოკუსირებული შავი ზღვის ქვეყნების პოლიტიკური\, ეკონომიკური და სოციალური გამოწვევების ანალიზზე მიმდინარე რუსეთ-უკრაინის ომის ფონზე. კონფერენცია თავს მოუყრის ექსპერტებს და აკადემიური სივრცის წარმომადგენლებს მსოფლიოს რამდენიმე ქვეყნიდან. \nკონფერენციის შესახებ დეტალური ინფორმაციისთვის იხ. ფაილი. \nადგილმდებარეობა: ილიას სახელმწიფო უნივერსიტეტი\, G106 აუდიტორია\, გ. წერეთლის ქუჩა N1\, G კორპუსი \nრეგისტრაცია: დასწრება თავისუფალია. რეგისტრაცია სავალდებულოა. \nსარეგისტრაციო ფორმა: https://shorturl.at/zBIW5  \nკონფერენციის თარიღი: 28-29 ივნისი\, 2023 წელი \n2023 წელი \n\n			\n				\n			\n			\n				\n			\n		\n\n[wpai_display_imported_files_here]
URL:https://events.iliauni.edu.ge/event/konpherentsia-tsvlilebebi-shavi-zghvis-regionshi-usaphrthkhoebis-strategiuli-kavshirisa-da-mdgradobis-gadzliereba/
CATEGORIES:კონფერენციები
ATTACH;FMTTYPE=image/png:https://events.iliauni.edu.ge/wp-content/uploads/2025/09/cover_default.png
END:VEVENT
END:VCALENDAR