BEGIN:VCALENDAR
VERSION:2.0
PRODID:-//უნივერსიტეტის ღონისძიებების პორტალი - ECPv6.2.8.2//NONSGML v1.0//EN
CALSCALE:GREGORIAN
METHOD:PUBLISH
X-ORIGINAL-URL:https://events.iliauni.edu.ge
X-WR-CALDESC:Events for უნივერსიტეტის ღონისძიებების პორტალი
REFRESH-INTERVAL;VALUE=DURATION:PT1H
X-Robots-Tag:noindex
X-PUBLISHED-TTL:PT1H
BEGIN:VTIMEZONE
TZID:Asia/Dubai
BEGIN:STANDARD
TZOFFSETFROM:+0400
TZOFFSETTO:+0400
TZNAME:+04
DTSTART:20240101T000000
END:STANDARD
END:VTIMEZONE
BEGIN:VEVENT
DTSTART;TZID=Asia/Dubai:20241007T190000
DTEND;TZID=Asia/Dubai:20241007T200000
DTSTAMP:20260423T024015
CREATED:20240930T071904Z
LAST-MODIFIED:20240930T071904Z
UID:10005542-1728327600-1728331200@events.iliauni.edu.ge
SUMMARY:„ლიტერატურა და კოლექტიური მეხსიერება“ – წიგნის პრეზენტაცია
DESCRIPTION:7 ოქტომბერს\, 19:00 საათზე\, წიგნის სახლში „ლიგამუსი“ გაიმართება წიგნის „ლიტერატურა და კოლექტიური მეხსიერება“ პრეზენტაცია. \nსახელმძღვანელოს ძირითადი ამოცანაა\, ბიძგი მისცეს ქართული ლიტერატურის\, როგორც კოლექტიური მეხსიერების ერთ-ერთი მნიშვნელოვანი მედიის\, შესწავლას მეხსიერების კვლევების უახლეს მიდგომათა გამოყენებით.  კრებულზე დაყრდნობით ქართულენოვანი სტუდენტები და ახალგაზრდა მკვლევრები შეძლებენ კოლექტიური მეხსიერების სხვადასხვა მედიაზე დაკვირვებას დასავლურ სამეცნიერო სივრცეში დამკვიდრებული თეორიულ-მეთოდოლოგიური ინსტრუმენტების გამოყენებით\,  ქართული იდენტობისა და მეხსიერების ურთიერთკავშირის შესახებ კვლევების განხორციელებას და ტრავმის რეპრეზენტაციის თავისებურებათა შესწავლას კულტურული მეხსიერების არტეფაქტებში. \nსახელმძღვანელო შეიქმნა შოთა რუსთაველის საქართველოს ეროვნული სამეცნიერო ფონდის მხარდაჭერით განხორციელებული პროექტის „საბჭოთა წარსულის რეპრეზენტაცია პოსტსაბჭოთა ქართულ მწერლობაში“ ფარგლებში. \nპრეზენტაციას გაუძღვებიან წიგნის შემდგენლები: ილიას სახელმწიფო უნივერსიტეტის მეცნიერებათა და ხელოვნების ფაკულტეტის პროფესორი ლევან ცაგარელი\, ასისტენტ-პროფესორი სალომე პატარიძე და დოქტორანტი ნინო ბოკუჩავა. \nსამუშაო ენა: ქართული \nდრო: 7 ოქტომბერი\, 19:00 საათი \nადგილმდებარეობა: წიგნის სახლი „ლიგამუსი“\, ი. ჭავჭავაძის გამზ. N32 \nდასწრება თავისუფალია.
URL:https://events.iliauni.edu.ge/event/literatura-da-koleqtiuri-mekhsiereba-tsignis-prezentatsia/
CATEGORIES:მეცნიერებათა და ხელოვნების ფაკულტეტი,ღონისძიებები
ATTACH;FMTTYPE=image/jpeg:https://events.iliauni.edu.ge/wp-content/uploads/2024/09/web-metsn-khel-tsignis-prezentatsia.jpg
END:VEVENT
BEGIN:VEVENT
DTSTART;TZID=Asia/Dubai:20241007T190000
DTEND;TZID=Asia/Dubai:20241007T200000
DTSTAMP:20260423T024015
CREATED:20241004T130053Z
LAST-MODIFIED:20241004T130812Z
UID:10005547-1728327600-1728331200@events.iliauni.edu.ge
SUMMARY:„დაბოლება“ – ნიკ შეფის წიგნის პრეზენტაცია
DESCRIPTION:7 ოქტომბერს\, 19:00 საათზე\, ილიას სახელმწიფო უნივერსიტეტის T102 აუდიტორიაში გამომცემლობა „სიესტა“ გიწვევთ ამერიკელი ავტორის\, ნიკ შეფის წიგნის – „დაბოლება“ – ქართული თარგმანის პრეზენტაციაზე. \nპრეზენტაციას უმასპინძლებს ილიას სახელმწიფო უნივერსიტეტის ადიქციის კვლევების ინსტიტუტი. \nწიგნი ავტობიოგრაფიულია. ავტორი 11 წლის იყო\, როცა პირველად დათვრა\, შემდგომ წლებში ამას მოჰყვა არალეგალური ნარკოტიკების მოხმარება\, რის გამოც ახალგაზრდას ნარკოტიკების მოხმარებასთან დაკავშირებული მძიმე პრობლემები შეექმნა და დაავადება − წამალდამოკიდებულება ჩამოუყალიბდა. \nნიკ შეფი მოგონებებში შეულამაზებლად\, ზოგჯერ თავზარდამცემად გულახდილად\, გვიამბობს  წამალდამოკიდებულებაზე და მასთან ბრძოლაზე\, გამოფხიზლებასა და რეციდივებზე\, საკუთარ თავთან უმძიმეს ჭიდილსა და იმ ხალხზე\, ვინც გაჯანსაღების გზაზე ეხმარებოდა. \nწიგნი ქართულად თარგმნა ლელა კოდალაშვილმა. \nსამუშაო ენა: ქართული \nდრო: 7 ოქტომბერი\, 19:00 საათი \nადგილმდებარეობა: ილიას სახელმწიფო უნივერსიტეტის T102 აუდიტორია\, ქ. ჩოლოყაშვილის გამზ. N3/5 \nდასწრება თავისუფალია.
URL:https://events.iliauni.edu.ge/event/daboleba-nik-shephis-tsignis-prezentatsia/
CATEGORIES:ღონისძიებები
ATTACH;FMTTYPE=image/png:https://events.iliauni.edu.ge/wp-content/uploads/2024/10/daboleba_web_new-1.png
END:VEVENT
BEGIN:VEVENT
DTSTART;TZID=Asia/Dubai:20241008T160000
DTEND;TZID=Asia/Dubai:20241008T170000
DTSTAMP:20260423T024015
CREATED:20241003T135039Z
LAST-MODIFIED:20241003T135140Z
UID:10005546-1728403200-1728406800@events.iliauni.edu.ge
SUMMARY:დოქტორანტ ლიანა კუპრეიშვილის სადისერტაციო ნაშრომის დაცვა
DESCRIPTION:8 ოქტომბერს\, 16:00 საათზე\, ილიას სახელმწიფო უნივერსიტეტის წიგნის სახლში „ლიგამუსი“ მეცნიერებათა და ხელოვნების ფაკულტეტის სადოქტორო პროგრამის „კულტურის კვლევები“ დოქტორანტი ლიანა კუპრეიშვილი დაიცავს სადისერტაციო ნაშრომს „ძველი თბილისის დარაბებს მიღმა (პროსტიტუციის ისტორია წინარევოლუციურ თბილისში 1876-1917წწ.)“ \nსამეცნიერო ხელმძღვანელი: ოლივერ რაისნერი\, ილიას სახელმწიფო უნივერსიტეტის  პროფესორი \nთანახელმძღვანელი: ქეთევან გურჩიანი\, ილიას სახელმწიფო უნივერსიტეტის პროფესორი \nდრო: 8 ოქტომბერი\, 16:00 საათი \nადგილმდებარეობა: წიგნის სახლი „ლიგამუსი“\, ი. ჭავჭავაძის გამზ. N32 \nდასწრება თავისუფალია. \n 
URL:https://events.iliauni.edu.ge/event/doqtorant-liana-kupreishvilis-sadisertatsio-nashromis-datsva/
CATEGORIES:მეცნიერებათა და ხელოვნების ფაკულტეტი,ღონისძიებები
ATTACH;FMTTYPE=image/png:https://events.iliauni.edu.ge/wp-content/uploads/2024/10/datsva_web_new.png
END:VEVENT
BEGIN:VEVENT
DTSTART;TZID=Asia/Dubai:20241010T140000
DTEND;TZID=Asia/Dubai:20241010T150000
DTSTAMP:20260423T024015
CREATED:20241008T085357Z
LAST-MODIFIED:20241008T085357Z
UID:10005553-1728568800-1728572400@events.iliauni.edu.ge
SUMMARY:შეხვედრა დიდიე ტღებიუკთან\, გაეროს მუდმივ კოორდინატორთან საქართველოში
DESCRIPTION:10 ოქტომბერს\, 14:00 საათზე\, ილიას სახელმწიფო უნივერსიტეტის G106 საკონფერენციო დარბაზში გაიმართება შეხვედრა გაეროს მუდმივ კოორდინატორთან საქართველოში დიდიე ტღებიუკთან. შეხვედრაზე დიდიე ტღებიუკი ისაუბრებს  საქართველოში გაეროს საქმიანობის\, გაეროს მდგრადი განვითარების მიზნებისა (SDGs) და მათ მიღწევასთან დაკავშირებული გამოწვევების\, ასევე მიმდინარე წლის სექტემბერში გამართული მომავლის სამიტის შესახებ. \nმომხსენებელი მიმოიხილავს გაერთიანებული ერების ორგანიზაციის მიერ 2015 წელს ჩამოყალიბებულ მდგრადი განვითარების 17 მიზანს\, როგორც მდგრადი განვითარების 2030 წლის დღის წესრიგის ნაწილს. \nეს მიზნები – სიღარიბის აღმოფხვრა\, განათლებაზე ხელმისაწვდომობის უზრუნველყოფა და მდგრადი ეკონომიკური ზრდის ხელშეწყობა – გადამწყვეტი ნაბიჯი იქნება გლობალური მშვიდობისა და კეთილდღეობის უზრუნველსაყოფად; მომხსენებელი ასევე შეეხება გლობალურ და ლოკალურ პერსპექტივებს. \nდასასრულს სტუდენტებს\, პროფესორ-მასწავლებლებსა და სტუმრებს საშუალება მიეცემათ\, დასვან კითხვები\, გაუზიარონ მოსაზრებები მომხსენებელს და განიხილონ გაეროსა და მდგრად განვითარებასთან დაკავშირებული საკითხები საქართველოში. \nსამუშაო ენა: ინგლისური \nდრო: 10 ოქტომბერი\, 14:00 საათი \nადგილმდებარეობა: ილიას სახელმწიფო უნივერსიტეტის G106 საკონფერენციო დარბაზი\, გ. წერეთლის ქ. N1 \nდასწრება თავისუფალია.
URL:https://events.iliauni.edu.ge/event/shekhvedra-didie-tghebiukthan-gaeros-mudmiv-koordinatorthan-saqarthveloshi/
CATEGORIES:მეცნიერებათა და ხელოვნების ფაკულტეტი,ღონისძიებები
ATTACH;FMTTYPE=image/png:https://events.iliauni.edu.ge/wp-content/uploads/2024/10/web-metsn-khel-shekhvedra-didie-tghebiukthan.png
END:VEVENT
BEGIN:VEVENT
DTSTART;TZID=Asia/Dubai:20241010T190000
DTEND;TZID=Asia/Dubai:20241010T200000
DTSTAMP:20260423T024015
CREATED:20241001T082426Z
LAST-MODIFIED:20241001T082426Z
UID:10005543-1728586800-1728590400@events.iliauni.edu.ge
SUMMARY:პოლიტიკის მეცნიერებისა და საერთაშორისო ურთიერთობების სერიის ახალი თარგმანების პრეზენტაცია ილიაუნიში
DESCRIPTION:10 ოქტომბერს\, 19:00 საათზე\, წიგნის სახლში „ლიგამუსი“ გაიმართება პოლიტიკის მეცნიერებისა და საერთაშორისო ურთიერთობების სერიის მორიგი თარგმანების პრეზენტაცია. \nჯონ პივიჰაუსისა და ჯოშუა გოლდსტაინის წიგნი „საერთაშორისო ურთიერთობები“ გამოსცა ილიას სახელმწიფო უნივერსიტეტმა ევროკავშირის პროექტის PESTUGE მხარდაჭერით. წიგნის სამეცნიერო რედაქტორები არიან  ილიას სახელმწიფო უნივერსიტეტის პოლიტიკის მეცნიერების მიმართულების პროფესორები – დავით აფრასიძე და გიორგი გვალია\, მთარგმნელები – ანა მიქაუტაძე\, ნინო ტიკარაძე და ლევან წკრიალაშვილი. \nფრენსის ფუკუიამას „პოლიტიკური წესრიგი და პოლიტიკური დაკნინება“ გამოსცა ილიას სახელმწიფო უნივერსიტეტმა საქართველოში აშშ-ის საელჩოს წიგნის თარგმნის პროგრამის მხარდაჭერით. წიგნის სამეცნიერო რედაქტორია ილიას სახელმწიფო უნივერსიტეტის პოლიტიკის მეცნიერების მიმართულების პროფესორი დავით აფრასიძე\, მთარგმნელები – დავით აფრასიძე\, ანა მიქაუტაძე\, ნინო ტიკარაძე და თამარ ქუმსიაშვილი. \nსამუშაო ენა: ქართული \nდრო: 10 ოქტომბერი\, 19:00 საათი \nადგილმდებარეობა: წიგნის სახლი „ლიგამუსი“\, ი. ჭავჭავაძის გამზირი N32 \nდასწრება თავისუფალია.
URL:https://events.iliauni.edu.ge/event/politikis-metsnierebisa-da-saerthashoriso-urthierthobebis-seriis-akhali-thargmanebis-prezentatsia-iliaunishi/
CATEGORIES:მეცნიერებათა და ხელოვნების ფაკულტეტი,ღონისძიებები
ATTACH;FMTTYPE=image/png:https://events.iliauni.edu.ge/wp-content/uploads/2024/10/thargmanebi_web.png
END:VEVENT
BEGIN:VEVENT
DTSTART;TZID=Asia/Dubai:20241011T140000
DTEND;TZID=Asia/Dubai:20241011T160000
DTSTAMP:20260423T024015
CREATED:20241007T080054Z
LAST-MODIFIED:20241007T080054Z
UID:10005549-1728655200-1728662400@events.iliauni.edu.ge
SUMMARY:შეხვედრა კიბერუსაფრთხოების ცნობიერების ასამაღლებლად
DESCRIPTION:11 ოქტომბერს\, 14:00 საათზე\, ილიას სახელმწიფო უნივერსიტეტის G106 საკონფერენციო დარბაზში სსიპ „ციფრული მმართველობის სააგენტოსა“ და ილიას სახელმწიფო უნივერსიტეტის ორგანიზებით კიბერუსაფრთხოების ცნობიერების ამაღლების თვის ფარგლებში გაიმართება შეხვედრა ილიაუნის სტუდენტებსა და თანამშრომლებთან. \nსსიპ „ციფრული მმართველობის სააგენტო“ კიბერსაფრთხეებისა და მათგან დაცვის მეთოდებზე ინფორმაციის გასაცნობად და კიბერუსაფრთხოების ცნობიერების ასამაღლებლად  საქართველოს კიბერუსაფრთხოების სტრატეგიისა და სამოქმედო გეგმის საფუძველზე  მართავს ინტერაქტიულ ღონისძიებებს. \nშეხვედრა მიზნად ისახავს ინფორმაციის კონფიდენციალურობის\, მთლიანობისა და ხელმისაწვდომობის პრინციპების დაცვის მექანიზმების სწავლებას\, კიბერუსაფრთხოების შესახებ ცოდნის ამაღლებას\, რისკების შემცირებასა და კიბერჰიგიენის მინიმალური წესების ათვისებას. \nშეხვედრის დასრულებისას ჩატარდება მხიარული ინტერაქტიული ქვიზი. გამარჯვებულებს სიმბოლური პრიზები გადაეცემათ. \nვის შეუძლია დასწრება: ილიას სახელმწიფო უნივერსიტეტის სტუდენტებს\, აკადემიურ და ადმინისტრაციულ პერსონალს. \nდრო: 11 ოქტომბერი\, 14:00 საათი \nსამუშაო ენა: ქართული \nადგილმდებარეობა:  ილიას სახელმწიფო უნივერსიტეტი\, G106 აუდიტორია\, გ. წერეთლის ქ. №1
URL:https://events.iliauni.edu.ge/event/shekhvedra-kiberusaphrthkhoebis-tsnobierebis-asamaghleblad/
CATEGORIES:ღონისძიებები
ATTACH;FMTTYPE=image/png:https://events.iliauni.edu.ge/wp-content/uploads/2024/10/kiber_web_new.png
END:VEVENT
END:VCALENDAR