BEGIN:VCALENDAR
VERSION:2.0
PRODID:-//უნივერსიტეტის ღონისძიებების პორტალი - ECPv6.2.8.2//NONSGML v1.0//EN
CALSCALE:GREGORIAN
METHOD:PUBLISH
X-WR-CALNAME:უნივერსიტეტის ღონისძიებების პორტალი
X-ORIGINAL-URL:https://events.iliauni.edu.ge
X-WR-CALDESC:Events for უნივერსიტეტის ღონისძიებების პორტალი
REFRESH-INTERVAL;VALUE=DURATION:PT1H
X-Robots-Tag:noindex
X-PUBLISHED-TTL:PT1H
BEGIN:VTIMEZONE
TZID:Asia/Dubai
BEGIN:STANDARD
TZOFFSETFROM:+0400
TZOFFSETTO:+0400
TZNAME:+04
DTSTART:20230101T000000
END:STANDARD
END:VTIMEZONE
BEGIN:VEVENT
DTSTART;TZID=Asia/Dubai:20230626T140100
DTEND;TZID=Asia/Dubai:20230626T140100
DTSTAMP:20260425T195706
CREATED:20230626T100053Z
LAST-MODIFIED:20240201T111050Z
UID:10000007-1687788060-1687788060@events.iliauni.edu.ge
SUMMARY:აშშ-ის საელჩოს ატაშეს\, მარიო მონტოიას\, ფოტოგამოფენა „არნახული ამერიკა“
DESCRIPTION:23 ივნისს ილიას სახელმწიფო უნივერსიტეტმა უმასპინძლა ამერიკის შეერთებული შტატების საელჩოს ატაშეს\, მარიო მონტოიას ფოტოგამოფენას „არნახული ამერიკა / Unseen America“. \nგამოფენის ფარგლებში სტუდენტებს შეხვდა ამერიკის შეერთებული შტატების საგანგებო და სრულუფლებიანი ელჩი საქართველოში კელი დეგნანი; შეხვედრა კითხვა-პასუხის ფორმატში წარიმართა. \nპროექტის შესახებ \n„არნახული ამერიკა/Unseen America” დოკუმენტური ფოტოგრაფიის ინსტალაციაა და დამთვალიერებლებს აჩვენებს შეერთებული შტატების საზოგადოებისთვის ნაკლებად ცნობილ მხარეებს. \nპროექტი Unseen America 2019 წლის მარტში გაიხსნა კიევში (უკრაინა)\, ამერიკის სახლის კულტურულ სივრცეში და დაფინანსებული იყო უკრაინაში აშშ-ის საელჩოს მიერ. ამასთან პროექტი განიხილებოდა ესპანური მემკვიდრეობის თვის ფარგლებში ვირტუალურ საგანმანათლებლო სერიაში “Siesta Americana” 2020 წელს კიევში. \nგამოფენა ასევე დააფინანსა საქართველოში აშშ-ის საელჩომ და წარმოდგენილი იყო ყვარლის ამერიკულ სივრცეში. \nმარიო მონტოიას შესახებ \nმარიო მონტოია დაიბადა ალბურკში\, ნიუ-მექსიკოში. ცხოვრობდა შვიდ სხვადასხვა ქვეყანაში. საქართველოში ახლახან კიევიდან დაბრუნდა. 10 წელია\, რაც დოკუმენტურმა ფოტოგრაფიამ გაიტაცა. მარიოს ფოტოგრაფია წარმოდგენილია ვაშინგტონის სამხატვრო გალერეებში\, კიევის გამოფენებსა და საერთაშორისო ჟურნალებში. \n2023 \n  \n\n			\n				\n			\n		\n\n[wpai_display_imported_files_here]
URL:https://events.iliauni.edu.ge/event/ashsh-is-saelchos-atashes-mario-montoias-photogamophena-arnakhuli-amerika-2/
CATEGORIES:ღონისძიებები
ATTACH;FMTTYPE=image/png:https://events.iliauni.edu.ge/wp-content/uploads/2025/09/cover_default.png
END:VEVENT
BEGIN:VEVENT
DTSTART;TZID=Asia/Dubai:20230627T162900
DTEND;TZID=Asia/Dubai:20230627T162900
DTSTAMP:20260425T195706
CREATED:20230627T122916Z
LAST-MODIFIED:20240201T111248Z
UID:10000008-1687883340-1687883340@events.iliauni.edu.ge
SUMMARY:მესამე ეროვნული ფესტივალის „მეცნიერება მთავარ როლში“ გამარჯვებული ცნობილია
DESCRIPTION:24 ივნისს ილიას სახელმწიფო უნივერსიტეტში გაიმართა მესამე ეროვნული ფესტივალი „მეცნიერება მთავარ როლში”\, რომელზეც წარმოდგენილი იყო საქართველოს სხვადასხვა რეგიონის საბუნებისმეტყველო მეცნიერებების მასწავლებელთა 24 პროექტი. \nფესტივალის ჟიურიმ 4 საუკეთესო პროექტი შეარჩია და მათი ავტორი ქართველი მასწავლებლები 2024 წლის აგვისტოში ტურკუში (ფინეთი) საერთაშორისო ფესტივალში მიიღებენ მონაწილეობას. \nჟიურის რჩეული პროექტები გახდნენ: \nპროექტი: „პლასტმასა VS მცენარე“\nსკოლა: სერვანტესის სახელობის გიმნაზია AIA GESS\, თბილისი\nპედაგოგი: თამარ ტურაშვილი \nპროექტი: „დარგე ემოცია“\nსკოლა: სსიპ ქ. გორის #8 საჯარო სკოლა\nპედაგოგი: ნინო ფსუტური \nპროექტი: “ჭიქა წყლის საიდუმლოებანი (მეშვიდეკლასელის დაკვირვება ფერწერულ ტილოზე)”\nსკოლა: ქართული სასწავლებელი\, თბილისი\nპედაგოგი: ინესა ბეჟანოვა \nპროექტი: „ნიადაგის მჟავიანობის შესწავლა“ \nსკოლა: გორის მუნიციპალიტეტის სოფელ ტინისხიდის საჯარო სკოლა\nპედაგოგები: მაკა მაკარიძე\, ჟანა ყუთულაშვილი\, ნანა დემეტრაშვილი \nწლევანდელი ფესტივალის მხარდამჭერები იყვნენ საქართველოს ფიზიკის მასწავლებელთა ასოციაცია\, გამომცემლობა „ინტელექტი”\, სულაკაურის გამომცემლობა\, WWF\, უნილაბი. \nქსელის შესახებ \nScience on Stage\, ევროპის საბუნებისმეტყველო მეცნიერებების მასწავლებელთა ქსელი\, მიზნად ისახავს\, გააუმჯობესოს STEM განათლება ევროპაში მასწავლებლების პროფესიული განვითარების მხარდაჭერითა და წახალისებით\, ასევე ხელი შეუწყოს მოსწავლეთა ხარისხიან განათლებას საბუნებისმეტყველო მეცნიერებებში. \nქსელში გაერთიანებულია ევროპის 34 ქვეყანა. საქართველო ამ ქსელის წევრია 2016 წლიდან. ილიას სახელმწიფო უნივერსიტეტი და მისი საბუნებისმეტყველო განათლების კვლევითი ცენტრი SALiS Science on Stage-ის ოფიციალური წარმომადგენელია საქართველოში. \nორ წელიწადში ერთხელ ქსელის წევრ ქვეყნებში ეწყობა ეროვნული ფესტივალი დევიზით „მასწავლებლები მასწავლებლებისთვის“. ჟიურის მიერ შერჩეული ეროვნული პროექტები კი ქვეყანას საერთაშორისო ფესტივალზე წარადგენენ. \n2023 წელი \n\n			\n				\n			\n		\n\n[wpai_display_imported_files_here]
URL:https://events.iliauni.edu.ge/event/mesame-erovnuli-phestivalis-metsniereba-mthavar-rolshi-gamarjvebuli-tsnobilia/
CATEGORIES:ღონისძიებები
ATTACH;FMTTYPE=image/png:https://events.iliauni.edu.ge/wp-content/uploads/2025/09/cover_default.png
END:VEVENT
END:VCALENDAR