BEGIN:VCALENDAR
VERSION:2.0
PRODID:-//უნივერსიტეტის ღონისძიებების პორტალი - ECPv6.2.8.2//NONSGML v1.0//EN
CALSCALE:GREGORIAN
METHOD:PUBLISH
X-ORIGINAL-URL:https://events.iliauni.edu.ge
X-WR-CALDESC:Events for უნივერსიტეტის ღონისძიებების პორტალი
REFRESH-INTERVAL;VALUE=DURATION:PT1H
X-Robots-Tag:noindex
X-PUBLISHED-TTL:PT1H
BEGIN:VTIMEZONE
TZID:Asia/Dubai
BEGIN:STANDARD
TZOFFSETFROM:+0400
TZOFFSETTO:+0400
TZNAME:+04
DTSTART:20230101T000000
END:STANDARD
END:VTIMEZONE
BEGIN:VEVENT
DTSTART;TZID=Asia/Dubai:20230419T150000
DTEND;TZID=Asia/Dubai:20230419T150000
DTSTAMP:20260425T184853
CREATED:20230413T130755Z
LAST-MODIFIED:20240201T112224Z
UID:10000101-1681916400-1681916400@events.iliauni.edu.ge
SUMMARY:ქართული ენის კვირეული – შემაჯამებელი ღონისძიება
DESCRIPTION:19 აპრილს\, 15:00 საათზე\, ილიას სახელმწიფო უნივერსიტეტის წიგნის სახლში „ლიგამუსი“ ლექსიკოგრაფიისა და ენობრივი ტექნოლოგიების ცენტრის ორგანიზებით გაიმართება ქართული ენის კვირეულის შემაჯამებელი ღონისძიება. \n\nგანრიგი \n15:00-15:10 – გახსნა \nპროფესორი ნინო დობორჯგინიძე\, რექტორი\, ილიას სახელმწიფო უნივერსიტეტი \n15:10-15:30 – კონკურსის „შექმენი ქართული ტერმინი“ კონცეფციის წარდგენა  \nპროფესორი თინათინ მარგალიტაძე\, ლექსიკოგრაფიისა და ენობრივი ტექნოლოგიების ცენტრის ხელმძღვანელი \n15:30-15:40 – კონკურსის „შექმენი ქართული ტერმინი“ ვებგვერდის წარდგენა  \nლალუ ჯიქიძე\, კიბერლაბორატორია „უნილაბის“ პროექტების მენეჯერი \n15:40-16:00 – კონკურსის „შექმენი ქართული ტერმინი“ პირველი ეტაპის შეჯამება და გამარჯვებულების დაჯილდოება  \nლექსიკოგრაფიის მიმართულების დოქტორანტი სალომე ჭიღლაძე\, ილიას სახელმწიფო უნივერსიტეტი \n16:00-16:30 – წიგნის „ფიქრები მშობლიურ ენაზე“ წარდგენა  \nპროფესორი თინათინ მარგალიტაძე\, წიგნის ავტორი \n16:30-16:45 – უცხო სიტყვებისა და მათი ქართული შესატყვისების გლოსარიუმის წარდგენა \nქეთევან თევდორაძე\, ლექსიკოგრაფიის მაგისტრი \n16:45-17:00 – უცხო სიტყვებისა და მათი ქართული შესატყვისების გლოსარიუმის ვებგვერდის წარდგენა \nლალუ ჯიქიძე\, კიბერლაბორატორია „უნილაბის“ პროექტების მენეჯერი \n\nდრო: 19 აპრილი\, 15:00-17:00 საათი \nადგილმდებარეობა: წიგნის სახლი „ლიგამუსი“\, ილია ჭავჭავაძის გამზ N32 \nსამუშაო ენა: ქართული \nდასწრება თავისუფალია. \n2023 წელი \n\n			\n				\n			\n		\n\n[wpai_display_imported_files_here]
URL:https://events.iliauni.edu.ge/event/qarthuli-enis-kvireuli-shemajamebeli-ghonisdzieba/
CATEGORIES:ღონისძიებები
ATTACH;FMTTYPE=image/png:https://events.iliauni.edu.ge/wp-content/uploads/2023/04/75633.png
END:VEVENT
BEGIN:VEVENT
DTSTART;TZID=Asia/Dubai:20230422T200000
DTEND;TZID=Asia/Dubai:20230422T200000
DTSTAMP:20260425T184853
CREATED:20230404T103200Z
LAST-MODIFIED:20240201T112210Z
UID:10000097-1682193600-1682193600@events.iliauni.edu.ge
SUMMARY:სპექტაკლი „საწვავი“
DESCRIPTION:დრამა 2 მოქმედებად \nროდესაც ზამთარია და ომი მძვინვარებს\, ადამიანები საკვებს და სითბოს ეძებენ გადასარჩენად\, მაგრამ რა ხდება მაშინ\, როდესაც ირგვლივ ყველაფერი უკვე დაიწვა და მხოლოდ წიგნები-ღა დარჩა? გადარჩენა უფრო მნიშვნელოვანია\, თუ წიგნები?! \nმთარგმნელი: თამარ ხოსრუაშვილი\nრეჟისორი: ლუკა ინწკირველი\nმხატვარი: თეო კუხიანიძე\nკომპოზიტორი: ერეკლე გეწაძე\nტექნიკური რეჟისორი: ნათია სამადაშვილი \nმოქმედი პირნი და შემსრულებელნი: \nპროფესორი – გიორგი ჯიქია\nმარინა – ანიკო შურღაია\nდანიელი – გიორგი ტაბიძე \nსპექტაკლის ხანგრძლივობა 1 საათი და 40 წუთი ანტრაქტის ჩათვლით \nსპექტაკლის პრემიერა შედგება 2023 წლის 24 მარტს \nდრო: 22 აპრილი \, 20:00 საათი \nადგილმდებარეობა: ილიას სახელმწიფო უნივერსიტეტის თეატრი\, ილია ჭავჭავაძის გამზირი N32 (უკანა ეზო) \n2023 წელი \n\n			\n				\n			\n		\n\n[wpai_display_imported_files_here]
URL:https://events.iliauni.edu.ge/event/speqtakli-satsvavi/
CATEGORIES:ღონისძიებები
ATTACH;FMTTYPE=image/png:https://events.iliauni.edu.ge/wp-content/uploads/2023/04/75171.png
END:VEVENT
BEGIN:VEVENT
DTSTART;TZID=Asia/Dubai:20230423T200000
DTEND;TZID=Asia/Dubai:20230423T200000
DTSTAMP:20260425T184853
CREATED:20230404T113700Z
LAST-MODIFIED:20240201T112203Z
UID:10000095-1682280000-1682280000@events.iliauni.edu.ge
SUMMARY:სპექტაკლი „უხერხემლო“
DESCRIPTION:დრამა 1 მოქმედებად \nროგორია საქართველოში ცხოვრება\, როდესაც განსხვავებული ხარ? რა უნდა დაუპირისპირო მეგობრების\, ოჯახის\, საზოგადოების\, ქვეყნის გულგრილობას? როგორ უნდა გადარჩე\, ან ღირს კი გადარჩენა\, როდესქაც არავის სჭირდები\, არავის ესმის შენი? ამ ერთ ტრაგიკულ ამბავში\, რომელიც დრამატურგმა ალექს ჩიღვინაძემ რეალურ ისტორიაზე დაფუძნებით დაწერა\, თითქოს მთელი საზოგადოების პრობლემებია გაერთიანებგული და დაფიქრებისკენ გვიბიძგებს\, როგორ შევცვალოთ ის ქვეყანა\, სადაც მშობლებს საკუთარი განსხვავებული ორიენტაციის შვილის დაკრძალვა მეზობლებისგან\, სოფლისგან\, ქვეყნისგან მალულად უწევთ. \n\nრეჟისორი – გელა გულიაშვილი (სადიპლომო ნაშრომი)\nმხატვარი – თეო კუხიანიძე\nტექნიკური რეჟისორი – მაკა მეტრეველი\nდადგმის ხელმძღვანელი – ვანო ხუციშვილი\, ილიას სახელმწიფო უნივერსიტეტის ასოცირებული პროფესორი\n\nმონაწილეობენ: \n\nმართა – მაიკო ხორნაული\nმამია – გიორგი ცერცვაძე\nნინო – ანიკო შურღაია\nდანიელი – გიორგი მაქაძე\n\nსპექტაკლის ხანგრძლივობაა 1 საათი და 30 წუთი \nსპექტაკლის პრემიერა შედგა 2022 წლის 2 ივლისს \n\nიხილეთ ფოტო გალერეა\n\n\nდრო: 23 აპრილი\, 20:00 საათი \nხანგრძლივობა: 1 საათი და 30 წუთი \nადგილმდებარეობა: ილიას სახელმწიფო უნივერსიტეტის თეატრი\, ილია ჭავჭავაძის გამზირი N32 (უკანა ეზო) \n2023 წელი \n\n\n			\n				\n			\n		\n\n[wpai_display_imported_files_here]
URL:https://events.iliauni.edu.ge/event/speqtakli-ukherkhemlo-5/
CATEGORIES:ღონისძიებები
ATTACH;FMTTYPE=image/png:https://events.iliauni.edu.ge/wp-content/uploads/2023/04/74813.png
END:VEVENT
END:VCALENDAR