BEGIN:VCALENDAR
VERSION:2.0
PRODID:-//უნივერსიტეტის ღონისძიებების პორტალი - ECPv6.2.8.2//NONSGML v1.0//EN
CALSCALE:GREGORIAN
METHOD:PUBLISH
X-WR-CALNAME:უნივერსიტეტის ღონისძიებების პორტალი
X-ORIGINAL-URL:https://events.iliauni.edu.ge
X-WR-CALDESC:Events for უნივერსიტეტის ღონისძიებების პორტალი
REFRESH-INTERVAL;VALUE=DURATION:PT1H
X-Robots-Tag:noindex
X-PUBLISHED-TTL:PT1H
BEGIN:VTIMEZONE
TZID:Asia/Dubai
BEGIN:STANDARD
TZOFFSETFROM:+0400
TZOFFSETTO:+0400
TZNAME:+04
DTSTART:20240101T000000
END:STANDARD
END:VTIMEZONE
BEGIN:VEVENT
DTSTART;TZID=Asia/Dubai:20241126T180000
DTEND;TZID=Asia/Dubai:20241126T190000
DTSTAMP:20260421T162716
CREATED:20241106T122727Z
LAST-MODIFIED:20241122T083123Z
UID:10005573-1732644000-1732647600@events.iliauni.edu.ge
SUMMARY:მარია-ჟოაო კუნჰიას ლექციების ციკლი: „მაკატონის საკომუნიკაციო სისტემის გამოყენება“
DESCRIPTION:26-28 ნოემბერს\, 18:00 საათზე\, ილიას სახელმწიფო უნივერსიტეტის ავსტრიულ ბიბლიოთეკაში Erasmus გაცვლითი პროგრამის ფარგლებში პორტოს პოლიტექნიკური უნივერსიტეტის პროფესორი\, ენისა და მეტყველების თერაპევტი მარია-ჟოაო კუნჰია წაიკითხავს ლექციების ციკლს „მაკატონის საკომუნიკაციო სისტემის გამოყენება“. \nრეგისტრაციისთვის მიჰყევით ბმულს: https://forms.gle/ohQhRYBkesXdsaUM6 \nადგილების რაოდენობა შეზღუდულია. \nსამუშაო ენები: ინგლისური\, ქართული \nდრო: 18:00 საათი \nადგილმდებარეობა: ავსტრიული ბიბლიოთეკა\, გიორგი წერეთლის ქუჩა\, N3 \nდასწრება რეგისტრაციით.
URL:https://events.iliauni.edu.ge/event/maria-zhoao-kunhias-leqtsiebis-tsikli-makatonis-sakomunikatsio-sistemis-gamoqheneba/
CATEGORIES:ღონისძიებები
ATTACH;FMTTYPE=image/png:https://events.iliauni.edu.ge/wp-content/uploads/2024/11/bavshvtha-akhali.png
END:VEVENT
BEGIN:VEVENT
DTSTART;TZID=Asia/Dubai:20241126T180000
DTEND;TZID=Asia/Dubai:20241126T190000
DTSTAMP:20260421T162716
CREATED:20241106T123721Z
LAST-MODIFIED:20241122T082957Z
UID:10005574-1732644000-1732647600@events.iliauni.edu.ge
SUMMARY:ანდრე არაუჯოს ლექციების ციკლი: „ხმის დარღვევები\, შეფასება და მართვა“
DESCRIPTION:26 -28 ნოემბერს\, 18:00 საათზე\, ილიას სახელმწიფო უნივერსიტეტის ავსტრიულ ბიბლიოთეკაში Erasmus გაცვლითი პროგრამის ფარგლებში პორტოს პოლიტექნიკური უნივერსიტეტის პროფესორი\, ენისა და მეტყველების თერაპევტი ანდრე არაუჯო წაიკითხავს ლექციების ციკლს „ხმის დარღვევები\, შეფასება და მართვა“. \nრეგისტრაციისთვის მიჰყევით ბმულს: https://forms.gle/ohQhRYBkesXdsaUM6 \nადგილების რაოდენობა შეზღუდულია. \nსამუშაო ენა: ინლისური \nდრო: 18:00 საათი \nადგილმდებარეობა: ილიას სახელმწიფო უნივერსიტეტის ავსტრიული ბიბლიოთეკა\, გიორგი წერეთლის ქუჩა\, N3 \nდასწრება რეგისტრაციით. \n2024
URL:https://events.iliauni.edu.ge/event/andre-araujos-leqtsiebis-tsikli-khmis-darghvevebi-shephaseba-da-marthva/
CATEGORIES:ღონისძიებები
ATTACH;FMTTYPE=image/png:https://events.iliauni.edu.ge/wp-content/uploads/2024/11/bavshvtha2.png
END:VEVENT
END:VCALENDAR