BEGIN:VCALENDAR
VERSION:2.0
PRODID:-//უნივერსიტეტის ღონისძიებების პორტალი - ECPv6.2.8.2//NONSGML v1.0//EN
CALSCALE:GREGORIAN
METHOD:PUBLISH
X-WR-CALNAME:უნივერსიტეტის ღონისძიებების პორტალი
X-ORIGINAL-URL:https://events.iliauni.edu.ge
X-WR-CALDESC:Events for უნივერსიტეტის ღონისძიებების პორტალი
REFRESH-INTERVAL;VALUE=DURATION:PT1H
X-Robots-Tag:noindex
X-PUBLISHED-TTL:PT1H
BEGIN:VTIMEZONE
TZID:Asia/Dubai
BEGIN:STANDARD
TZOFFSETFROM:+0400
TZOFFSETTO:+0400
TZNAME:+04
DTSTART:20240101T000000
END:STANDARD
END:VTIMEZONE
BEGIN:VEVENT
DTSTART;TZID=Asia/Dubai:20241002T170000
DTEND;TZID=Asia/Dubai:20241002T183000
DTSTAMP:20260422T060913
CREATED:20241001T085615Z
LAST-MODIFIED:20241001T085615Z
UID:10005544-1727888400-1727893800@events.iliauni.edu.ge
SUMMARY:წიგნის „თბილისის არაბულენოვანი ეპიგრაფიკული ძეგლების“ პრეზენტაცია
DESCRIPTION:2 ოქტომბერს\, 17:00 საათზე\, გიორგი წერეთლის აღმოსავლეთმცოდნეობის ინსტიტუტში გაიმართება წიგნის „თბილისის არაბულენოვანი ეპიგრაფიკული ძეგლების“ პრეზენტაცია. \nნაშრომი გამოიცა შოთა რუსთაველის საქართველოს ეროვნული სამეცნიერო ფონდის დაფინანსებით (#FR -21-670). \nწიგნის ავტორები არიან გიორგი წერეთლის აღმოსავლეთმცოდნეობის ინსტიტუტის მკვლევრები – ეთერ ღვინიაშვილი (პროექტის ხელმძღვანელი)\, მურმან ქუთელია და თბილისის თავისუფალი უნივერსიტეტის პროფესორი გიორგი ნარიმანიშვილი. \nმასში წარმოდგენილია პროფესორ ცისია კახიანის საარქივო მასალის ნაწილი\, რომელიც თბილისის არაბულენოვან ეპიგრაფიკულ ძეგლებს ეხება\, ასევე მისი ხელმძღვანელობით კვლევითი ჯგუფის მიერ შესწავლილი წარწერები და მოგვიანებით აღმოჩენილი არაბულენოვანი ძეგლები. \nსაარქივო მასალები და წარწერები განხილულია ისტორიულ კონტექსტში. \nსამუშაო ენა: ქართული \nდრო: 2 ოქტომბერი\, 17:00-18:30 საათი \nადგილმდებარეობა: გიორგი წერეთლის აღმოსავლეთმცოდნეობის ინსტიტუტი\, ილიას სახელმწიფო უნივერსიტეტის S კორპუსი\, ოთახი N201/202 \nდასწრება თავისუფალია. \n 
URL:https://events.iliauni.edu.ge/event/tsignis-thbilisis-arabulenovani-epigraphikuli-dzeglebis-prezentatsia/
CATEGORIES:მეცნიერებათა და ხელოვნების ფაკულტეტი,ღონისძიებები
ATTACH;FMTTYPE=image/jpeg:https://events.iliauni.edu.ge/wp-content/uploads/2024/10/1web-metsn-khel-tsignis-prezentatsia.jpg
END:VEVENT
END:VCALENDAR