BEGIN:VCALENDAR
VERSION:2.0
PRODID:-//უნივერსიტეტის ღონისძიებების პორტალი - ECPv6.2.8.2//NONSGML v1.0//EN
CALSCALE:GREGORIAN
METHOD:PUBLISH
X-WR-CALNAME:უნივერსიტეტის ღონისძიებების პორტალი
X-ORIGINAL-URL:https://events.iliauni.edu.ge
X-WR-CALDESC:Events for უნივერსიტეტის ღონისძიებების პორტალი
REFRESH-INTERVAL;VALUE=DURATION:PT1H
X-Robots-Tag:noindex
X-PUBLISHED-TTL:PT1H
BEGIN:VTIMEZONE
TZID:Asia/Dubai
BEGIN:STANDARD
TZOFFSETFROM:+0400
TZOFFSETTO:+0400
TZNAME:+04
DTSTART:20240101T000000
END:STANDARD
END:VTIMEZONE
BEGIN:VEVENT
DTSTART;TZID=Asia/Dubai:20240319T170000
DTEND;TZID=Asia/Dubai:20240319T190000
DTSTAMP:20260423T184343
CREATED:20240314T082356Z
LAST-MODIFIED:20240314T082356Z
UID:10005384-1710867600-1710874800@events.iliauni.edu.ge
SUMMARY:საჯარო პოლიტიკის კვლევითი დოკუმენტების შემუშავება - კონკურსი სტუდენტებისთვის
DESCRIPTION:ეკონომიკური პოლიტიკის კვლევის ცენტრი (EPRC)\, რომელიც ახორციელებს პროექტს „მტკიცებულებებზე დაფუძნებული პოლიტიკის წარმოება კარგი მმართველობისთვის: ახალგაზრდა მეცნიერების გაძლიერება ცვლილებების მისაღწევად“\, სტუდენტებისთვის აცხადებს კონკურსს საჯარო პოლიტიკის კვლევითი დოკუმენტების შემუშავებაზე. \n19 მარტს\, 17:00 საათზე\, ილიას სახელმწიფო უნივერსიტეტის G106 აუდიტორიაში ილიას სახელმწიფო უნივერსიტეტისა და ეკონომიკური პოლიტიკის კვლევის ცენტრის ორგანიზებით გაიმართება საინფორმაციო შეხვედრა სტუდენტებთან პროექტისა და მის ფარგლებში გამოცხადებული კონკურსის შესახებ ინფორმაციის გასაცნობად\, რათა უკეთ შეძლონ საჯარო მმართველობის არსის გაგება და მოემზადონ კონკურსისთვის. \nშერჩეული სტუდენტები გაივლიან თეორიულ და პრაქტიკულ სერტიფიცირებულ ტრენინგებს\, მათ მიეცემათ საშუალება იმუშაონ პროფესიონალ მკვლევრებთან/ექსპერტებთან ერთად და გახდნენ საჯარო პოლიტიკის დოკუმენტების თანაავტორები. \nდამატებითი ინფორმაცია იხილეთ ბმულზე: https://jobs.ge/ge/?view=jobs&id=531355 \nპროექტი „მტკიცებულებებზე დაფუძნებული პოლიტიკის წარმოება კარგი მმართველობისთვის: ახალგაზრდა მეცნიერების გაძლიერება ცვლილებების მისაღწევად“ მიზნად ისახავს ახალგაზრდა მკვლევრებისა და აკადემიური წრეების გაძლიერებას საჯარო მმართველობის თემების კვლევებთან დაკავშირებით. \nსამუშაო ენა: ქართული \nდრო: 19 მარტი\, 17:00 საათი \nადგილმდებარეობა: ილიას სახელმწიფო უნივერსიტეტის G106 აუდიტორია\, გ. წერეთლის ქუჩა №1 \nშეხვედრაზე დასწრება შეუძლიათ ილიას სახელმწიფო უნივერსიტეტის საბაკალავრო და სამაგისტრო საფეხურის სტუდენტებს.
URL:https://events.iliauni.edu.ge/event/sajaro-politikis-kvlevithi-dokumentebis-shemushaveba-konkursi-studentebisthvis/
CATEGORIES:კონკურსები,ღონისძიებები
ATTACH;FMTTYPE=image/png:https://events.iliauni.edu.ge/wp-content/uploads/2024/03/WEB-NEW.png
END:VEVENT
BEGIN:VEVENT
DTSTART;TZID=Asia/Dubai:20240319T190000
DTEND;TZID=Asia/Dubai:20240319T200000
DTSTAMP:20260423T184343
CREATED:20240313T080649Z
LAST-MODIFIED:20240315T063055Z
UID:10005378-1710874800-1710878400@events.iliauni.edu.ge
SUMMARY:ონლაინშეხვედრა მწერალ კლოე კორმანთან
DESCRIPTION:19 მარტს\, 19:00 საათზე\, წიგნის სახლში „ლიგამუსი“ გაიმართება ონლაინშეხვედრა გონკურის პრემიის საქართველოს არჩევანის 2023 წლის ლაურეატთან\, მწერალ კლოე კორმანთან. მწერალს პრემია გადაეცა რომანისთვის  ”Les Presque Sœurs ” („თითქმის დები“). \nკლოე კორმანს საქართველოს ელჩი საფრანგეთში გოჩა ჯავახიშვილი ილიას სახელმწიფო უნივერსიტეტის მიერ დაწესებულ პრიზს გადასცემს. \nმწერალი ონლაინ ჩაერთვება საფრანგეთში საქართველოს საელჩოდან\, სადაც უმასპინძლებენ საქართველოს ელჩი საფრანგეთში გოჩა ჯავახიშვილი და ფრანგული რენესანსის საერთაშორისო პრეზიდენტი\, პარიზის ზღვისიქითა მეცნიერებების აკადემიის საპატიო პრეზიდენტი დენი ფადა. \n„ლიგამუსში“ შეხვედრას დაესწრებიან საფრანგეთის ელჩი საქართველოში შერაზ გასრი\, საქართველოს ფრანგული ინსტიტუტის დირექტორი კამი ნორა\, საქართველოს ფრანგული ინსტიტუტის მედიათეკის დირექტორი ნანა ლალიაშვილი\, ქართული უნივერსიტეტების სტუდენტები\, მედიათეკის მკითხველები და  უფროსკლასელები. \nსამუშაო ენები: ქართული\, ფრანგული \nდრო: 19 მარტი\, 19:00 საათი \nადგილმდებარეობა: წიგნის სახლი „ლიგამუსი“\, ი. ჭავჭავაძის გამზ. N32
URL:https://events.iliauni.edu.ge/event/onlainshekhvedra-mtseral-kloe-kormanthan/
CATEGORIES:ღონისძიებები
ATTACH;FMTTYPE=image/png:https://events.iliauni.edu.ge/wp-content/uploads/2024/03/WEB-BANNER-gonkuris-premia-2.png
END:VEVENT
END:VCALENDAR