BEGIN:VCALENDAR
VERSION:2.0
PRODID:-//უნივერსიტეტის ღონისძიებების პორტალი - ECPv6.2.8.2//NONSGML v1.0//EN
CALSCALE:GREGORIAN
METHOD:PUBLISH
X-WR-CALNAME:უნივერსიტეტის ღონისძიებების პორტალი
X-ORIGINAL-URL:https://events.iliauni.edu.ge
X-WR-CALDESC:Events for უნივერსიტეტის ღონისძიებების პორტალი
REFRESH-INTERVAL;VALUE=DURATION:PT1H
X-Robots-Tag:noindex
X-PUBLISHED-TTL:PT1H
BEGIN:VTIMEZONE
TZID:Asia/Dubai
BEGIN:STANDARD
TZOFFSETFROM:+0400
TZOFFSETTO:+0400
TZNAME:+04
DTSTART:20250101T000000
END:STANDARD
END:VTIMEZONE
BEGIN:VEVENT
DTSTART;TZID=Asia/Dubai:20250626T160000
DTEND;TZID=Asia/Dubai:20250626T170000
DTSTAMP:20260420T111529
CREATED:20250626T121050Z
LAST-MODIFIED:20250623T130543Z
UID:10005774-1750953600-1750957200@events.iliauni.edu.ge
SUMMARY:Zoomout-ისა და ფაბლაბის პანელური დისკუსია „როგორ განავითაროთ მეწარმეობრივი უნარები სამსახურის დატოვების გარეშე“
DESCRIPTION:26 ივნისს\, 16:00 საათზე\, ილიას სახელმწიფო უნივერსიტეტის T102 აუდიტორიაში  ტექმეწარმეობისა და ინოვაციის განვითარების ცენტრის\, პრეაქსელერატორი Zoomout-ისა და ფაბლაბის ორგანიზებით გაიმართება საჯარო პანელური დისკუსია „როგორ განავითაროთ მეწარმეობრივი უნარები სამსახურის დატოვების გარეშე“. \nსპეციალურად მოწვეული მომხსენებელია დოქტორი ალექს დენობლი\, სან დიეგოს სახელმწიფო უნივერსიტეტის მეწარმეობის ემერიტუს-პროფესორი\, Lavin Entrepreneurship Center-ის აღმასრულებელი დირექტორი და წიგნის The Entrepreneur Within ავტორი. \nპროფესორ დენობლის საქმიანობა მოიცავს მეწარმეობას\, კორპორაციულ ინოვაციასა და ტექნოლოგიების კომერციალიზაციას. იგი აშშ-ის მცირე ბიზნესისა და მეწარმეობის ასოციაციის (USASBE) ყოფილი პრეზიდენტი და საერთაშორისო საბჭოს (ICSB) მოქმედი მმართველი წევრია. მრავალწლიანი გამოცდილება აქვს როგორც სტარტაპებთან\, ისე მსხვილ ტექნოლოგიურ კომპანიებთან თანამშრომლობის კუთხით. \nშეხვედრის მონაწილეები გაიგებენ\, როგორ განავითარონ მეწარმეობრივი უნარები პროფესიული საქმიანობის პარალელურად; მოისმენენ პრაქტიკულ რჩევებს ინტრაპრენერობისა და კარიერული ზრდის შესახებ; შეძლებენ დარგის საერთაშორისო ექსპერტს დაუსვან შეკითხები\, მათ შორის\, რისკების მართვაზე\, მარცხის გამოცდილებასა და მოტივაციაზე. \nდისკუსიას გაუძღვება ილიას სახელმწიფო უნივერსიტეტის პრეაქსელერატორი Zoomout-ის მენეჯერი\, სტარტაპ NEUROPILOT-ის დამფუძნებელი თინი მამუჩაშვილი. \nშეხვედრაზე დასასწრებად რეგისტრაციის გავლა შესაძლებელია ბმულზე: https://forms.gle/vJWfUHDzaf24nc9e6 \nდამატებითი ინფორმაციისთვის დაუკავშირდით ორგანიზატორებს ელექტრონული ფოსტით: fablab@iliauni.edu.ge. \nსამუშაო ენა: ინგლისური \nდრო: 26 ივნისი\, 16:00 საათი \nადგილმდებარეობა: ილიას სახელმწიფო უნივერსიტეტის T102 აუდიტორია\, ქ. ჩოლოყაშვილის გამზ. N3/5 \n2025
URL:https://events.iliauni.edu.ge/event/zoomout-isa-da-phablabis-paneluri-diskusia-rogor-ganavitharoth-metsarmeobrivi-unarebi-samsakhuris-datovebis-gareshe/
CATEGORIES:დისკუსიები,ღონისძიებები
ATTACH;FMTTYPE=image/png:https://events.iliauni.edu.ge/wp-content/uploads/2025/06/bootcamp_web_new26-scaled.png
END:VEVENT
END:VCALENDAR