BEGIN:VCALENDAR
VERSION:2.0
PRODID:-//უნივერსიტეტის ღონისძიებების პორტალი - ECPv6.2.8.2//NONSGML v1.0//EN
CALSCALE:GREGORIAN
METHOD:PUBLISH
X-WR-CALNAME:უნივერსიტეტის ღონისძიებების პორტალი
X-ORIGINAL-URL:https://events.iliauni.edu.ge
X-WR-CALDESC:Events for უნივერსიტეტის ღონისძიებების პორტალი
REFRESH-INTERVAL;VALUE=DURATION:PT1H
X-Robots-Tag:noindex
X-PUBLISHED-TTL:PT1H
BEGIN:VTIMEZONE
TZID:Asia/Dubai
BEGIN:STANDARD
TZOFFSETFROM:+0400
TZOFFSETTO:+0400
TZNAME:+04
DTSTART:20240101T000000
END:STANDARD
END:VTIMEZONE
BEGIN:VEVENT
DTSTART;TZID=Asia/Dubai:20240613T200000
DTEND;TZID=Asia/Dubai:20240613T210000
DTSTAMP:20260421T223440
CREATED:20240619T121757Z
LAST-MODIFIED:20240619T121757Z
UID:10005472-1718308800-1718312400@events.iliauni.edu.ge
SUMMARY:„დაგეგმვის პრაქტიკა – პროექტების გამოყენება საბავშვო ბაღში“ – ვებინარების ციკლი „საუკეთესო პრაქტიკა“
DESCRIPTION:13 ივნისს\, 20:00 საათზე\, ილიას სახელმწიფო უნივერსიტეტის ბავშვის განვითარების ინსტიტუტის ორგანიზებით ინსტიტუტის ფეისბუქის გვერდზე გაიმართება ვებინერების ციკლის მეოთხე შეხვედრა თემაზე „დაგეგმვის პრაქტიკა – პროექტების გამოყენება საბავშვო ბაღში“. \nისაუბრებენ \n\nირინა შაქარაძე\, ქობულეთის მე-6 საბავშვო ბაღის აღმზრდელი\nნინო ჯიჯავაძე\, ილიას უნივერსიტეტის ადრეული განათლების სპეციალისტი
URL:https://events.iliauni.edu.ge/event/dagegmvis-praqtika-proeqtebis-gamoqheneba-sabavshvo-baghshi-vebinarebis-tsikli-sauketheso-praqtika/
CATEGORIES:დისკუსიები,ღონისძიებები
ATTACH;FMTTYPE=image/png:https://events.iliauni.edu.ge/wp-content/uploads/2024/06/f66ac5f3c3d29c8ae68ceabfb3e68cd6_83645.png
END:VEVENT
END:VCALENDAR