BEGIN:VCALENDAR
VERSION:2.0
PRODID:-//უნივერსიტეტის ღონისძიებების პორტალი - ECPv6.2.8.2//NONSGML v1.0//EN
CALSCALE:GREGORIAN
METHOD:PUBLISH
X-ORIGINAL-URL:https://events.iliauni.edu.ge
X-WR-CALDESC:Events for უნივერსიტეტის ღონისძიებების პორტალი
REFRESH-INTERVAL;VALUE=DURATION:PT1H
X-Robots-Tag:noindex
X-PUBLISHED-TTL:PT1H
BEGIN:VTIMEZONE
TZID:Asia/Dubai
BEGIN:STANDARD
TZOFFSETFROM:+0400
TZOFFSETTO:+0400
TZNAME:+04
DTSTART:20250101T000000
END:STANDARD
END:VTIMEZONE
BEGIN:VEVENT
DTSTART;TZID=Asia/Dubai:20250707T130000
DTEND;TZID=Asia/Dubai:20250707T140000
DTSTAMP:20260423T030710
CREATED:20250702T074324Z
LAST-MODIFIED:20250702T074324Z
UID:10005779-1751893200-1751896800@events.iliauni.edu.ge
SUMMARY:ახალი ინიციატივის NARI პრეზენტაცია და მოხალისე სტუდენტების დაჯილდოება
DESCRIPTION:7 ივლისს\, 13:00 საათზე\, ილიას სახელმწიფო უნივერსიტეტის G106 აუდიტორიაში  კავკასიის ბიომრავალფეროვნების კვლევის ლეიბნიცის ცენტრი გამართავს მეცნიერების პოპულარიზაციისადმი მიძღვნილ ღონისძიებებს. \nI ნაწილი: NARI – Network of Amateur Researchers Inquiry \nღონისძიებაზე ილია სახელმწიფო უნივერსიტეტის დოქტორანტი და მკვლევარი თინათინ ჩხარტიშვილი წარმოადგენს ახალ ინიციატივას NARI (Network of Amateur Researchers Inquiry)\, რომლის მიზანია ბუნებით დაინტერესებული პროფესიონალების\, მოყვარული მკვლევრების\, ნატურალისტების და მოქალაქეების ერთი იდეის ქვეშ გაერთინება. პლატფორმა ხელს შეუწყობს გარემოსდაცვით საკითხებზე შეხვედრების\, კვლევითი პროექტებისა და საგანმანათლებლო ღონისძიებების ორგანიზებას. \nღონისძიებაზე მოწვეული ნატურალისტები\, მოქალაქე-მეცნიერები\, საზოგადოებას გაუზიარებენ გამოცდილებას და ისაუბრებენ მოყვარულ მეცნიერთა როლზე. წარმოაჩენენ გზებს\, როგორ შეიძლება დაინტერესებული პირები ჩართონ კვლევით საქმიანობაში ფორმალური განათლების გარეშე. \nII ნაწილი: ენტომოლოგიის ლაბორატორიის მოხალისე სტუდენტთა დაჯილდოება \nორგანიზატორები დააჯილდოებენ სტუდენტებს\, რომლებიც გაზაფხულის სემესტრის განმავლობაში მონაწილეობდნენ ენტომოლოგიური მიმართულების საველე და ლაბორატორიულ ღონისძიებებში. მათ საზეიმოდ გადაეცემათ სერტიფიკატები აქტიური მონაწილეობისა და სამეცნიერო საქმიანობაში შეტანილი წვლილისთვის. დოქტორანტების მიერ მოხალისეობრივად ორგანიზებულ პრაქტიკულ ტრენინგებზე სტუდენტებს შესაძლებლობა ჰქონდათ\, ჩართულიყვნენ კვლევით პროცესში. \nარასამთავრობო ორგანიზაცია საბუკოს განათლების მიმართულების ოფიცერი\, ილიას სახელმწიფო უნივერსიტეტის ალუმნი ეკა არსენაშვილი  ისაუბრებს იმის შესახებ\, როგორ შეძლებენ სტუდენტები მომავალში მსგავს აქტივობაში ჩართვას. \nღონისძიებაში მონაწილეობა შეუძლია ნებისმიერ დაინტერესებულ პირს\, მათ შორის სხვა უნივერსიტეტების სტუდენტებს. \nდრო: 7 ივლისი\, 13:00 საათი \nადგილმდებარეობა: ილიას სახელმწიფო უნივერსიტეტის G106 აუდიტორია\, გ. წერეთლის ქ. N1 \nდასწრება თავისუფალია. \n2025
URL:https://events.iliauni.edu.ge/event/akhali-initsiativis-nari-prezentatsia-da-mokhalise-studentebis-dajildoeba/
CATEGORIES:დებატები საჯარო პოლიტიკაზე,ღონისძიებები
ATTACH;FMTTYPE=image/png:https://events.iliauni.edu.ge/wp-content/uploads/2025/07/nari_web_new.png
END:VEVENT
END:VCALENDAR