BEGIN:VCALENDAR
VERSION:2.0
PRODID:-//უნივერსიტეტის ღონისძიებების პორტალი - ECPv6.2.8.2//NONSGML v1.0//EN
CALSCALE:GREGORIAN
METHOD:PUBLISH
X-WR-CALNAME:უნივერსიტეტის ღონისძიებების პორტალი
X-ORIGINAL-URL:https://events.iliauni.edu.ge
X-WR-CALDESC:Events for უნივერსიტეტის ღონისძიებების პორტალი
REFRESH-INTERVAL;VALUE=DURATION:PT1H
X-Robots-Tag:noindex
X-PUBLISHED-TTL:PT1H
BEGIN:VTIMEZONE
TZID:Asia/Dubai
BEGIN:STANDARD
TZOFFSETFROM:+0400
TZOFFSETTO:+0400
TZNAME:+04
DTSTART:20250101T000000
END:STANDARD
END:VTIMEZONE
BEGIN:VEVENT
DTSTART;TZID=Asia/Dubai:20250228T160000
DTEND;TZID=Asia/Dubai:20250228T203000
DTSTAMP:20260423T075043
CREATED:20250217T113839Z
LAST-MODIFIED:20250221T091047Z
UID:10005661-1740758400-1740774600@events.iliauni.edu.ge
SUMMARY:AWS 2024 re:Invent re:Cap
DESCRIPTION:28 თებერვალს\, 16:00 საათზე\, ილიას სახელმწიფო უნივერსიტეტის T102 აუდიტორიაში გაიმართება AWS ღრუბლოვანი ტექნოლოგიების ერთდღიანი ღონისძიება AWS re:Invent re:Cap. \nდამსწრე საზოგადოება გაეცნობა უახლეს ტენდენციებს შემდეგ სფეროებში: AI/ML და გენერაციული AI\, უსაფრთხოება\, ანალიტიკა\, ინდუსტრიაზე მორგებული AWS ღრუბლოვანი გადაწყვეტილებები. \nსამუშაო ენა: ინგლისური \nდრო: 28 თებერვალი\, 16:00 საათი \nადგილმდებარეობა: ილიას სახელმწიფო უნივერსიტეტის\, T102 აუდიტორია\, ქ. ჩოლოყაშვილის გამზ. N3/5 \nღონისძიების პროგრამა: \n16:00 – 17:00 | რეგისტრაცია\n17:00 – 17:15 | მისალმება\n17:15 – 18:00 | ინფრასტრუქტურის უსაფრთხოების მართვა AWS Shield და WAF ტექნოლოგიებით − გიორგი სემენიხინი TBC\n18:00 – 18:15 | ყავის შესვენება\n18:15 – 19:45 | “AWS re:Invent re:Cap” − ვიქტორ ვედმიჩი და ალექსანდრ ბერნადსკი AWS\n19:45 – 20:30 | TCP ქსელების განხილვა ტექნოლოგიური საზოგადოების წევრებთან \nრატომ უნდა დაესწრო AWS Community Meetup-ს? \nაღმოაჩენ AWS-ის შესაძლებლობებს: გაეცნობი უახლეს ინოვაციებს\, საუკეთესო პრაქტიკებსა და წარმატების მაგალითებს. \nშეხვდები ექსპერტებს: მიიღებ პასუხებს AWS სერვისების შესახებ. \nგექნება ახალი კონტაქტების დამყარების შესაძლებლობა: გაიცნობ ახალ ადამიანებს და გააფართოვებ პროფესიულ კავშირებს!
URL:https://events.iliauni.edu.ge/event/17-02-2025-cap/
CATEGORIES:ბიზნესის, ტექნოლოგიისა და განათლების ფაკულტეტი,ღონისძიებები
ATTACH;FMTTYPE=image/png:https://events.iliauni.edu.ge/wp-content/uploads/2025/02/akhali-vebi-2.png
END:VEVENT
END:VCALENDAR