BEGIN:VCALENDAR
VERSION:2.0
PRODID:-//უნივერსიტეტის ღონისძიებების პორტალი - ECPv6.2.8.2//NONSGML v1.0//EN
CALSCALE:GREGORIAN
METHOD:PUBLISH
X-WR-CALNAME:უნივერსიტეტის ღონისძიებების პორტალი
X-ORIGINAL-URL:https://events.iliauni.edu.ge
X-WR-CALDESC:Events for უნივერსიტეტის ღონისძიებების პორტალი
REFRESH-INTERVAL;VALUE=DURATION:PT1H
X-Robots-Tag:noindex
X-PUBLISHED-TTL:PT1H
BEGIN:VTIMEZONE
TZID:Asia/Dubai
BEGIN:STANDARD
TZOFFSETFROM:+0400
TZOFFSETTO:+0400
TZNAME:+04
DTSTART:20240101T000000
END:STANDARD
END:VTIMEZONE
BEGIN:VEVENT
DTSTART;TZID=Asia/Dubai:20240524T170000
DTEND;TZID=Asia/Dubai:20240524T180000
DTSTAMP:20260424T030603
CREATED:20240523T112639Z
LAST-MODIFIED:20240523T112639Z
UID:10005453-1716570000-1716573600@events.iliauni.edu.ge
SUMMARY:„გარემოში სითბოს გავრცელების კანონების შესახებ“ – პროფესორ მერაბ სვანაძის საჯარო სემინარი
DESCRIPTION:24 მაისს\, 17:00 საათზე\, ილიას სახელმწიფო უნივერსიტეტის T302 აუდიტორიაში ილიაუნის პროფესორი მერაბ სვანაძე გამართავს სემინარს „გარემოში სითბოს გავრცელების კანონების შესახებ“. \nმომხსენებელი მიმოიხილავს გარემოში სითბოს გავრცელების კანონებს\, კერძოდ\, გააანალიზებს ფურიეს კლასიკური კანონიდან (1822) დაწყებული დღემდე არსებულ განზოგადებულ კანონებს\, ამასთან ამ კანონებზე დაფუძნებულ თერმოდრეკადობის კლასიკურ და განზოგადებულ თეორიებსა და ამ თეორიების შედეგებს\, დასასრულს განიხილავს პერსპექტიული კვლევების ძირითად მიმართულებებს. \nპროფესორ მერაბ სვანაძის შესახებ: https://faculty.iliauni.edu.ge/business/svanadze-merab/ \nსამუშაო ენა: ქართული \nდრო: 24 მაისი\, 17:00 საათი \nადგილმდებარეობა: ილიას სახელმწიფო უნივერსიტეტის T302 აუდიტორია\, ქ. ჩოლოყაშვილის გამზ. N3/5 \nდასწრება თავისუფალია.
URL:https://events.iliauni.edu.ge/event/garemoshi-sithbos-gavrtselebis-kanonebis-shesakheb-prophesor-merab-svanadzis-sajaro-seminari/
CATEGORIES:ბიზნესის, ტექნოლოგიისა და განათლების ფაკულტეტი,ღონისძიებები
ATTACH;FMTTYPE=image/jpeg:https://events.iliauni.edu.ge/wp-content/uploads/2024/05/WEB-BANNER-biznes-teqn-merab-svanadze.jpg
END:VEVENT
BEGIN:VEVENT
DTSTART;TZID=Asia/Dubai:20240524T180000
DTEND;TZID=Asia/Dubai:20240524T200000
DTSTAMP:20260424T030603
CREATED:20240523T112459Z
LAST-MODIFIED:20240523T115413Z
UID:10005452-1716573600-1716580800@events.iliauni.edu.ge
SUMMARY:„კვანტური გამოთვლები ცივი ატომებით ოპტიკური პინცეტების ორგანზომილებიან მესერში“ – პროფესორ გიორგი ვეშაპიძის საჯარო სემინარი
DESCRIPTION:24 მაისს\, 18:00 საათზე\, ილიას სახელმწიფო უნივერსიტეტის T302 აუდიტორიაში ილიაუნის პროფესორი გიორგი ვეშაპიძე გამართავს საჯარო სემინარს „კვანტური გამოთვლები ცივი ატომებით ოპტიკური პინცეტების ორგანზომილებიან მესერში“. \nკვანტური გამოთვლები ოპტიკური პინცეტების (Optical Tweezers) ორგანზომილებიან (რამდენიმემიკრონიანი პერიოდის მქონე) მესერში ჩაჭერილ ულტრაცივ გაზის ატომებზე წარმოადგენს კვანტური კომპიუტერის რეალიზების ახალ\, სწრაფად განვითარებადსა და პერსპექტიულ მიმართულებას. \nკვანტური კომპიუტერის ამ რეალიზაციაში \n\n ქუბიტის როლს ასრულებს ოპტიკურ პინცეტში ჩაჭერილი ატომის ბირთვული სპინი;\nქუბიტის ადრესაცია/დამისამართება ხდება ოპტიკური პინცეტის ინტენსივობის ცვლილებით (რაც იწვევს ატომის ელექტრონული რეზონანსის წანაცვლებას);\nქუბიტებზე მანიპულირებენ ატომის გარე ელექტრონის რეზონანსული აღგზნებით (ოპტიკური დიაპაზონის ლაზერის საშუალებით);\n მეზობელი ქუბიტები ურთიერთქმედებენ (რაც აუცილებელია ელემენტარული კვანტური გეითების/ოპერაციების უნივერსალური სიმრავლის ასაგებად) მათი რიდბერგის დონეზე აღგზნებით (ასევე ოპტიკური დიაპაზონის ლაზერის საშუალებით);\nქუბიტები ამოიკითხება მიკროსკოპითა და ციფრული კამერით.\n\nკვანტური გამოთვლების ეს სქემა სპეციალისტებს მნიშვნელოვან უპირატესობებს სთავაზობს სხვა მიდგომებთან შედარებით. \nმომხსენებელი განიხილავს ელემენტარულ თეორიულ საფუძვლებს\, ექსპერიმენტულ მეთოდებსა და ბოლო მიღწევებს. \nპროფესორ გიორგი ვეშაპიძის შესახებ: https://faculty.iliauni.edu.ge/business/veshapidze-giorgi/ \nსამუშაო ენა: ქართული \nდრო: 24 მაისი\, 18:00 საათი \nადგილმდებარეობა: ილიას სახელმწიფო უნივერსიტეტის T302 აუდიტორია\, ქ. ჩოლოყაშვილის გამზ. N3/5 \nდასწრება თავისუფალია.
URL:https://events.iliauni.edu.ge/event/kvanturi-gamothvlebi-tsivi-atomebith-optikuri-pintsetebis-organzomilebian-mesershi-prophesor-giorgi-veshapidzis-sajaro-seminari/
CATEGORIES:ბიზნესის, ტექნოლოგიისა და განათლების ფაკულტეტი,ღონისძიებები
ATTACH;FMTTYPE=image/jpeg:https://events.iliauni.edu.ge/wp-content/uploads/2024/05/WEB-BANNER-biznes-teqn-spikerebith.jpg
END:VEVENT
END:VCALENDAR