BEGIN:VCALENDAR
VERSION:2.0
PRODID:-//უნივერსიტეტის ღონისძიებების პორტალი - ECPv6.2.8.2//NONSGML v1.0//EN
CALSCALE:GREGORIAN
METHOD:PUBLISH
X-WR-CALNAME:უნივერსიტეტის ღონისძიებების პორტალი
X-ORIGINAL-URL:https://events.iliauni.edu.ge
X-WR-CALDESC:Events for უნივერსიტეტის ღონისძიებების პორტალი
REFRESH-INTERVAL;VALUE=DURATION:PT1H
X-Robots-Tag:noindex
X-PUBLISHED-TTL:PT1H
BEGIN:VTIMEZONE
TZID:Asia/Dubai
BEGIN:STANDARD
TZOFFSETFROM:+0400
TZOFFSETTO:+0400
TZNAME:+04
DTSTART:20240101T000000
END:STANDARD
END:VTIMEZONE
BEGIN:VEVENT
DTSTART;TZID=Asia/Dubai:20240405T180000
DTEND;TZID=Asia/Dubai:20240405T190000
DTSTAMP:20260424T012957
CREATED:20240401T080421Z
LAST-MODIFIED:20240401T092944Z
UID:10005411-1712340000-1712343600@events.iliauni.edu.ge
SUMMARY:„მეწარმეობა: SWOT ანალიზი\, ანუ რატომ კი და რატომ არა“ – ანი ჩერქეზიშვილის საჯარო ლექცია
DESCRIPTION:5 აპრილს\, 18:00 საათზე\, ილიას სახელმწიფო უნივერსიტეტის E406 აუდიტორიაში ილიაუნის ბიზნესის\, ტექნოლოგიისა და განათლების ფაკულტეტის მოწვეული ლექტორი\, ანის სკოლის დამფუძნებელი ანი ჩერქეზიშვილი წაიკითხავს საჯარო ლექციას „მეწარმეობა: SWOT ანალიზი\, ანუ რატომ კი და რატომ არა“. \nშეხვედრის მიზანია სტუდენტებს\, რომელთაც სურთ საქმიანობის წამოწყება\, დაეხმარონ წინასწარი მონახაზის შექმნასა და ხედვის ჩამოყალიბებაში\, თუ როგორ მართონ საქმე უკეთ. ისინი მოისმენენ ახალბედა მეწარმეებისთვის საჭირო რჩევებს\, გაეცნობიან საქმიანობის წამოწყების ძლიერსა და სუსტ მხარეებს\, მთავარ გამოწვევებსა და მათთან გამკლავების გზებს. \nსამუშაო ენა: ქართული \nდრო: 5 აპრილი\, 18:00 საათი \nადგილმდებარეობა: ილიას სახელმწიფო უნივერსიტეტის E406 აუდიტორია\, ქ. ჩოლოყაშვილის გამზ. N3/5 \nდასწრება თავისუფალია.
URL:https://events.iliauni.edu.ge/event/metsarmeoba-swot-analizi-anu-ratom-ki-da-ratom-ara-ana-cherqezishvilis-sajaro-leqtsia/
CATEGORIES:ბიზნესის, ტექნოლოგიისა და განათლების ფაკულტეტი,საჯარო ლექციები
ATTACH;FMTTYPE=image/png:https://events.iliauni.edu.ge/wp-content/uploads/2024/04/NEW-WEB-SIZE-2.png
END:VEVENT
BEGIN:VEVENT
DTSTART;TZID=Asia/Dubai:20240408T190000
DTEND;TZID=Asia/Dubai:20240408T200000
DTSTAMP:20260424T012957
CREATED:20240405T102738Z
LAST-MODIFIED:20240405T102738Z
UID:10005415-1712602800-1712606400@events.iliauni.edu.ge
SUMMARY:''Build With AI''– საჯარო შეხვედრა
DESCRIPTION:8 აპრილს\, 19:00 საათზე\, Google Developers ჯგუფის ორგანიზებითა და ილიას სახელმწიფო უნივერსიტეტის ტექნოლოგიური მეწარმეობისა და ინოვაციების განვითარების ცენტრის მხარდაჭერით გაიმართება საჯარო შეხვედრა Build With AI. \nდამსწრეთ შესაძლებლობა ექნებათ\, მოუსმინონ ხელოვნური ინტელექტის სფეროს წარმატებულ პირებს და გაიგონ სიახლეები AI მიმართულებით. \nშეხვედრაზე განხილული იქნება\, რა არის Gemini და რა ახალი შესაძლებლობები და ფუნქციები აქვს\, როგორ შეგვიძლია Gemini AI-ით Flutter აპლიკაციების განვითარება. \nმომხსენებლები: \nთათია წმინდაშვილი\, Impel-ის უფროსი Deep Learning მკვლევარი  \nთათია ძირითადად მუშაობს ენის მოდელებზე\, ასევე დროს უთმობს კვლევას GAIN პროექტში\, რომელიც ორიენტირებულია ელექტროენცეფალოგრაფიული სიგნალის ანალიზზე მანქანური სწავლების გამოყენებით. იგი ისაუბრებს იმ ძირითადი ალგორითმების შესახებ\, რომლებმაც გადამწყვეტი როლი ითამაშეს ხელოვნური ინტელექტის განვითარებაში. \nსაშა დენისოვი\, EPAM-ის წამყვანი პროგრამული უზრუნველყოფის ინჟინერი\, Flutter\,Dart GDE \nვრცლად იხილეთ: State of AI in 2024 / BuildWithAI | Facebook \nსამუშაო ენა: ქართული \nდრო: 8 აპრილი\, 19:00 საათი \nადგილმდებარეობა: ილიას სახელმწიფო უნივერსიტეტის T კორპუსი\, 102 აუდიტორია \nდასწრება თავისუფალია. \n  \n  \n 
URL:https://events.iliauni.edu.ge/event/build-with-ai-sajaro-shekhvedra/
CATEGORIES:ბიზნესის, ტექნოლოგიისა და განათლების ფაკულტეტი
ATTACH;FMTTYPE=image/png:https://events.iliauni.edu.ge/wp-content/uploads/2024/04/1web-build-with-AI.png
END:VEVENT
BEGIN:VEVENT
DTSTART;TZID=Asia/Dubai:20240419T190000
DTEND;TZID=Asia/Dubai:20240419T200000
DTSTAMP:20260424T012957
CREATED:20240416T124338Z
LAST-MODIFIED:20240416T124338Z
UID:10005422-1713553200-1713556800@events.iliauni.edu.ge
SUMMARY:„შეხვდით ავსტრიელებს\, შეხვდით ქართველებს: ბიზნესი\, კულტურა და მდგრადობა - რა თემაზე ვსაუბრობთ?“ – ინტერაქციული ვორკშოპი
DESCRIPTION:19 აპრილს\, 19:00 საათზე\, ილიას სახელმწიფო უნივერსიტეტის E207 აუდიტორიაში გაიმართება ინტერაქციული ვორკშოპი „შეხვდით ავსტრიელებს\, შეხვდით ქართველებს: ბიზნესი\, კულტურა და მდგრადობა – რა თემაზე ვსაუბრობთ?“. \nვორკშოპის შესახებ \n\nრა გვამოძრავებს დღეს ჩვენ ავსტრიასა და საქართველოში?\nრა გავლენას ახდენს საერთაშორისო გარემო ბიზნესზე?\nრა გავლენას ახდენს კულტურული განსხვავება ბიზნესზე?\nრა უნდა გავითვალისწინოთ კორპორაციულ კონტექსტში ინტერკულტურულ ურთიერთობებში ჩართვისას?\nროგორია ავსტრიული მიდგომა? რას ფიქრობენ ახალგაზრდა პროფესიონალები საქართველოში?\n\nმომხსენებლები \nალექსანდრე ბურკა\, პროფესორი\, დოქტორი\, ხელოვნების მაგისტრი\, ბურგენლანდის გამოყენებითი მეცნიერებების (ავსტრია) უნივერსიტეტის პროფესორი საერთაშორისო ბიზნესის კომუნიკაციის დარგში; ავტორი კურსებისა – საერთაშორისო კომპეტენციები\, ინტერკულტურული მენეჯმენტი და რუსული როგორც უცხო ენა. მას აქვს 60 ქვეყანაში საერთაშორისო ორგანიზაციებსა და საწარმოებში\, სხვადასხვა დარგში\, 25-წლიანი მუშაობის გამოცდილება. \nკლაუდია მაილერი\, ხელოვნების ბაკალავრი\, ხელოვნების მაგისტრი\, ბურგენლანდის გამოყენებითი მეცნიერებების (ავსტრია) უნივერსიტეტის ლექტორი. უძღვება ლექციების კურსს მარკეტინგში\, მენეჯმენტის კვლევის მეთოდებსა და მრავალფეროვნებაში. იგი ხელმძღვანელობს ბურგენლანდის გამოყენებითი მეცნიერებების უნივერსიტეტის გენდერისა და მრავალფეროვნების სექტორს და ორგანიზაციის მასშტაბით ინკლუზიური სამუშაო გარემოს ადვოკატია. მისი კვლევის სფეროა: სოციალური საკითხები\, მრავალფეროვნება და კლიმატის ცვლილების თემებსა და ენერგიის გარდაქმნის საკითხებში ჩართულობის მეთოდები ავსტრიაში. \nსამუშაო ენა: ინგლისური \nდრო: 19 აპრილი\, 19:00 საათი \nადგილმდებარეობა: ილიას სახელმწიფო უნივერსიტეტის E207 აუდიტორია\, ქ. ჩოლოყაშვილის გამზ. N3/5 \nდასწრება თავისუფალია.
URL:https://events.iliauni.edu.ge/event/shekhvdith-avstrielebs-shekhvdith-qarthvelebs-biznesi-kultura-da-mdgradoba-ra-themaze-vsaubrobth-interaqtsiuli-vorkshopi/
CATEGORIES:ბიზნესის, ტექნოლოგიისა და განათლების ფაკულტეტი,სემინარები
ATTACH;FMTTYPE=image/png:https://events.iliauni.edu.ge/wp-content/uploads/2024/04/vorqshopi_web.png
END:VEVENT
BEGIN:VEVENT
DTSTART;TZID=Asia/Dubai:20240426T140000
DTEND;TZID=Asia/Dubai:20240426T150000
DTSTAMP:20260424T012957
CREATED:20240425T122106Z
LAST-MODIFIED:20240429T122218Z
UID:10005434-1714140000-1714143600@events.iliauni.edu.ge
SUMMARY:საჯარო ლექცია „ქართული სარესტორნო ბიზნესი“
DESCRIPTION:26 აპრილს\, 14:00 საათზე\, ილიას სახელმწიფო უნივერსიტეტის E405 აუდიტორიაში ილიაუნის ტურიზმის მენეჯმენტის ცენტრის საჯარო ლექციების ციკლის ფარგლებში ილიაუნის ლექტორის\, დალილა ცატავას ხელმძღვანელობით გაიმართება ლექცია/დისკუსია თემაზე „ქართული სარესტორნო ბიზნესი“. \nსტუდენტებს გამოცდილებას გაუზიარებენ ქართული  სარესტორნო ბიზნესის ცნობილი წარმომადგენლები: \n\nდალილა ცატავა\, გასტრონომიული კულტურის მკვლევარი\, საქართველოს გასტრონომიის ასოციაციის პრეზიდენტი;\nგურამ ბაღდოშვილი – რესტორატორი და ბრენდშეფი\,  ტელესახე რესტორნისა  „ჩვენი“\, „ოვალი“\, „ტაი ტაი“;\nლევან კობიაშვილი   საქართველოს კულინარიის ფედერაციის თავმჯდომარე\, რესტორატორი\, ბრენდშეფი;\nკოტე გაბრიჭიძე – რესტორატორი\,  რესტორნების  „შტელცე“\, „ორი ნაბიჯი თავისუფლებამდე“ დამფუძნებელი;\nმიშა ავსჯანიშვილი – ტელეწამყვანი\, შეფი;\nმია  კუპრავა – საერთაშორისო გასტრონომიული გზამკვლევის Gault&Millau საქართველო აღმასრულებელი დირექტორი;\nქეთი კვიჭიძე – გასტრონომიის მკვლევარი\, გასტრონომიის ბიზნესასოციაციის დამფუძნებელი;\nშოთა ბურჯანაძე – რესტორატორთა ასოციაციის თავმჯდომარე;\nმერიკო გუბელაძე – რესტორატორი\, შეფი\, ტელესახე რესტორნებისა: „შავი ლომი“\, „კაკლები“\, „ნინიას ბაღი“\, კაფე „ლეილას“ დამფუძნებელი;\nანდრია ქურასბედიანი – რესტორნის „ბარბარესთან“ დამფუძნებელი;\nეკატერინე ჯალაღონია – სარესტორნო ქსელის „მეგრული სახლი“ დამფუძნებელი.\n\nშეხვედრის მიზანია სტუდენტებმა უფრო ახლოს გაიცნონ ცნობილი რესტორატორები\, გაიგონ თუ რა მნიშვნელობა აქვს გასტრონომიულ ტურიზმსა და მასთან დაკავშირებულ საკითხებს -გზამკვლევებს\, გასტრონომიულ კონგრესებს\, ფესტივალებსა და გამოფენებს\, სატელევიზიო შოუებს და ა.შ. \nსამუშაო ენა: ქართული \nდრო: 26 აპრილი\, 14:00 საათი \nადგილმდებარეობა: ილიას სახელმწიფო უნივერსიტეტის E405 აუდიტორია\, ქ. ჩოლოყაშვილის გამზ. N3/5 \nდასწრება თავისუფალია.
URL:https://events.iliauni.edu.ge/event/sajaro-leqtsia-qarthuli-sarestorno-biznesi/
CATEGORIES:ბიზნესის, ტექნოლოგიისა და განათლების ფაკულტეტი,საჯარო ლექციები
ATTACH;FMTTYPE=image/jpeg:https://events.iliauni.edu.ge/wp-content/uploads/2024/04/7b0537b203fd1c2c36e17ec2635d6378_83232.jpg
END:VEVENT
BEGIN:VEVENT
DTSTART;TZID=Asia/Dubai:20240426T170000
DTEND;TZID=Asia/Dubai:20240426T180000
DTSTAMP:20260424T012957
CREATED:20240429T114238Z
LAST-MODIFIED:20240429T114238Z
UID:10005432-1714150800-1714154400@events.iliauni.edu.ge
SUMMARY:„თბური ტუმბოების გამოყენება გათბობა-გაგრილებაში\, მსოფლიო გამოცდილება\, სარგებლიანობა და პერსპექტივები საქართველოში“ - პროფესორ მურმან მარგველაშვილის საჯარო ლექცია
DESCRIPTION:26 აპრილს\, 17:00 საათზე\, ილიას სახელმწიფო უნივერსიტეტის T302 აუდიტორიაში ასოცირებული პროფესორი მურმან მარგველაშვილი ტექნოლოგიის სკოლის გაზაფხულის სემესტრის ყოველკვირეული სემინარის ფარგლებში წაიკითხავს ლექციას „თბური ტუმბოების გამოყენება გათბობა-გაგრილებაში\, მსოფლიო გამოცდილება\, სარგებლიანობა და პერსპექტივები საქართველოში“. \nმსმენელს შესაძლებლობა ექნება\, მოისმინოს პასუხები კითხვებზე: რა არის და როგორ მუშაობს თბური ტუმბოები? რა სარგებელი შეიძლება მიიღონ მათი გამოყენებით მოქალაქეებმა\, ქვეყანამ და ჩვენმა უნივერსიტეტმა? რა უნდა გაკეთდეს ამ სარგებლის მისაღებად? \nმომხსენებელი ისაუბრებს ფინანსური ანალიზის მეთოდიკასა და შედეგებზე\, რითაც შესაძლებელი გახდება მომხმარებლის გადმოსახედიდან შედარდეს თბური ტუმბოებისა და ექვივანეტური გაზის სისტემების გამოყენება\, შეფასდება თბური ტუმბოების გამოყენების შესაძლო გავლენა ენერგეტიკულ და ეკონომიკურ უსაფრთხოებაზე\, ასევე განხილული იქნება პოლიტიკის შესაძლო ღონისძიებები\, რომლებიც თბური ტუმბოების დანერგვით მაქსიმალური სარგებლის მიღების შესაძლებლობას იძლევა. \nსამუშაო ენა: ქართული \nდრო: 26 აპრილი\, 17:00 საათი \nადგილმდებარეობა: ილიას სახელმწიფო უნივერსიტეტის T302 აუდიტორია\, ქ. ჩოლოყაშვილის გამზ. N3/5 \nდასწრება თავისუფალია.
URL:https://events.iliauni.edu.ge/event/thburi-tumboebis-gamoqheneba-gathboba-gagrilebashi-msophlio-gamotsdileba-sargeblianoba-da-perspeqtivebi-saqarthveloshi-prophesor-murman-margvelashvilis-sajaro-leqtsia/
CATEGORIES:ბიზნესის, ტექნოლოგიისა და განათლების ფაკულტეტი,საჯარო ლექციები
ATTACH;FMTTYPE=image/png:https://events.iliauni.edu.ge/wp-content/uploads/2024/04/d157e1a57990dcde2a3153fb3c4ad0d6_83218.png
END:VEVENT
BEGIN:VEVENT
DTSTART;TZID=Asia/Dubai:20240426T180000
DTEND;TZID=Asia/Dubai:20240426T190000
DTSTAMP:20260424T012957
CREATED:20240429T114425Z
LAST-MODIFIED:20240429T114425Z
UID:10005433-1714154400-1714158000@events.iliauni.edu.ge
SUMMARY:„ნულზე გაყოფა – უსასრულობის პირისპირ“ – ტექნოლოგიის სკოლის გაზაფხულის სემესტრის ყოველკვირეული სემინარი
DESCRIPTION:26 აპრილს\, 18:00 საათზე\, ილიას სახელმწიფო უნივერსიტეტის T302 აუდიტორიაში ტექნოლოგიის სკოლის ასისტენტ-პროფესორი თორნიკე შავიშვილი წაიკითხავს ტექნოლოგიის სკოლის გაზაფხულის სემესტრის ყოველკვირეული სემინარის მორიგ  ლექციას „ნულზე გაყოფა უსასრულობის პირისპირ“. \nთანამედროვე მათემატიკური ინსტრუმენტები ვერ ერგება ნულზე გაყოფის მომენტს: ვერ შეუსაბამებს მას შედეგს. სპეციალისტებმა ახლებური კუთხიდან შეხედეს 0-ზე გაყოფას\, ზოგადად\, გაყოფას\, უმარტივესი ლოგიკის საშუალებით და შეუფარდეს მას კონკრეტული შედეგი. რა თქმა უნდა\, ეს შედეგი არ არის რიცხვი – უსასრულობაა. \nსამუშაო ენა: ქართული \nდრო: 26 აპრილი\, 18:00 საათი \nადგილმდებარეობა: ილიას სახელმწიფო უნივერსიტეტის T302 აუდიტორია\, ქ. ჩოლოყაშვილის გამზ. N3/5 \nდასწრება თავისუფალია
URL:https://events.iliauni.edu.ge/event/nulze-gaqhopha-usasrulobis-pirispir-teqnologiis-skolis-gazaphkhulis-semestris-qhovelkvireuli-seminari/
CATEGORIES:ბიზნესის, ტექნოლოგიისა და განათლების ფაკულტეტი
ATTACH;FMTTYPE=image/png:https://events.iliauni.edu.ge/wp-content/uploads/2024/04/0b5a611aee0b8d4e9a8ccac87616fc6c_83221.png
END:VEVENT
END:VCALENDAR