BEGIN:VCALENDAR
VERSION:2.0
PRODID:-//უნივერსიტეტის ღონისძიებების პორტალი - ECPv6.2.8.2//NONSGML v1.0//EN
CALSCALE:GREGORIAN
METHOD:PUBLISH
X-WR-CALNAME:უნივერსიტეტის ღონისძიებების პორტალი
X-ORIGINAL-URL:https://events.iliauni.edu.ge
X-WR-CALDESC:Events for უნივერსიტეტის ღონისძიებების პორტალი
REFRESH-INTERVAL;VALUE=DURATION:PT1H
X-Robots-Tag:noindex
X-PUBLISHED-TTL:PT1H
BEGIN:VTIMEZONE
TZID:Asia/Dubai
BEGIN:STANDARD
TZOFFSETFROM:+0400
TZOFFSETTO:+0400
TZNAME:+04
DTSTART:20260101T000000
END:STANDARD
END:VTIMEZONE
BEGIN:VEVENT
DTSTART;TZID=Asia/Dubai:20260424T113000
DTEND;TZID=Asia/Dubai:20260424T123000
DTSTAMP:20260424T012451
CREATED:20260417T070917Z
LAST-MODIFIED:20260417T071503Z
UID:10005978-1777030200-1777033800@events.iliauni.edu.ge
SUMMARY:აკადემიური შეხვედრა „ენები და რეგიონული იდენტობა იტალიურ და ქართველურ ენებში“
DESCRIPTION:24 აპრილს\, 11:30 საათზე\, ილიას სახელმწიფო უნივერსიტეტის S501 აუდიტორიაში გაიმართება ღონისძიება „ენები და რეგიონული იდენტობა იტალიურ და ქართველურ ენებში“. \nღონისძიების ორგანიზატორია იტალიური ენის პედაგოგი მანანა სიფრაშვილი. \nშეხვედრაზე ილიას სახელმწიფო უნივერსიტეტის იტალიური ენის კურსის სტუდენტები მოკლედ მიმოიხილავენ სვანური და მეგრული ენების გრამატიკულ\, ლექსიკურ თუ ფონეტიკურ თავისებურებებს. \nიტალიური კულტურის ცენტრის მიერ მოწვეული სტუმრები ლუკა პასკუალი და დავიდე დემიკელე აუდიტორიას იტალიის რეგიონების\, კერძოდ\, პულიისა და ალტო-ადიჯის ენებსა და დიალექტურ სპეციფიკას გააცნობენ. \nსამუშაო ენა: იტალიური \nდრო: 24 აპრილი\, 11:30 საათი \nადგილმდებარეობა: ილიას სახელმწიფო უნივერსიტეტის S501 აუდიტორია\, გ. წერეთლის გასასვლელი N1-3 \nდასწრება თავისუფალია.
URL:https://events.iliauni.edu.ge/event/akademiuri-shekhvedra-enebi-da-regionuli-identoba-italiur-da-qarthul-enebshi/
CATEGORIES:საბუნებისმეტყველო მეცნიერებებისა და მედიცინის ფაკულტეტი,ღონისძიებები
ATTACH;FMTTYPE=image/png:https://events.iliauni.edu.ge/wp-content/uploads/2026/04/akademiuri-shekhvedra-NEW.png
END:VEVENT
BEGIN:VEVENT
DTSTART;TZID=Asia/Dubai:20260424T190000
DTEND;TZID=Asia/Dubai:20260424T200000
DTSTAMP:20260424T012451
CREATED:20260422T071956Z
LAST-MODIFIED:20260422T090823Z
UID:10005984-1777057200-1777060800@events.iliauni.edu.ge
SUMMARY:ლექციების ციკლი „უახლესი ქართული ლიტერატურა თანამედროვე თეორიული პარადიგმების ჭრილში“ – შეხვედრა მწერალ ივა ფეზუაშვილთან
DESCRIPTION:24 აპრილს\, 19:00 საათზე\, წიგნის სახლში „ლიგამუსი“ ლექციების ციკლის „უახლესი ქართული ლიტერატურა თანამედროვე თეორიული პარადიგმების ჭრილში“  მეოთხე შეხვედრა მწერალ ივა ფეზუაშვილთან გაიმართება. \nდისკუსიაში მონაწილეობას მიიღებენ ილიას სახელმწიფო უნივერსიტეტის შედარებითი ლიტერატურათმცოდნეობის მიმართულების ბაკალავრიატის სტუდენტები ნინი მიქელაძე და მარიამ გორგილაძე\, ამავე მიმართულების მაგისტრანტები ანი დიდიშვილი და ქეთი ევსია. \nივა ფეზუაშვილი ისაუბრებს საკუთარ ნაწარმოებთა შექმნისა და თემატიკის შესახებ\, მომხსენებლები კი მის ლიტერატურულ ტექსტებზე მეცნიერულ დაკვირვებებს წარმოადგენენ და თეორიული მიდგომების საფუძველზე გააანალიზებენ. \nპროექტის მიზანია უახლესი ქართული ლიტერატურის კვლევაში თანამედროვე თეორიული მიდგომების გამოყენების შესაძლებლობის წარმოჩენა\, სხვადასხვა თაობის ლიტერატურათმცოდნეთა შორის საუკეთესო კვლევითი პრაქტიკის გაზიარება და აკადემიური სინერგიის შექმნა. \nსამუშაო ენა: ქართული \nდრო: 24 აპრილი\, 19:00 საათი \nადგილმდებარეობა: წიგნის სახლი „ლიგამუსი“\, ი. ჭავჭავაძის გამზ. N32 \nდასწრება თავისუფალია.
URL:https://events.iliauni.edu.ge/event/leqtsiebis-tsikli-uakhlesi-qarthuli-literatura-thanamedrove-theoriuli-paradigmebis-tchrilshi-shekhvedra-mtseral-iva-phezuashvilthan/
CATEGORIES:მეცნიერებათა და ხელოვნების ფაკულტეტი,ღონისძიებები
ATTACH;FMTTYPE=image/png:https://events.iliauni.edu.ge/wp-content/uploads/2026/04/shekhvedra-mtseral-iva-phezuashvilthan-leqtsiatha-tsikli-NEW.png
END:VEVENT
END:VCALENDAR