BEGIN:VCALENDAR
VERSION:2.0
PRODID:-//უნივერსიტეტის ღონისძიებების პორტალი - ECPv6.2.8.2//NONSGML v1.0//EN
CALSCALE:GREGORIAN
METHOD:PUBLISH
X-WR-CALNAME:უნივერსიტეტის ღონისძიებების პორტალი
X-ORIGINAL-URL:https://events.iliauni.edu.ge
X-WR-CALDESC:Events for უნივერსიტეტის ღონისძიებების პორტალი
REFRESH-INTERVAL;VALUE=DURATION:PT1H
X-Robots-Tag:noindex
X-PUBLISHED-TTL:PT1H
BEGIN:VTIMEZONE
TZID:Asia/Dubai
BEGIN:STANDARD
TZOFFSETFROM:+0400
TZOFFSETTO:+0400
TZNAME:+04
DTSTART:20240101T000000
END:STANDARD
END:VTIMEZONE
BEGIN:VEVENT
DTSTART;TZID=Asia/Dubai:20241212T130000
DTEND;TZID=Asia/Dubai:20241212T140000
DTSTAMP:20260422T001758
CREATED:20241210T120303Z
LAST-MODIFIED:20241210T120446Z
UID:10005629-1734008400-1734012000@events.iliauni.edu.ge
SUMMARY:„მასწავლებლების დამოკიდებულებები ინკლუზიური განათლების მიმართ საქართველოში“ − რუსუდან ჭანტურიას სადისერტაციო ნაშრომის დაცვა
DESCRIPTION:12 დეკემბერს\, 13:00 საათზე\, ილიას სახელმწიფო უნივერსიტეტის G106 აუდიტორიაში ბიზნესის\, ტექნოლოგიისა და განათლების ფაკულტეტის განათლების სკოლის განათლების სადოქტორო პროგრამის დოქტორანტი რუსუდან ჭანტურია დაიცავს სადისერტაციო ნაშრომს „მასწავლებლების დამოკიდებულებები ინკლუზიური განათლების მიმართ საქართველოში“. \nსამეცნიერო ხელმძღვანელი − თინათინ ჭინჭარაული\, ილიას სახელმწიფო უნივერსიტეტის პროფესორი \nსამუშაო ენა: ქართული \nდრო: 12 დეკემბერი\, 13:00 საათი \nადგილმდებარეობა: ილიას სახელმწიფო უნივერსიტეტის G106 აუდიტორია\, გ. წერეთლის ქ. N1 \nდასწრება თავისუფალია.
URL:https://events.iliauni.edu.ge/event/mastsavleblebis-damokidebulebebi-inkluziuri-ganathlebis-mimarth-saqarthveloshi-rusudan-tchanturias-sadisertatsio-nashromis-datsva/
CATEGORIES:ბიზნესის, ტექნოლოგიისა და განათლების ფაკულტეტი,ღონისძიებები
ATTACH;FMTTYPE=image/png:https://events.iliauni.edu.ge/wp-content/uploads/2024/12/tchanturia_web_new.png
END:VEVENT
END:VCALENDAR