BEGIN:VCALENDAR
VERSION:2.0
PRODID:-//უნივერსიტეტის ღონისძიებების პორტალი - ECPv6.2.8.2//NONSGML v1.0//EN
CALSCALE:GREGORIAN
METHOD:PUBLISH
X-ORIGINAL-URL:https://events.iliauni.edu.ge
X-WR-CALDESC:Events for უნივერსიტეტის ღონისძიებების პორტალი
REFRESH-INTERVAL;VALUE=DURATION:PT1H
X-Robots-Tag:noindex
X-PUBLISHED-TTL:PT1H
BEGIN:VTIMEZONE
TZID:Asia/Dubai
BEGIN:STANDARD
TZOFFSETFROM:+0400
TZOFFSETTO:+0400
TZNAME:+04
DTSTART:20240101T000000
END:STANDARD
END:VTIMEZONE
BEGIN:VEVENT
DTSTART;TZID=Asia/Dubai:20240704T100000
DTEND;TZID=Asia/Dubai:20240805T103000
DTSTAMP:20260422T013522
CREATED:20240626T073202Z
LAST-MODIFIED:20241122T110937Z
UID:10005482-1720087200-1722853800@events.iliauni.edu.ge
SUMMARY:საზღვრებს მიღმა: კორეულ-ქართული ახალგაზრდული ბანაკი 2024
DESCRIPTION:4-8 ივლისს ილიას სახელმწიფო უნივერსიტეტში კორეის ინჰას უნივერსიტეტისა და ილიას სახელმწიფო უნივერსიტეტის კორეის კვლევების ცენტრის ინიციატივით\, გ. წერეთლის აღმოსავლეთმცოდნეობის ინსტიტუტისა და ილიაუნის კორეული კულტურის სტუდენტური კლუბის მონაწილეობით გაიმართება 5-დღიანი სტუდენტური კონფერენცია/ბანაკი. \n4 და 5 ივლისს თბილისში გაიმართება აკადემიური კონფერენცია. \nდამსწრე საზოგადოებას საშუალება ექნება\, მოუსმინოს და შეკითხვები დაუსვას კორეელ და ქართველ მომხსენებლებს\, გაეცნოს საქართველო-კორეის ურთიერთობებთან დაკავშირებულ სხვადასხვა სფეროს მნიშვნელოვან საკითხებს.. \nღონისძიებას გახსნის ილიას სახელმწიფო უნივერსიტეტის რექტორი ნინო დობორჯგინიძე. \nპროგრამის სანახავად იხილეთ ბმული: https://events.iliauni.edu.ge/wp-content/uploads/2024/06/83896.pdf \nღონისძიების სპონსორები:  \n\nილიას სახელმწიფო უნივერსიტეტი\nინჰას უნივერსიტეტი\nკორეის რესპუბლიკის საელჩოს ოფისი საქართველოში\nგ. წერეთლის აღმოსავლეთმცოდნეობის ინსტიტუტი\nუცხო ენების სასწავლო ცენტრიMillennium House\nრესტორანი „სეული“\nრესტორანი KOREA\nმეღვინეობა „აკიდო“\nმეღვინეობა Muzze\nქართული ჩიფსი „ფრიქსი • FRIXX“\nOttogi Georgia\nAlterSocks • ალტერსოქსი\n\nსამუშაო ენა: ინგლისური \nდრო: \n\n4 ივლისი\, 10:00 საათი ადგილმდებარეობა: ილიას სახელმწიფო უნივერსიტეტის G106 აუდიტორია\, გ. წერეთლის ქ. N3\n5 ივლისი\, 10:30 საათი ადგილმდებარეობა: ილიას სახელმწიფო უნივერსიტეტის T106 აუდიტორია\, გ. წერეთლის ქ. N3\n\nდასწრება თავისუფალია.
URL:https://events.iliauni.edu.ge/event/sazghvrebs-mighma-koreul-qarthuli-akhalgazrduli-banaki-2024/
CATEGORIES:კონფერენციები,ღონისძიებები
ATTACH;FMTTYPE=image/png:https://events.iliauni.edu.ge/wp-content/uploads/2024/06/nese.png
END:VEVENT
BEGIN:VEVENT
DTSTART;TZID=Asia/Dubai:20240716T140000
DTEND;TZID=Asia/Dubai:20240716T150000
DTSTAMP:20260422T013522
CREATED:20240710T113154Z
LAST-MODIFIED:20240712T092403Z
UID:10005500-1721138400-1721142000@events.iliauni.edu.ge
SUMMARY:„სქესობრივად გამრავლებადი და პართენოგენეზული კლდის ხვლიკების (Darevskia Arribas) სასიცოცხლო ციკლების შედარებითი კვლევა“- დოქტორანტ ნათია ბარათელის  სადისერტაციო ნაშრომის დაცვა
DESCRIPTION:16 ივლისს\, 14:00 საათზე\, ილიას სახელმწიფო უნივერსიტეტის G106 აუდიტორიაში ილიაუნის ეკოლოგიის ინსტიტუტის დოქტორანტი ნათია ბარათელი დაიცავს სადისერტაციო ნაშრომს „სქესობრივად გამრავლებადი და პართენოგენეზული კლდის ხვლიკების (Darevskia Arribas) სასიცოცხლო ციკლების შედარებითი კვლევა“. \nთემის მოკლე მიმოხილვა \nDarevskia-ს გვარის კავკასიური კლდის ხვლიკების მრავალფეროვან ჯგუფში ვხვდებით როგორც ორსქესიან\, ასევე\, პართენოგენეზულ (ერთსქესიან) სახეობებს. სწორედ ამ ჯგუფში დაფიქსირდა ხმელეთის ხერხემლიანების პირველი პართენოგენეზული ფორმა. \nსადოქტორო კვლევა მიზნად ისახავდა\, განსხვავებათა შესწავლას ერთსქესიანი (Darevskia dahli\, Darevskia armeniaca) და ორსქესიანი\, მშობელი (Darevskia portschinskii\, Darevskia valentini) კავკასიური კლდის ხვლიკების სასიცოცხლო ციკლების მნიშვნელოვან განზომილებებს თანაარსებობის პირობებში. \nკვლევისას დოქტორანტმა შეისწავლა ერთი და ორსქესიანი ხვლიკების სივრცით განაწილებაზე გარემო ფაქტორების ზემოქმედება\, განსხვავებები რეპროდუქციულ ძალისხმევაში\, ძლიერი გენეტიკური კომპონენტების მქონე ფენოტიპური თვისებები და თავის ფორმის ცვალებადობა. \nშესწავლილ პართენოგენზულ სახეობებს აქვთ რამდენიმე ერთობლივი ეკოლოგიური მახასიათებელი\, რომლებიც განასხვავებს მათ ორსქესიანი მშობლებისგან: მათი ევოლუციური სტრატეგია არასტაბილურ გარემოსთან უკეთესადაა ადაპტირებული\, უფრო სწრაფი რეპროდუქცია ეხმარება მათ წარმატებაში\, ვიდრე ფენოტიპური ადაპტაცია კონკრეტულ გარემო პირობებთან.  ამასთან\, ისინი არ ხარჯავენ დიდ ენერგიას სახეობათაშორის შეჯიბრში\, რაც შეიძლება იყოს მათი სუსტი ყბების მიზეზი\, რომელიც არ არის ადაპტირებული აგრესიულ ქცევასთან. \nსამუშაო ენა: ქართული \nდრო: 16 ივლისი\, 14:00 საათი \nადგილმდებარეობა: ილიას სახელმწიფო უნივერსიტეტის G106 აუდიტორია\, გ. წერეთლის ქ. N1 \nდასწრება თავისუფალია. \n2024
URL:https://events.iliauni.edu.ge/event/sasitsotskhlo-tsiklebis-shedarebithi-kvleva-sqesobrivad-gamravlebad-da-parthenogenezuli-kldis-khvlikebisa-darevskia-arribas-doqtorant-nathia-barathelis-sadisertatsio-nashromis-datsva/
CATEGORIES:საბუნებისმეტყველო მეცნიერებებისა და მედიცინის ფაკულტეტი
ATTACH;FMTTYPE=image/png:https://events.iliauni.edu.ge/wp-content/uploads/2024/07/11-_iliauni_web-sadisertatsio-sabunebismetqhvelo-nathia-baratheli-1.png
END:VEVENT
BEGIN:VEVENT
DTSTART;TZID=Asia/Dubai:20240716T140000
DTEND;TZID=Asia/Dubai:20240716T160000
DTSTAMP:20260422T013522
CREATED:20240712T093155Z
LAST-MODIFIED:20240712T093155Z
UID:10005504-1721138400-1721145600@events.iliauni.edu.ge
SUMMARY:დოქტორანტ სოფიკო კოტრიკაძის სადისერტაციო ნაშრომის დაცვა
DESCRIPTION:16 ივლისს\, 14:00 საათზე\, ილიას სახელმწიფო უნივერსიტეტის წიგნის სახლში „ლიგამუსი“ მეცნიერებათა და ხელოვნების ფაკულტეტის სადოქტორო პროგრამის „კულტურის კვლევები“ დოქტორანტი სოფიკო კოტრიკაძე დაიცავს სადისერტაციო ნაშრომს „ტრადიცია და სიახლე ქართულ საავტორო სიმღერებში“. \nსამეცნიერო ხელმძღვანელი – თამაზ გაბისონია\, ილიას სახელმწიფო უნივერსიტეტის  ასოცირებული პროფესორი \nდრო: 16 ივლისი\, 14:00 საათი \nადგილმდებარეობა: წიგნის სახლი „ლიგამუსი”\, ი.ჭავჭავაძის გამზ. N32 \nდასწრება თავისუფალია. \n2024
URL:https://events.iliauni.edu.ge/event/doqtorant-sophiko-kotrikadzis-sadisertatsio-nashromis-datsva/
CATEGORIES:მეცნიერებათა და ხელოვნების ფაკულტეტი,ღონისძიებები
ATTACH;FMTTYPE=image/png:https://events.iliauni.edu.ge/wp-content/uploads/2024/07/web-sadisertatsio-metsn-sophiko.png
END:VEVENT
BEGIN:VEVENT
DTSTART;TZID=Asia/Dubai:20240716T180000
DTEND;TZID=Asia/Dubai:20240716T190000
DTSTAMP:20260422T013522
CREATED:20240711T080119Z
LAST-MODIFIED:20240711T104540Z
UID:10005503-1721152800-1721156400@events.iliauni.edu.ge
SUMMARY:კახა ლომაიას კრებულის „გამოცდები: წერილები\, ინტერვიუები\, გამოსვლები\, ჩანაწერები“ პრეზენტაცია
DESCRIPTION:16 ივლისს\, 18:00 საათზე\, წიგნის სახლში „ლიგამუსი“ გაიმართება კახა ლომაიას წიგნის „გამოცდები: წერილები\, ინტერვიუები\, გამოსვლები\, ჩანაწერები“ პრეზენტაცია. \nკრებული აერთიანებს ალექსანდრე (კახა) ლომაიას სხვადასხვა დროის პუბლიკაციებსა და გამოუქვეყნებელ მასალებს. \nავტორის ვრცელ წინასიტყვაობასთან ერთად გამოცემაში შეტანილია წერილები განათლების რეფორმაზე\, საშინაო და საგარეო პოლიტიკაზე\, ასევე გამოსვლები გაეროს უშიშროების საბჭოსა და გენერალური ასამბლეის სხდომებზე\, ინტერვიუები და ჩანაწერები. \nკრებულის დანართში შესულია რამდენიმე საერთაშორისო პუბლიკაციის თარგმანი საქართველოს განათლების რეფორმის შესახებ. საქართველოს უახლესი ისტორიის ზოგიერთ მნიშვნელოვან მომენტს ასახავს წიგნის ფოტოები\, რომელთა უმრავლესობა პირველად ქვეყნდება. \nსაქართველოს დამოუკიდებლობის აღდგენის შემდეგ\, 1991 წელს\, ალექსანდრე (კახა) ლომაია იყო საქართველოს პირველი მუდმივი წარმომადგენელი (ელჩი) რუსეთში. \n1995-2004 წლებში – ფონდ „ევრაზიის“ (აშშ) საქართველოს ოფისის პროგრამების კოორდინატორი და დირექტორი\, ფონდი „ღია საზოგადოება-საქართველოს“ აღმასრულებელი დირექტორი\, „დემოკრატიული კოალიციის პროექტის“ (აშშ) რეგიონული დირექტორი ახალ დამოუკიდებელ სახელმწიფოებში. \n2004-2007 წლებში მუშაობდა საქართველოს განათლებისა და მეცნიერების მინისტრად\, 2008-2009 წლებში – საქართველოს ეროვნული უშიშროების საბჭოს მდივნად. 2009-2013 წლებში იყო საქართველოს მუდმივი წარმომადგენელი გაერთიანებული ერების ორგანიზაციასთან. \n2014 წლიდან მუშაობს გაეროს შტაბ-ბინაში\, ნიუ-იორკში\, სამთავრობოთაშორისი საქმეების უფროს ოფიცრად\, გაეროს განიარაღების კომისიის მდივნად. \nწიგნი გამოსცა „ინტელექტმა“. \nსამუშაო ენა: ქართული \nდრო: 16 ივლისი\, 18:00 საათი ადგილმდებარეობა: წიგნის სახლი „ლიგამუსი“\, ი. ჭავჭავაძის გამზ. N32 \nდასწრება თავისუფალია.
URL:https://events.iliauni.edu.ge/event/kakha-lomaias-krebulis-gamotsdebi-tserilebi-interviuebi-gamosvlebi-chanatserebi-prezentatsia/
CATEGORIES:მეცნიერებათა და ხელოვნების ფაკულტეტი,ღონისძიებები
ATTACH;FMTTYPE=image/png:https://events.iliauni.edu.ge/wp-content/uploads/2024/07/web-tsignis-prezentatsia-1.png
END:VEVENT
END:VCALENDAR